BEGIN:VCALENDAR
VERSION:2.0
PRODID:-//LiveNewCanaan - ECPv6.15.18//NONSGML v1.0//EN
CALSCALE:GREGORIAN
METHOD:PUBLISH
X-ORIGINAL-URL:https://livenewcanaan.org
X-WR-CALDESC:Events for LiveNewCanaan
REFRESH-INTERVAL;VALUE=DURATION:PT1H
X-Robots-Tag:noindex
X-PUBLISHED-TTL:PT1H
BEGIN:VTIMEZONE
TZID:America/New_York
BEGIN:DAYLIGHT
TZOFFSETFROM:-0500
TZOFFSETTO:-0400
TZNAME:EDT
DTSTART:20200308T070000
END:DAYLIGHT
BEGIN:STANDARD
TZOFFSETFROM:-0400
TZOFFSETTO:-0500
TZNAME:EST
DTSTART:20201101T060000
END:STANDARD
BEGIN:DAYLIGHT
TZOFFSETFROM:-0500
TZOFFSETTO:-0400
TZNAME:EDT
DTSTART:20210314T070000
END:DAYLIGHT
BEGIN:STANDARD
TZOFFSETFROM:-0400
TZOFFSETTO:-0500
TZNAME:EST
DTSTART:20211107T060000
END:STANDARD
BEGIN:DAYLIGHT
TZOFFSETFROM:-0500
TZOFFSETTO:-0400
TZNAME:EDT
DTSTART:20220313T070000
END:DAYLIGHT
BEGIN:STANDARD
TZOFFSETFROM:-0400
TZOFFSETTO:-0500
TZNAME:EST
DTSTART:20221106T060000
END:STANDARD
END:VTIMEZONE
BEGIN:VEVENT
DTSTART;TZID=America/New_York:20210402T090000
DTEND;TZID=America/New_York:20210402T153000
DTSTAMP:20260423T022627
CREATED:20210402T070717Z
LAST-MODIFIED:20210402T070717Z
UID:7936-1617354000-1617377400@livenewcanaan.org
SUMMARY:New Canaan Nature Center’s Great Egg Hunts
DESCRIPTION:Perfect for children\, ages 2-10\, our egg hunts are designed for smaller groups (approximately 25 per hunt). In addition to the hunt\, enjoy an animal meet & greet and self-guided spring scavenger hunt. Just BYOB (bring your own basket) for collecting eggs (which contain nature-themed prizes and nut-free sweets). \nProper social distancing will be strongly encouraged. Face coverings are required for all guests over the age of 2\, except when eating. \nPre-registration is required as spaces are limited to allow for social distancing. \nMembers: $10/child + 2 free adults\nNon-Members: $15/child + 2 free adults \nHave additional adults or non-participating children who would like to attend? Please email us at mhips@newcanaannature.org. \nOnline Registration Information:\nMembers: Opens Tuesday\, March 9th\nNon-Members: Opens Monday\, March 15th
URL:https://livenewcanaan.org/event/new-canaan-nature-centers-great-egg-hunts-4/
LOCATION:New Canaan Nature Center\, 144 Oenoke Ridge\, New Canaan\, CT\, United States
CATEGORIES:For Children,New Canaan Nature Center Events
ATTACH;FMTTYPE=image/jpeg:https://livenewcanaan.org/wp-content/uploads/2021/04/egg-hunts2021-8BDJbp.tmp_.jpg
ORGANIZER;CN="New Canaan Nature Center":MAILTO:jrayher@newcanaannature.org
END:VEVENT
BEGIN:VEVENT
DTSTART;TZID=America/New_York:20210403T090000
DTEND;TZID=America/New_York:20210403T153000
DTSTAMP:20260423T022627
CREATED:20210402T070718Z
LAST-MODIFIED:20210402T070718Z
UID:7938-1617440400-1617463800@livenewcanaan.org
SUMMARY:New Canaan Nature Center’s Great Egg Hunts
DESCRIPTION:Perfect for children\, ages 2-10\, our egg hunts are designed for smaller groups (approximately 25 per hunt). In addition to the hunt\, enjoy an animal meet & greet and self-guided spring scavenger hunt. Just BYOB (bring your own basket) for collecting eggs (which contain nature-themed prizes and nut-free sweets). \nProper social distancing will be strongly encouraged. Face coverings are required for all guests over the age of 2\, except when eating. \nPre-registration is required as spaces are limited to allow for social distancing. \nMembers: $10/child + 2 free adults\nNon-Members: $15/child + 2 free adults \nHave additional adults or non-participating children who would like to attend? Please email us at mhips@newcanaannature.org. \nOnline Registration Information:\nMembers: Opens Tuesday\, March 9th\nNon-Members: Opens Monday\, March 15th
URL:https://livenewcanaan.org/event/new-canaan-nature-centers-great-egg-hunts-5/
LOCATION:New Canaan Nature Center\, 144 Oenoke Ridge\, New Canaan\, CT\, United States
CATEGORIES:For Children,New Canaan Nature Center Events
ATTACH;FMTTYPE=image/jpeg:https://livenewcanaan.org/wp-content/uploads/2021/04/egg-hunts2021-8BDJbp.tmp_.jpg
ORGANIZER;CN="New Canaan Nature Center":MAILTO:jrayher@newcanaannature.org
END:VEVENT
BEGIN:VEVENT
DTSTART;TZID=America/New_York:20210407T150000
DTEND;TZID=America/New_York:20210407T153000
DTSTAMP:20260423T022627
CREATED:20210225T071657Z
LAST-MODIFIED:20210402T070719Z
UID:7787-1617807600-1617809400@livenewcanaan.org
SUMMARY:New Canaan Nature Center’s Virtual Animal Meet & a Greet Series
DESCRIPTION:Weekly on Wednesdays\, March 3rd – April 28th (excluding April 7th)\n3:00 PM \nJoin us for a FREE Zoom animal meet & greet program! \nEach week\, join an NCNC Naturalist to meet a couple of LIVE animals to learn about what makes them unique: where they live\, what they eat\, and how they are well-adapted to survive in their habitats. \nMarch 3 – Rabbit + Guinea Pig\nMarch 10 – Hedgehog\nMarch 17 – Chinchilla + Ferret\nMarch 24 – Fantastic Frogs & Toads\nMarch 31 – Box Turtle & Russian Tortoise\nApril 14 – Painted Turtle & Yellow-bellied Slider\nApril 21 – Snakes!\nApril 28 – Leopard Gecko & Bearded Dragon \nPre-registration at www.newcanaannature.org begins Tuesday\, February 16th and is required by 4pm on the Tuesday before each program. \nUpon registration\, a Zoom link will be emailed to you. \nDonations are greatly appreciated.
URL:https://livenewcanaan.org/event/new-canaan-nature-centers-virtual-animal-meet-a-greet-series-6/
LOCATION:New Canaan Nature Center\, 144 Oenoke Ridge\, New Canaan\, CT\, United States
CATEGORIES:Family Friendly Events,For Children,New Canaan Nature Center Events
ATTACH;FMTTYPE=image/jpeg:https://livenewcanaan.org/wp-content/uploads/2021/02/mg-XbMFw1.tmp_.jpg
ORGANIZER;CN="New Canaan Nature Center":MAILTO:jrayher@newcanaannature.org
END:VEVENT
BEGIN:VEVENT
DTSTART;TZID=America/New_York:20210414T150000
DTEND;TZID=America/New_York:20210414T153000
DTSTAMP:20260423T022627
CREATED:20210225T071701Z
LAST-MODIFIED:20210402T070725Z
UID:7792-1618412400-1618414200@livenewcanaan.org
SUMMARY:New Canaan Nature Center’s Virtual Animal Meet & a Greet Series
DESCRIPTION:Weekly on Wednesdays\, March 3rd – April 28th (excluding April 7th)\n3:00 PM \nJoin us for a FREE Zoom animal meet & greet program! \nEach week\, join an NCNC Naturalist to meet a couple of LIVE animals to learn about what makes them unique: where they live\, what they eat\, and how they are well-adapted to survive in their habitats. \nMarch 3 – Rabbit + Guinea Pig\nMarch 10 – Hedgehog\nMarch 17 – Chinchilla + Ferret\nMarch 24 – Fantastic Frogs & Toads\nMarch 31 – Box Turtle & Russian Tortoise\nApril 14 – Painted Turtle & Yellow-bellied Slider\nApril 21 – Snakes!\nApril 28 – Leopard Gecko & Bearded Dragon \nPre-registration at www.newcanaannature.org begins Tuesday\, February 16th and is required by 4pm on the Tuesday before each program. \nUpon registration\, a Zoom link will be emailed to you. \nDonations are greatly appreciated.
URL:https://livenewcanaan.org/event/new-canaan-nature-centers-virtual-animal-meet-a-greet-series-7/
LOCATION:New Canaan Nature Center\, 144 Oenoke Ridge\, New Canaan\, CT\, United States
CATEGORIES:Family Friendly Events,For Children,New Canaan Nature Center Events
ATTACH;FMTTYPE=image/jpeg:https://livenewcanaan.org/wp-content/uploads/2021/02/mg-XbMFw1.tmp_.jpg
ORGANIZER;CN="New Canaan Nature Center":MAILTO:jrayher@newcanaannature.org
END:VEVENT
BEGIN:VEVENT
DTSTART;TZID=America/New_York:20210421T150000
DTEND;TZID=America/New_York:20210421T153000
DTSTAMP:20260423T022627
CREATED:20210225T071702Z
LAST-MODIFIED:20210402T070727Z
UID:7795-1619017200-1619019000@livenewcanaan.org
SUMMARY:New Canaan Nature Center’s Virtual Animal Meet & a Greet Series
DESCRIPTION:Weekly on Wednesdays\, March 3rd – April 28th (excluding April 7th)\n3:00 PM \nJoin us for a FREE Zoom animal meet & greet program! \nEach week\, join an NCNC Naturalist to meet a couple of LIVE animals to learn about what makes them unique: where they live\, what they eat\, and how they are well-adapted to survive in their habitats. \nMarch 3 – Rabbit + Guinea Pig\nMarch 10 – Hedgehog\nMarch 17 – Chinchilla + Ferret\nMarch 24 – Fantastic Frogs & Toads\nMarch 31 – Box Turtle & Russian Tortoise\nApril 14 – Painted Turtle & Yellow-bellied Slider\nApril 21 – Snakes!\nApril 28 – Leopard Gecko & Bearded Dragon \nPre-registration at www.newcanaannature.org begins Tuesday\, February 16th and is required by 4pm on the Tuesday before each program. \nUpon registration\, a Zoom link will be emailed to you. \nDonations are greatly appreciated.
URL:https://livenewcanaan.org/event/new-canaan-nature-centers-virtual-animal-meet-a-greet-series-8/
LOCATION:New Canaan Nature Center\, 144 Oenoke Ridge\, New Canaan\, CT\, United States
CATEGORIES:Family Friendly Events,For Children,New Canaan Nature Center Events
ATTACH;FMTTYPE=image/jpeg:https://livenewcanaan.org/wp-content/uploads/2021/02/mg-XbMFw1.tmp_.jpg
ORGANIZER;CN="New Canaan Nature Center":MAILTO:jrayher@newcanaannature.org
END:VEVENT
BEGIN:VEVENT
DTSTART;TZID=America/New_York:20210428T150000
DTEND;TZID=America/New_York:20210428T153000
DTSTAMP:20260423T022627
CREATED:20210225T071703Z
LAST-MODIFIED:20210402T070732Z
UID:7796-1619622000-1619623800@livenewcanaan.org
SUMMARY:New Canaan Nature Center’s Virtual Animal Meet & a Greet Series
DESCRIPTION:Weekly on Wednesdays\, March 3rd – April 28th (excluding April 7th)\n3:00 PM \nJoin us for a FREE Zoom animal meet & greet program! \nEach week\, join an NCNC Naturalist to meet a couple of LIVE animals to learn about what makes them unique: where they live\, what they eat\, and how they are well-adapted to survive in their habitats. \nMarch 3 – Rabbit + Guinea Pig\nMarch 10 – Hedgehog\nMarch 17 – Chinchilla + Ferret\nMarch 24 – Fantastic Frogs & Toads\nMarch 31 – Box Turtle & Russian Tortoise\nApril 14 – Painted Turtle & Yellow-bellied Slider\nApril 21 – Snakes!\nApril 28 – Leopard Gecko & Bearded Dragon \nPre-registration at www.newcanaannature.org begins Tuesday\, February 16th and is required by 4pm on the Tuesday before each program. \nUpon registration\, a Zoom link will be emailed to you. \nDonations are greatly appreciated.
URL:https://livenewcanaan.org/event/new-canaan-nature-centers-virtual-animal-meet-a-greet-series-9/
LOCATION:New Canaan Nature Center\, 144 Oenoke Ridge\, New Canaan\, CT\, United States
CATEGORIES:Family Friendly Events,For Children,New Canaan Nature Center Events
ATTACH;FMTTYPE=image/jpeg:https://livenewcanaan.org/wp-content/uploads/2021/02/mg-XbMFw1.tmp_.jpg
ORGANIZER;CN="New Canaan Nature Center":MAILTO:jrayher@newcanaannature.org
END:VEVENT
END:VCALENDAR