BEGIN:VCALENDAR
VERSION:2.0
PRODID:-//LiveNewCanaan - ECPv6.15.18//NONSGML v1.0//EN
CALSCALE:GREGORIAN
METHOD:PUBLISH
X-ORIGINAL-URL:https://livenewcanaan.org
X-WR-CALDESC:Events for LiveNewCanaan
REFRESH-INTERVAL;VALUE=DURATION:PT1H
X-Robots-Tag:noindex
X-PUBLISHED-TTL:PT1H
BEGIN:VTIMEZONE
TZID:America/New_York
BEGIN:DAYLIGHT
TZOFFSETFROM:-0500
TZOFFSETTO:-0400
TZNAME:EDT
DTSTART:20190310T070000
END:DAYLIGHT
BEGIN:STANDARD
TZOFFSETFROM:-0400
TZOFFSETTO:-0500
TZNAME:EST
DTSTART:20191103T060000
END:STANDARD
BEGIN:DAYLIGHT
TZOFFSETFROM:-0500
TZOFFSETTO:-0400
TZNAME:EDT
DTSTART:20200308T070000
END:DAYLIGHT
BEGIN:STANDARD
TZOFFSETFROM:-0400
TZOFFSETTO:-0500
TZNAME:EST
DTSTART:20201101T060000
END:STANDARD
BEGIN:DAYLIGHT
TZOFFSETFROM:-0500
TZOFFSETTO:-0400
TZNAME:EDT
DTSTART:20210314T070000
END:DAYLIGHT
BEGIN:STANDARD
TZOFFSETFROM:-0400
TZOFFSETTO:-0500
TZNAME:EST
DTSTART:20211107T060000
END:STANDARD
END:VTIMEZONE
BEGIN:VEVENT
DTSTART;TZID=America/New_York:20201002T153000
DTEND;TZID=America/New_York:20201003T093000
DTSTAMP:20260423T114920
CREATED:20200925T123703Z
LAST-MODIFIED:20201002T123728Z
UID:6864-1601652600-1601717400@livenewcanaan.org
SUMMARY:New Canaan Nature Center’s Great American Autumn Campout
DESCRIPTION:Come and take part in our Great American Autumn Campout to enjoy an evening full of fun & adventure by camping out in New Canaan’s favorite backyard – the New Canaan Nature Center! \nParticipants will be welcome to set-up their tents in the afternoon between 3:30-5:30pm. From 5:30-7:30pm\, we’ll provide a classic camping-style barbeque dinner of hotdogs\, grilled corn\, & chips. Lemonade and water will be available for all ages; adults are welcome to BYOB. All are invited to enjoy field games and all around fun on the Green! \nAs the sun begins to set\, get ready for the night time adventure to begin. We’ll fire up the campfire ring and head off into the darkness for a special autumn night hike experience. Upon our return\, we’ll fill our bellies with some fireside S’mores\, before heading off to bed. \nIn the morning\, awake to fog over the meadow\, deer browsing nearby\, and the promise of another magical day! A light breakfast of bagels\, juice\, and coffee will also be served. \nBring your own camp gear and snacks. Access to bathrooms will be available through the night. \nRain or shine. \nThis fun and safe outdoor event is limited to 15 families (or 60 people) to allow for social distancing. \nFace coverings are required for all guests over the age of 2\, except when eating. \nMembers: $85/family\nNon-members: $110/family \n*NCNC has a limited number of tents available for rent for $25: to reserve yours\, please contact us today.
URL:https://livenewcanaan.org/event/new-canaan-nature-centers-great-american-autumn-campout/
LOCATION:New Canaan Nature Center\, 144 Oenoke Ridge\, New Canaan\, CT\, United States
CATEGORIES:Family Friendly Events,For Children,New Canaan Nature Center Events
ATTACH;FMTTYPE=image/jpeg:https://livenewcanaan.org/wp-content/uploads/2020/09/screen-shot-2020-09-23-at-2.29.22-pm-r4UYc0.tmp_.jpg
ORGANIZER;CN="New Canaan Nature Center":MAILTO:jrayher@newcanaannature.org
END:VEVENT
END:VCALENDAR