BEGIN:VCALENDAR
VERSION:2.0
PRODID:-//LiveNewCanaan - ECPv6.15.18//NONSGML v1.0//EN
CALSCALE:GREGORIAN
METHOD:PUBLISH
X-WR-CALNAME:LiveNewCanaan
X-ORIGINAL-URL:https://livenewcanaan.org
X-WR-CALDESC:Events for LiveNewCanaan
REFRESH-INTERVAL;VALUE=DURATION:PT1H
X-Robots-Tag:noindex
X-PUBLISHED-TTL:PT1H
BEGIN:VTIMEZONE
TZID:America/New_York
BEGIN:DAYLIGHT
TZOFFSETFROM:-0500
TZOFFSETTO:-0400
TZNAME:EDT
DTSTART:20190310T070000
END:DAYLIGHT
BEGIN:STANDARD
TZOFFSETFROM:-0400
TZOFFSETTO:-0500
TZNAME:EST
DTSTART:20191103T060000
END:STANDARD
BEGIN:DAYLIGHT
TZOFFSETFROM:-0500
TZOFFSETTO:-0400
TZNAME:EDT
DTSTART:20200308T070000
END:DAYLIGHT
BEGIN:STANDARD
TZOFFSETFROM:-0400
TZOFFSETTO:-0500
TZNAME:EST
DTSTART:20201101T060000
END:STANDARD
BEGIN:DAYLIGHT
TZOFFSETFROM:-0500
TZOFFSETTO:-0400
TZNAME:EDT
DTSTART:20210314T070000
END:DAYLIGHT
BEGIN:STANDARD
TZOFFSETFROM:-0400
TZOFFSETTO:-0500
TZNAME:EST
DTSTART:20211107T060000
END:STANDARD
END:VTIMEZONE
BEGIN:VEVENT
DTSTART;TZID=America/New_York:20200807T183000
DTEND;TZID=America/New_York:20200807T200000
DTSTAMP:20260423T145636
CREATED:20200725T102145Z
LAST-MODIFIED:20200807T103647Z
UID:6281-1596825000-1596830400@livenewcanaan.org
SUMMARY:Friday Family Fun Hike at New Canaan Nature Center
DESCRIPTION:Yearning for the chance to get outside\, stretch your legs\, and explore all that the natural world has to offer? Take in the true splendor of summer by joining the Nature Center Naturalists for a Friday Family Fun Hike! We’ll search our forests and ponds for wildlife (wiggly worms & aquatic amphibians)\, while also learning all about the amazing adaptations of the nocturnal animals (fireflies\, bats\, owls\, and more!) that call NCNC home. \n*This event is rain or shine.* \nMembers: $10/person\nNon-Members: $15/person \nRegistration details: coming soon!
URL:https://livenewcanaan.org/event/friday-family-fun-hike-at-new-canaan-nature-center/
LOCATION:New Canaan Nature Center\, 144 Oenoke Ridge\, New Canaan\, CT\, United States
CATEGORIES:Family Friendly Events,For Children,New Canaan Nature Center Events
ATTACH;FMTTYPE=image/png:https://livenewcanaan.org/wp-content/uploads/2020/07/screen-shot-2020-07-24-at-9.46.27-am-W1wwbq.tmp_.png
ORGANIZER;CN="New Canaan Nature Center":MAILTO:jrayher@newcanaannature.org
END:VEVENT
BEGIN:VEVENT
DTSTART;TZID=America/New_York:20200824T150000
DTEND;TZID=America/New_York:20200827T163000
DTSTAMP:20260423T145636
CREATED:20200813T105153Z
LAST-MODIFIED:20200824T112148Z
UID:6518-1598281200-1598545800@livenewcanaan.org
SUMMARY:“Art-A-La-Carte” Kids Camp
DESCRIPTION:Monday August 24 – Thursday August 27 from 3-4:30pm. Ages 6-10. \nCalling All Creators!! Get ready for “back-to-school” while your kids enjoy afternoon artistic adventures at the Carriage Barn Arts Center with instructor Tiffany McKay! Each day campers will use different skills and materials to create and complete a one-of-a-kind project. Kids will bring home a new creation of their own design. They’ll work with materials such as paint\, paper-mache\, ediible and natural items and more. Classes will involve paint and other messy materials so please dress accordingly. \n– Each class will be limited to no more than eight children\n– Classes will be held outdoors or inside with distancing in effect\n– Masks will be worn
URL:https://livenewcanaan.org/event/art-a-la-carte-kids-camp/
LOCATION:Carriage Barn Arts Center
CATEGORIES:Carriage Barn Arts Center Event,For Children
ATTACH;FMTTYPE=image/jpeg:https://livenewcanaan.org/wp-content/uploads/2020/08/117315447_2236633443128210_6053625406388987270_n-gmd7fW.tmp_.jpg
ORGANIZER;CN="Carriage Barn Arts Center":MAILTO:admin@carriagebarn.org
END:VEVENT
END:VCALENDAR