BEGIN:VCALENDAR
VERSION:2.0
PRODID:-//LiveNewCanaan - ECPv6.15.18//NONSGML v1.0//EN
CALSCALE:GREGORIAN
METHOD:PUBLISH
X-WR-CALNAME:LiveNewCanaan
X-ORIGINAL-URL:https://livenewcanaan.org
X-WR-CALDESC:Events for LiveNewCanaan
REFRESH-INTERVAL;VALUE=DURATION:PT1H
X-Robots-Tag:noindex
X-PUBLISHED-TTL:PT1H
BEGIN:VTIMEZONE
TZID:America/New_York
BEGIN:DAYLIGHT
TZOFFSETFROM:-0500
TZOFFSETTO:-0400
TZNAME:EDT
DTSTART:20190310T070000
END:DAYLIGHT
BEGIN:STANDARD
TZOFFSETFROM:-0400
TZOFFSETTO:-0500
TZNAME:EST
DTSTART:20191103T060000
END:STANDARD
BEGIN:DAYLIGHT
TZOFFSETFROM:-0500
TZOFFSETTO:-0400
TZNAME:EDT
DTSTART:20200308T070000
END:DAYLIGHT
BEGIN:STANDARD
TZOFFSETFROM:-0400
TZOFFSETTO:-0500
TZNAME:EST
DTSTART:20201101T060000
END:STANDARD
BEGIN:DAYLIGHT
TZOFFSETFROM:-0500
TZOFFSETTO:-0400
TZNAME:EDT
DTSTART:20210314T070000
END:DAYLIGHT
BEGIN:STANDARD
TZOFFSETFROM:-0400
TZOFFSETTO:-0500
TZNAME:EST
DTSTART:20211107T060000
END:STANDARD
END:VTIMEZONE
BEGIN:VEVENT
DTSTART;TZID=America/New_York:20200721T180000
DTEND;TZID=America/New_York:20200721T193000
DTSTAMP:20260423T162353
CREATED:20200717T102152Z
LAST-MODIFIED:20200721T102149Z
UID:6226-1595354400-1595359800@livenewcanaan.org
SUMMARY:NCMT Be Well. Breathe Well. Ride Well
DESCRIPTION:New Canaan Mounted Troop invites you to a Community Wellness Workshop presented by\nErinn Chang and Adina Olan.\nLearn tips for the whole family on how to center your mind and body.
URL:https://livenewcanaan.org/event/ncmt-be-well-breathe-well-ride-well/
LOCATION:New Canaan Mounted Troop\, 22 Carter Street\, New Canaan\, CT\, 06840
CATEGORIES:Family Friendly Events,For Children,Health Education
ATTACH;FMTTYPE=image/jpeg:https://livenewcanaan.org/wp-content/uploads/2020/07/nmt1820_wellness-workshop-flyer-r3-1-scaled-4lvhQq.tmp_.jpg
ORGANIZER;CN="New Canaan Mounted Troop":MAILTO:sara.tucker@icloud.com
END:VEVENT
END:VCALENDAR