BEGIN:VCALENDAR
VERSION:2.0
PRODID:-//LiveNewCanaan - ECPv6.15.18//NONSGML v1.0//EN
CALSCALE:GREGORIAN
METHOD:PUBLISH
X-WR-CALNAME:LiveNewCanaan
X-ORIGINAL-URL:https://livenewcanaan.org
X-WR-CALDESC:Events for LiveNewCanaan
REFRESH-INTERVAL;VALUE=DURATION:PT1H
X-Robots-Tag:noindex
X-PUBLISHED-TTL:PT1H
BEGIN:VTIMEZONE
TZID:America/New_York
BEGIN:DAYLIGHT
TZOFFSETFROM:-0500
TZOFFSETTO:-0400
TZNAME:EDT
DTSTART:20190310T070000
END:DAYLIGHT
BEGIN:STANDARD
TZOFFSETFROM:-0400
TZOFFSETTO:-0500
TZNAME:EST
DTSTART:20191103T060000
END:STANDARD
BEGIN:DAYLIGHT
TZOFFSETFROM:-0500
TZOFFSETTO:-0400
TZNAME:EDT
DTSTART:20200308T070000
END:DAYLIGHT
BEGIN:STANDARD
TZOFFSETFROM:-0400
TZOFFSETTO:-0500
TZNAME:EST
DTSTART:20201101T060000
END:STANDARD
BEGIN:DAYLIGHT
TZOFFSETFROM:-0500
TZOFFSETTO:-0400
TZNAME:EDT
DTSTART:20210314T070000
END:DAYLIGHT
BEGIN:STANDARD
TZOFFSETFROM:-0400
TZOFFSETTO:-0500
TZNAME:EST
DTSTART:20211107T060000
END:STANDARD
END:VTIMEZONE
BEGIN:VEVENT
DTSTART;TZID=America/New_York:20200403T163000
DTEND;TZID=America/New_York:20200403T173000
DTSTAMP:20260423T213427
CREATED:20200320T065344Z
LAST-MODIFIED:20200402T130722Z
UID:5128-1585931400-1585935000@livenewcanaan.org
SUMMARY:VIRTUAL: “Your Voice Matters” Middle School Leadership Summit
DESCRIPTION:Featuring:\nKate Farrar – Executive Director\, CWEALF \nJoin LiveGirl for our first virtual Leadership Summit. Experience girl power from your living room. Kate Farrar\, Executive Director at the Connecticut Women’s Education and Legal Fund\, will be joining us on YouTube Live to discuss current legislative issues that impact women & girls in CT. \nThis is a non-partisan event. \nOur leadership summits bring together middle school girls from across Fairfield County for a variety of empowering learning experiences that encourage girls to explore their potential and believe in themselves. All summits feature a keynote speaker\, mentoring\, & fun team-building activities. \nSponsored by Miss Confident | open to grades 5-8 | free of charge
URL:https://livenewcanaan.org/event/virtual-your-voice-matters-middle-school-leadership-summit/
LOCATION:CT
CATEGORIES:For Children
ATTACH;FMTTYPE=image/png:https://livenewcanaan.org/wp-content/uploads/2020/03/livegirl-givegab-image.png
END:VEVENT
BEGIN:VEVENT
DTSTART;TZID=America/New_York:20200409T123000
DTEND;TZID=America/New_York:20200409T154500
DTSTAMP:20260423T213427
CREATED:20200318T175357Z
LAST-MODIFIED:20200402T130722Z
UID:4996-1586435400-1586447100@livenewcanaan.org
SUMMARY:New Canaan Nature Center’s Great Egg Hunts
DESCRIPTION:Perfect for children\, ages 2-10\, our egg hunts are designed for smaller groups (approximately 25 per hunt) and\, in addition to the hunt\, include an egg & spoon obstacle course and meet & greet with our baby chicks & bunny rabbits. Just BYOB (bring your own basket) for collecting eggs (which contain nature-themed prizes and nut-free sweets). \nRain or shine. \nMembers: $10/child\nNon-Members: $15/child \nJoin us for one of 11 egg hunt times!\nThursday\, April 9th: 12:30pm\, 1:45pm\, or 3:00pm \nFriday\, April 10th: 11:00am\, 12:00pm\, 1:30pm\, or 2:30pm \nSaturday\, April 11th: 11:00am\, 12:00pm\, 1:30pm\, or 2:30pm \nOnline Registration: Coming Soon!
URL:https://livenewcanaan.org/event/new-canaan-nature-centers-great-egg-hunts/
LOCATION:New Canaan Nature Center\, 144 Oenoke Ridge\, New Canaan\, CT\, United States
CATEGORIES:30 Days of Family,Family Friendly Events,For Children,New Canaan Nature Center Events
ATTACH;FMTTYPE=image/jpeg:https://livenewcanaan.org/wp-content/uploads/2020/03/egg-hunts2020.jpg
ORGANIZER;CN="New Canaan Nature Center":MAILTO:jrayher@newcanaannature.org
END:VEVENT
BEGIN:VEVENT
DTSTART;TZID=America/New_York:20200413T090000
DTEND;TZID=America/New_York:20200413T120000
DTSTAMP:20260423T213427
CREATED:20200318T175400Z
LAST-MODIFIED:20200325T132537Z
UID:5002-1586768400-1586779200@livenewcanaan.org
SUMMARY:New Canaan Nature Center’s Spring Fling Break Programs
DESCRIPTION:Monday – Friday\, April 13th-17th\n9:00am – 12:00pm\nOptional Lunch Bunch (12:00pm – 1:00pm) \nCalling all children\, ages 3-7! Out of school and looking for some spring fun and adventure? Come on down the hill and join other enthusiastic kids as our expert staff guide you on a variety of seasonal adventures throughout the 40-acres of forests\, fields\, and ponds at NCNC. Partake in nature games\, crafts & activities! \nEach day\, children will discover different wonders of the spring season while they traverse the nature center property and let nature surround them. Daily activities are subject to change based on weather forecasts. All programs emphasizes hands-on\, outdoor activities and engaging nature games & crafts geared toward the season\, so children should come prepared to be outdoors! Please dress appropriately to enjoy the spring weather (rain boots\, rain coats\, etc.). \nHealthy snack will be provided. \nChildren may not attend without the necessary completed health forms on file prior to the start of the program. \nExtend the fun and join us for an optional Lunch Bunch\, each day from 12:00pm – 1:00pm. Just bring your own lunch! \nMembers: $300 per child for all 5 days\nNon-Members: $375 per child for all 5 days\nLunch Bunch: $125 per child for all 5 days \nOnline Registration: Coming Soon!
URL:https://livenewcanaan.org/event/new-canaan-nature-centers-spring-fling-break-programs/
LOCATION:New Canaan Nature Center\, 144 Oenoke Ridge\, New Canaan\, CT\, United States
CATEGORIES:For Children,New Canaan Nature Center Events
ATTACH;FMTTYPE=image/jpeg:https://livenewcanaan.org/wp-content/uploads/2020/03/spring-fling2020.jpg
ORGANIZER;CN="New Canaan Nature Center":MAILTO:jrayher@newcanaannature.org
END:VEVENT
BEGIN:VEVENT
DTSTART;TZID=America/New_York:20200414T090000
DTEND;TZID=America/New_York:20200414T120000
DTSTAMP:20260423T213427
CREATED:20200318T175407Z
LAST-MODIFIED:20200325T132537Z
UID:5008-1586854800-1586865600@livenewcanaan.org
SUMMARY:New Canaan Nature Center’s Spring Fling Break Programs
DESCRIPTION:Monday – Friday\, April 13th-17th\n9:00am – 12:00pm\nOptional Lunch Bunch (12:00pm – 1:00pm) \nCalling all children\, ages 3-7! Out of school and looking for some spring fun and adventure? Come on down the hill and join other enthusiastic kids as our expert staff guide you on a variety of seasonal adventures throughout the 40-acres of forests\, fields\, and ponds at NCNC. Partake in nature games\, crafts & activities! \nEach day\, children will discover different wonders of the spring season while they traverse the nature center property and let nature surround them. Daily activities are subject to change based on weather forecasts. All programs emphasizes hands-on\, outdoor activities and engaging nature games & crafts geared toward the season\, so children should come prepared to be outdoors! Please dress appropriately to enjoy the spring weather (rain boots\, rain coats\, etc.). \nHealthy snack will be provided. \nChildren may not attend without the necessary completed health forms on file prior to the start of the program. \nExtend the fun and join us for an optional Lunch Bunch\, each day from 12:00pm – 1:00pm. Just bring your own lunch! \nMembers: $300 per child for all 5 days\nNon-Members: $375 per child for all 5 days\nLunch Bunch: $125 per child for all 5 days \nOnline Registration: Coming Soon!
URL:https://livenewcanaan.org/event/new-canaan-nature-centers-spring-fling-break-programs-2/
LOCATION:New Canaan Nature Center\, 144 Oenoke Ridge\, New Canaan\, CT\, United States
CATEGORIES:For Children,New Canaan Nature Center Events
ATTACH;FMTTYPE=image/jpeg:https://livenewcanaan.org/wp-content/uploads/2020/03/spring-fling2020.jpg
ORGANIZER;CN="New Canaan Nature Center":MAILTO:jrayher@newcanaannature.org
END:VEVENT
BEGIN:VEVENT
DTSTART;TZID=America/New_York:20200415T090000
DTEND;TZID=America/New_York:20200415T120000
DTSTAMP:20260423T213427
CREATED:20200318T175408Z
LAST-MODIFIED:20200325T132538Z
UID:5013-1586941200-1586952000@livenewcanaan.org
SUMMARY:New Canaan Nature Center’s Spring Fling Break Programs
DESCRIPTION:Monday – Friday\, April 13th-17th\n9:00am – 12:00pm\nOptional Lunch Bunch (12:00pm – 1:00pm) \nCalling all children\, ages 3-7! Out of school and looking for some spring fun and adventure? Come on down the hill and join other enthusiastic kids as our expert staff guide you on a variety of seasonal adventures throughout the 40-acres of forests\, fields\, and ponds at NCNC. Partake in nature games\, crafts & activities! \nEach day\, children will discover different wonders of the spring season while they traverse the nature center property and let nature surround them. Daily activities are subject to change based on weather forecasts. All programs emphasizes hands-on\, outdoor activities and engaging nature games & crafts geared toward the season\, so children should come prepared to be outdoors! Please dress appropriately to enjoy the spring weather (rain boots\, rain coats\, etc.). \nHealthy snack will be provided. \nChildren may not attend without the necessary completed health forms on file prior to the start of the program. \nExtend the fun and join us for an optional Lunch Bunch\, each day from 12:00pm – 1:00pm. Just bring your own lunch! \nMembers: $300 per child for all 5 days\nNon-Members: $375 per child for all 5 days\nLunch Bunch: $125 per child for all 5 days \nOnline Registration: Coming Soon!
URL:https://livenewcanaan.org/event/new-canaan-nature-centers-spring-fling-break-programs-3/
LOCATION:New Canaan Nature Center\, 144 Oenoke Ridge\, New Canaan\, CT\, United States
CATEGORIES:For Children,New Canaan Nature Center Events
ATTACH;FMTTYPE=image/jpeg:https://livenewcanaan.org/wp-content/uploads/2020/03/spring-fling2020.jpg
ORGANIZER;CN="New Canaan Nature Center":MAILTO:jrayher@newcanaannature.org
END:VEVENT
BEGIN:VEVENT
DTSTART;TZID=America/New_York:20200416T090000
DTEND;TZID=America/New_York:20200416T120000
DTSTAMP:20260423T213427
CREATED:20200318T175408Z
LAST-MODIFIED:20200325T132538Z
UID:5015-1587027600-1587038400@livenewcanaan.org
SUMMARY:New Canaan Nature Center’s Spring Fling Break Programs
DESCRIPTION:Monday – Friday\, April 13th-17th\n9:00am – 12:00pm\nOptional Lunch Bunch (12:00pm – 1:00pm) \nCalling all children\, ages 3-7! Out of school and looking for some spring fun and adventure? Come on down the hill and join other enthusiastic kids as our expert staff guide you on a variety of seasonal adventures throughout the 40-acres of forests\, fields\, and ponds at NCNC. Partake in nature games\, crafts & activities! \nEach day\, children will discover different wonders of the spring season while they traverse the nature center property and let nature surround them. Daily activities are subject to change based on weather forecasts. All programs emphasizes hands-on\, outdoor activities and engaging nature games & crafts geared toward the season\, so children should come prepared to be outdoors! Please dress appropriately to enjoy the spring weather (rain boots\, rain coats\, etc.). \nHealthy snack will be provided. \nChildren may not attend without the necessary completed health forms on file prior to the start of the program. \nExtend the fun and join us for an optional Lunch Bunch\, each day from 12:00pm – 1:00pm. Just bring your own lunch! \nMembers: $300 per child for all 5 days\nNon-Members: $375 per child for all 5 days\nLunch Bunch: $125 per child for all 5 days \nOnline Registration: Coming Soon!
URL:https://livenewcanaan.org/event/new-canaan-nature-centers-spring-fling-break-programs-4/
LOCATION:New Canaan Nature Center\, 144 Oenoke Ridge\, New Canaan\, CT\, United States
CATEGORIES:For Children,New Canaan Nature Center Events
ATTACH;FMTTYPE=image/jpeg:https://livenewcanaan.org/wp-content/uploads/2020/03/spring-fling2020.jpg
ORGANIZER;CN="New Canaan Nature Center":MAILTO:jrayher@newcanaannature.org
END:VEVENT
BEGIN:VEVENT
DTSTART;TZID=America/New_York:20200417T090000
DTEND;TZID=America/New_York:20200417T120000
DTSTAMP:20260423T213427
CREATED:20200318T175408Z
LAST-MODIFIED:20200325T132538Z
UID:5016-1587114000-1587124800@livenewcanaan.org
SUMMARY:New Canaan Nature Center’s Spring Fling Break Programs
DESCRIPTION:Monday – Friday\, April 13th-17th\n9:00am – 12:00pm\nOptional Lunch Bunch (12:00pm – 1:00pm) \nCalling all children\, ages 3-7! Out of school and looking for some spring fun and adventure? Come on down the hill and join other enthusiastic kids as our expert staff guide you on a variety of seasonal adventures throughout the 40-acres of forests\, fields\, and ponds at NCNC. Partake in nature games\, crafts & activities! \nEach day\, children will discover different wonders of the spring season while they traverse the nature center property and let nature surround them. Daily activities are subject to change based on weather forecasts. All programs emphasizes hands-on\, outdoor activities and engaging nature games & crafts geared toward the season\, so children should come prepared to be outdoors! Please dress appropriately to enjoy the spring weather (rain boots\, rain coats\, etc.). \nHealthy snack will be provided. \nChildren may not attend without the necessary completed health forms on file prior to the start of the program. \nExtend the fun and join us for an optional Lunch Bunch\, each day from 12:00pm – 1:00pm. Just bring your own lunch! \nMembers: $300 per child for all 5 days\nNon-Members: $375 per child for all 5 days\nLunch Bunch: $125 per child for all 5 days \nOnline Registration: Coming Soon!
URL:https://livenewcanaan.org/event/new-canaan-nature-centers-spring-fling-break-programs-5/
LOCATION:New Canaan Nature Center\, 144 Oenoke Ridge\, New Canaan\, CT\, United States
CATEGORIES:For Children,New Canaan Nature Center Events
ATTACH;FMTTYPE=image/jpeg:https://livenewcanaan.org/wp-content/uploads/2020/03/spring-fling2020.jpg
ORGANIZER;CN="New Canaan Nature Center":MAILTO:jrayher@newcanaannature.org
END:VEVENT
BEGIN:VEVENT
DTSTART;TZID=America/New_York:20200418T080000
DTEND;TZID=America/New_York:20200418T110000
DTSTAMP:20260423T213427
CREATED:20200318T175820Z
LAST-MODIFIED:20200402T130723Z
UID:5052-1587196800-1587207600@livenewcanaan.org
SUMMARY:32nd Annual George Cogswell Fishing Derby
DESCRIPTION:It is that time of year again for the annual George Cogswell Fishing Derby for kids age 15 and under at Mill Pond. Registration will begin at 8AM\, first lines in the water by 8:30AM and out at 11AM.
URL:https://livenewcanaan.org/event/32nd-annual-george-cogswell-fishing-derby/
LOCATION:Mill Pond\, Millport Ave & East Ave\,\, New Canaan\, CT\, 06840
CATEGORIES:Family Friendly Events,For Children
END:VEVENT
END:VCALENDAR