BEGIN:VCALENDAR
VERSION:2.0
PRODID:-//LiveNewCanaan - ECPv6.15.18//NONSGML v1.0//EN
CALSCALE:GREGORIAN
METHOD:PUBLISH
X-WR-CALNAME:LiveNewCanaan
X-ORIGINAL-URL:https://livenewcanaan.org
X-WR-CALDESC:Events for LiveNewCanaan
REFRESH-INTERVAL;VALUE=DURATION:PT1H
X-Robots-Tag:noindex
X-PUBLISHED-TTL:PT1H
BEGIN:VTIMEZONE
TZID:America/New_York
BEGIN:DAYLIGHT
TZOFFSETFROM:-0500
TZOFFSETTO:-0400
TZNAME:EDT
DTSTART:20240310T070000
END:DAYLIGHT
BEGIN:STANDARD
TZOFFSETFROM:-0400
TZOFFSETTO:-0500
TZNAME:EST
DTSTART:20241103T060000
END:STANDARD
BEGIN:DAYLIGHT
TZOFFSETFROM:-0500
TZOFFSETTO:-0400
TZNAME:EDT
DTSTART:20250309T070000
END:DAYLIGHT
BEGIN:STANDARD
TZOFFSETFROM:-0400
TZOFFSETTO:-0500
TZNAME:EST
DTSTART:20251102T060000
END:STANDARD
BEGIN:DAYLIGHT
TZOFFSETFROM:-0500
TZOFFSETTO:-0400
TZNAME:EDT
DTSTART:20260308T070000
END:DAYLIGHT
BEGIN:STANDARD
TZOFFSETFROM:-0400
TZOFFSETTO:-0500
TZNAME:EST
DTSTART:20261101T060000
END:STANDARD
END:VTIMEZONE
BEGIN:VEVENT
DTSTART;TZID=America/New_York:20250406T073000
DTEND;TZID=America/New_York:20250406T110000
DTSTAMP:20260423T164942
CREATED:20250217T065753Z
LAST-MODIFIED:20250217T065753Z
UID:14863-1743924600-1743937200@livenewcanaan.org
SUMMARY:Unite To Fight 5K
DESCRIPTION:Join Filling in the Blanks on April 6\, 2025\, at the Seventh Annual Unite to Fight 5K! The race will take place at Waveny Park located in New Canaan\, CT with check in beginning at 7:30\, Kids Fun Run at 8:15 and the 5K walk/run beginning at 8:45. Show your support\, register as a fundraiser\, walker\, or runner\, and spread community awareness of Filling in the Blanks’ mission!  There will be prizes\, t-shirts and food. To register\, see the attached flyer. We hope to see you there!
URL:https://livenewcanaan.org/event/unite-to-fight-5k/
LOCATION:Waveny Park
CATEGORIES:Family Friendly Events
ATTACH;FMTTYPE=image/png:https://livenewcanaan.org/wp-content/uploads/2025/02/Unite-to-Fight-2025-Ls8iCB.tmp_.png
ORGANIZER;CN="Filling in the Blanks":MAILTO:sknight@fillingintheblanks.org
END:VEVENT
END:VCALENDAR