BEGIN:VCALENDAR
VERSION:2.0
PRODID:-//LiveNewCanaan - ECPv6.15.18//NONSGML v1.0//EN
CALSCALE:GREGORIAN
METHOD:PUBLISH
X-WR-CALNAME:LiveNewCanaan
X-ORIGINAL-URL:https://livenewcanaan.org
X-WR-CALDESC:Events for LiveNewCanaan
REFRESH-INTERVAL;VALUE=DURATION:PT1H
X-Robots-Tag:noindex
X-PUBLISHED-TTL:PT1H
BEGIN:VTIMEZONE
TZID:America/New_York
BEGIN:DAYLIGHT
TZOFFSETFROM:-0500
TZOFFSETTO:-0400
TZNAME:EDT
DTSTART:20240310T070000
END:DAYLIGHT
BEGIN:STANDARD
TZOFFSETFROM:-0400
TZOFFSETTO:-0500
TZNAME:EST
DTSTART:20241103T060000
END:STANDARD
BEGIN:DAYLIGHT
TZOFFSETFROM:-0500
TZOFFSETTO:-0400
TZNAME:EDT
DTSTART:20250309T070000
END:DAYLIGHT
BEGIN:STANDARD
TZOFFSETFROM:-0400
TZOFFSETTO:-0500
TZNAME:EST
DTSTART:20251102T060000
END:STANDARD
BEGIN:DAYLIGHT
TZOFFSETFROM:-0500
TZOFFSETTO:-0400
TZNAME:EDT
DTSTART:20260308T070000
END:DAYLIGHT
BEGIN:STANDARD
TZOFFSETFROM:-0400
TZOFFSETTO:-0500
TZNAME:EST
DTSTART:20261101T060000
END:STANDARD
END:VTIMEZONE
BEGIN:VEVENT
DTSTART;TZID=America/New_York:20250228T180000
DTEND;TZID=America/New_York:20250228T210000
DTSTAMP:20260423T183238
CREATED:20250207T124036Z
LAST-MODIFIED:20250217T065752Z
UID:14811-1740765600-1740776400@livenewcanaan.org
SUMMARY:Pages & Putts Mini Golf at the Library
DESCRIPTION:Bring your whole family during our tee times to play Mini Golf and Support the Library! Snag your tickets now to tee off among the stacks. Our 18-hole course will take you all around the library and we’ll have fun prizes for you to win.\nNew Canaan’s favorite Apple Cart Food Co. will be selling hot dogs and other treats for our golfers.\n$10 per player. Join us on Friday evening\, February 28th from 6pm – 9pm or on Saturday\, March 1st from 10am – 3pm.
URL:https://livenewcanaan.org/event/pages-putts-mini-golf-at-the-library/
LOCATION:New Canaan Library\, 151 Main St\, New Canaan\, CT\, United States
CATEGORIES:Family Friendly Events
ATTACH;FMTTYPE=image/jpeg:https://livenewcanaan.org/wp-content/uploads/2025/02/Pages-Putts-Image-for-CC-ywfSTT.tmp_.jpg
ORGANIZER;CN="New Canaan Library":MAILTO:kblance@newcanaanlibrary.org
END:VEVENT
BEGIN:VEVENT
DTSTART;TZID=America/New_York:20250301T100000
DTEND;TZID=America/New_York:20250301T150000
DTSTAMP:20260423T183238
CREATED:20250207T124116Z
LAST-MODIFIED:20250217T065753Z
UID:14818-1740823200-1740841200@livenewcanaan.org
SUMMARY:Pages & Putts Mini Golf at the Library
DESCRIPTION:Bring your whole family during our tee times to play Mini Golf and Support the Library! Snag your tickets now to tee off among the stacks. Our 18-hole course will take you all around the library and we’ll have fun prizes for you to win.\nNew Canaan’s favorite Apple Cart Food Co. will be selling hot dogs and other treats for our golfers.\n$10 per player. Join us on Friday evening\, February 28th from 6pm – 9pm or on Saturday\, March 1st from 10am – 3pm.
URL:https://livenewcanaan.org/event/pages-putts-mini-golf-at-the-library-2/
LOCATION:New Canaan Library\, 151 Main St\, New Canaan\, CT\, United States
CATEGORIES:Family Friendly Events
ATTACH;FMTTYPE=image/jpeg:https://livenewcanaan.org/wp-content/uploads/2025/02/Pages-Putts-Image-for-CC-ywfSTT.tmp_.jpg
ORGANIZER;CN="New Canaan Library":MAILTO:kblance@newcanaanlibrary.org
END:VEVENT
BEGIN:VEVENT
DTSTART;TZID=America/New_York:20250322T100000
DTEND;TZID=America/New_York:20250322T103000
DTSTAMP:20260423T183238
CREATED:20250207T124119Z
LAST-MODIFIED:20250217T065753Z
UID:14825-1742637600-1742639400@livenewcanaan.org
SUMMARY:NC Color Drop
DESCRIPTION:On Saturday\, March 22nd at 10:00am\, the New Canaan High School Scholarship Foundation will be hosting its annual fundraiser\, the NC Color Drop where a helicopter will release 2\,000 colored golf balls over a designated target in Waveny Park.  Each ball is numbered individually and the participants whose golf ball(s) land closest to the target will win one of our many grand prizes including a 2025 Chevy Colorado.  100% of the proceeds will be donated to need-based college scholarships for NCHS graduates.  Spectators are welcome.  Don’t miss this thrilling event.  Golf balls are on sale now.  Purchase your golf ball(s) HERE!  https://www.nchs-sf.org/colordrop.
URL:https://livenewcanaan.org/event/nc-color-drop-3/
LOCATION:Waveny Park
CATEGORIES:Family Friendly Events
ATTACH;FMTTYPE=image/png:https://livenewcanaan.org/wp-content/uploads/2025/02/2025-NCSF-ColorDrop-Poster-OnlinePapers-2-EThIgK.tmp_.png
END:VEVENT
END:VCALENDAR