BEGIN:VCALENDAR
VERSION:2.0
PRODID:-//LiveNewCanaan - ECPv6.15.18//NONSGML v1.0//EN
CALSCALE:GREGORIAN
METHOD:PUBLISH
X-ORIGINAL-URL:https://livenewcanaan.org
X-WR-CALDESC:Events for LiveNewCanaan
REFRESH-INTERVAL;VALUE=DURATION:PT1H
X-Robots-Tag:noindex
X-PUBLISHED-TTL:PT1H
BEGIN:VTIMEZONE
TZID:America/New_York
BEGIN:DAYLIGHT
TZOFFSETFROM:-0500
TZOFFSETTO:-0400
TZNAME:EDT
DTSTART:20240310T070000
END:DAYLIGHT
BEGIN:STANDARD
TZOFFSETFROM:-0400
TZOFFSETTO:-0500
TZNAME:EST
DTSTART:20241103T060000
END:STANDARD
BEGIN:DAYLIGHT
TZOFFSETFROM:-0500
TZOFFSETTO:-0400
TZNAME:EDT
DTSTART:20250309T070000
END:DAYLIGHT
BEGIN:STANDARD
TZOFFSETFROM:-0400
TZOFFSETTO:-0500
TZNAME:EST
DTSTART:20251102T060000
END:STANDARD
BEGIN:DAYLIGHT
TZOFFSETFROM:-0500
TZOFFSETTO:-0400
TZNAME:EDT
DTSTART:20260308T070000
END:DAYLIGHT
BEGIN:STANDARD
TZOFFSETFROM:-0400
TZOFFSETTO:-0500
TZNAME:EST
DTSTART:20261101T060000
END:STANDARD
END:VTIMEZONE
BEGIN:VEVENT
DTSTART;TZID=America/New_York:20250120T100000
DTEND;TZID=America/New_York:20250120T110000
DTSTAMP:20260423T221643
CREATED:20250103T115422Z
LAST-MODIFIED:20250117T105756Z
UID:14706-1737367200-1737370800@livenewcanaan.org
SUMMARY:Rev. Martin Luther King Jr. Service
DESCRIPTION:A celebration of the life of the Reverend Martin Luther King Jr.  The service includes inspiring music and speakers from local and nearby Faith communities\, including the Pivot Men’s Choir\, followed by a reception.  The event is free.
URL:https://livenewcanaan.org/event/rev-martin-luther-king-jr-service/
LOCATION:United Methodist Church\, 165 South Ave\, New Canaan\, CT\, United States
CATEGORIES:Family Friendly Events
ATTACH;FMTTYPE=image/jpeg:https://livenewcanaan.org/wp-content/uploads/2025/01/1591387889310_162-QAcprd.tmp_.jpg
ORGANIZER;CN="Interfaith Council of New Canaan":MAILTO:ncinterfaithcouncil@gmail.com
END:VEVENT
END:VCALENDAR