BEGIN:VCALENDAR
VERSION:2.0
PRODID:-//LiveNewCanaan - ECPv6.15.18//NONSGML v1.0//EN
CALSCALE:GREGORIAN
METHOD:PUBLISH
X-WR-CALNAME:LiveNewCanaan
X-ORIGINAL-URL:https://livenewcanaan.org
X-WR-CALDESC:Events for LiveNewCanaan
REFRESH-INTERVAL;VALUE=DURATION:PT1H
X-Robots-Tag:noindex
X-PUBLISHED-TTL:PT1H
BEGIN:VTIMEZONE
TZID:America/New_York
BEGIN:DAYLIGHT
TZOFFSETFROM:-0500
TZOFFSETTO:-0400
TZNAME:EDT
DTSTART:20230312T070000
END:DAYLIGHT
BEGIN:STANDARD
TZOFFSETFROM:-0400
TZOFFSETTO:-0500
TZNAME:EST
DTSTART:20231105T060000
END:STANDARD
BEGIN:DAYLIGHT
TZOFFSETFROM:-0500
TZOFFSETTO:-0400
TZNAME:EDT
DTSTART:20240310T070000
END:DAYLIGHT
BEGIN:STANDARD
TZOFFSETFROM:-0400
TZOFFSETTO:-0500
TZNAME:EST
DTSTART:20241103T060000
END:STANDARD
BEGIN:DAYLIGHT
TZOFFSETFROM:-0500
TZOFFSETTO:-0400
TZNAME:EDT
DTSTART:20250309T070000
END:DAYLIGHT
BEGIN:STANDARD
TZOFFSETFROM:-0400
TZOFFSETTO:-0500
TZNAME:EST
DTSTART:20251102T060000
END:STANDARD
END:VTIMEZONE
BEGIN:VEVENT
DTSTART;TZID=America/New_York:20240609T180000
DTEND;TZID=America/New_York:20240609T200000
DTSTAMP:20260424T103153
CREATED:20240425T112236Z
LAST-MODIFIED:20240425T112236Z
UID:13968-1717956000-1717963200@livenewcanaan.org
SUMMARY:New Canaan Pops in the Park
DESCRIPTION:WELCOME TO THE 3RD ANNUAL POPS IN THE PARK concert in Waveny Park\, New Canaan\, featuring the Norwalk Symphony Orchestra! The New Canaan Pops in the Park Committee is pleased to share a beautiful evening of orchestral music with all of you — our very special guests. This year\, we’re excited to feature “Broadway Lights!” as our theme for the evening\, with an emphasis on music featured in popular Broadway shows such as Annie\, West Side Story\, Guys and Dolls\, and Phantom of the Opera. We’re also thrilled to have the vocals of Mia Gentile\, who has performed with the Symphony as Carrie in “Carousel” and Marian in “The Music Man.” Inspired by the Boston Pops concerts on Cape Cod and Nantucket and the NY Philharmonic’s summer concerts in Central Park\, this family-friendly evening is one that is sure to delight audiences of all ages. Please join us on Waveny Great Lawn with your blankets and picnic baskets for a summer evening of lively Broadway music!\nTickets are free\, though we encourage a $5 per person donation to help support our concert. Concertgoers must reserve tickets through Eventbrite as we are limited to 1800 attendees. Your donations will support this year’s concert and our annual Pops concerts going forward!
URL:https://livenewcanaan.org/event/new-canaan-pops-in-the-park-2/
LOCATION:Waveny Park
CATEGORIES:Family Friendly Events
ATTACH;FMTTYPE=image/jpeg:https://livenewcanaan.org/wp-content/uploads/2024/04/PITP.Broadway.SocialMedia-scaled-TVYwO2.tmp_.jpg
END:VEVENT
BEGIN:VEVENT
DTSTART;TZID=America/New_York:20240619T150000
DTEND;TZID=America/New_York:20240619T190000
DTSTAMP:20260424T103153
CREATED:20240610T085557Z
LAST-MODIFIED:20240610T085732Z
UID:14084-1718809200-1718823600@livenewcanaan.org
SUMMARY:“Hearts of Freedom” - A Juneteenth Community Celebration
DESCRIPTION:S.T.A.R’s 3rd annual Juneteenth Community Celebration is fast approaching and we cannot wait to see everyone!\nThis free-to-attend celebration will once again take place on the lawn at The New Canaan Museum & Historical Society at 13 Oenoke Ridge\, New Canaan. We’ll start at 3pm and end at 7pm. There will be live music from local band\, The Misfits\, arts and crafts and more! Visit S.T.A.R’s website for more information.\nBring a picnic or buy delicious soul food from one of several local food trucks.\nWalk ins are welcome\, but we kindly ask that you register in advance so we have enough supplies. (Link is below.)\nWe are grateful to the sponsors (to-date) of this increasingly popular local event: The Glass House\, Walter Stewarts Market\, The New Canaan Museum & Historical Society\, and Newcanaanite.com. We also thank the Rotary Club of New Canaan for their support.\nNote: Due to construction\, St.. Marks church. which is right next door\, has graciously allowed Juneteenth attendees to park in their lot. New Canaan’s Service League of Boys (SLOBs) has generously volunteered to help direct traffic to the church parking lot.\nSponsorship opportunities are available for this increasingly popular celebration. Contact susanborst@susanborst.com.
URL:https://livenewcanaan.org/event/hearts-of-freedom-a-juneteenth-community-celebration/
LOCATION:New Canaan Historical Society\, 13 Oenoke Ridge Road\, New Canaan\, 06840
CATEGORIES:Family Friendly Events
ATTACH;FMTTYPE=image/jpeg:https://livenewcanaan.org/wp-content/uploads/2024/06/IMG_6661-poQYeo.tmp_.jpg
ORGANIZER;CN="Stand Together Against Racism":MAILTO:fniang@wpsir.com
END:VEVENT
BEGIN:VEVENT
DTSTART;TZID=America/New_York:20240622T153000
DTEND;TZID=America/New_York:20240623T093000
DTSTAMP:20260424T103153
CREATED:20240610T085558Z
LAST-MODIFIED:20240610T085732Z
UID:14091-1719070200-1719135000@livenewcanaan.org
SUMMARY:New Canaan Nature Center's Great American Campout
DESCRIPTION:Come and take part in our Great American Campout to enjoy an evening full of fun & adventure by camping out in New Canaan’s favorite backyard – the New Canaan Nature Center! Enjoy a classic camping-style barbecue dinner\, field games on the Green\, animal meet & greet\, night hike\, campfire complete with s’mores\, and more! In the morning\, awake to fog over the meadow and the promise of another magical day! A light breakfast of bagels\, juice\, and coffee will also be served. Rain or shine.\nPre-registration is required by NOON on June 20th.\nCost: $110/family\n*NCNC has a limited number of tents available for rent for $25: to reserve yours\, please email us at mhips@newcanaannature.org today.\nLearn more & register today: https://newcanaannature.org/the-great-american-campout/
URL:https://livenewcanaan.org/event/new-canaan-nature-centers-great-american-campout-2/
LOCATION:New Canaan Nature Center\, 144 Oenoke Ridge Road\, New Canaan\, CT\, 06840\, United States
CATEGORIES:Family Friendly Events,New Canaan Nature Center Events
ATTACH;FMTTYPE=image/jpeg:https://livenewcanaan.org/wp-content/uploads/2024/06/GreatAmericanCampout2024-ggsiKd.tmp_.jpg
ORGANIZER;CN="New Canaan Nature Center":MAILTO:jrayher@newcanaannature.org
END:VEVENT
END:VCALENDAR