BEGIN:VCALENDAR
VERSION:2.0
PRODID:-//LiveNewCanaan - ECPv6.15.18//NONSGML v1.0//EN
CALSCALE:GREGORIAN
METHOD:PUBLISH
X-WR-CALNAME:LiveNewCanaan
X-ORIGINAL-URL:https://livenewcanaan.org
X-WR-CALDESC:Events for LiveNewCanaan
REFRESH-INTERVAL;VALUE=DURATION:PT1H
X-Robots-Tag:noindex
X-PUBLISHED-TTL:PT1H
BEGIN:VTIMEZONE
TZID:America/New_York
BEGIN:DAYLIGHT
TZOFFSETFROM:-0500
TZOFFSETTO:-0400
TZNAME:EDT
DTSTART:20230312T070000
END:DAYLIGHT
BEGIN:STANDARD
TZOFFSETFROM:-0400
TZOFFSETTO:-0500
TZNAME:EST
DTSTART:20231105T060000
END:STANDARD
BEGIN:DAYLIGHT
TZOFFSETFROM:-0500
TZOFFSETTO:-0400
TZNAME:EDT
DTSTART:20240310T070000
END:DAYLIGHT
BEGIN:STANDARD
TZOFFSETFROM:-0400
TZOFFSETTO:-0500
TZNAME:EST
DTSTART:20241103T060000
END:STANDARD
BEGIN:DAYLIGHT
TZOFFSETFROM:-0500
TZOFFSETTO:-0400
TZNAME:EDT
DTSTART:20250309T070000
END:DAYLIGHT
BEGIN:STANDARD
TZOFFSETFROM:-0400
TZOFFSETTO:-0500
TZNAME:EST
DTSTART:20251102T060000
END:STANDARD
END:VTIMEZONE
BEGIN:VEVENT
DTSTART;TZID=America/New_York:20240504T110000
DTEND;TZID=America/New_York:20240504T160000
DTSTAMP:20260424T120715
CREATED:20240425T112120Z
LAST-MODIFIED:20240425T112120Z
UID:13934-1714820400-1714838400@livenewcanaan.org
SUMMARY:New Canaan Dog Days Presented by Pet Pantry
DESCRIPTION:Pet Pantry Warehouse has announced its Signature Event lineup for the year starting with the annual New Canaan Dog Days on Saturday\, May 4th from 11:00 a.m. until 4:00 p.m. The event will feature activities that include but are not limited to an Ice Cream Pawlour\, Pet Pantry Bone Bar\, Sniffari\, Doggie Beer Garden\, Dog Lovers Lure Coursing and back again this year are two scavenger hunts hosted by Rock Paper Scissors Custom Events.\nThe link to register for this FREE event is here:\nhttps://new-canaan-dog-days-2024.eventbrite.com\nBefore the Dog Days event\, ‘Paws in Stores’ is back for a second year with a Star Wars theme\, ‘May 4th Be Woof You’. Register on Eventbrite for a free downtown scavenger hunt that will take participants and their four-legged family members into downtown New Canaan stores. Paws in Stores participants will be looking for hidden Star Wars characters. Once completed\, participants will be eligible to win a Pet Pantry goody bag and more. And\, the ‘Tails on the Trails’ scavenger hunt will happen at the Dog Days event. Anyone interested can pick up a trail map from the Rock Paper Scissors Custom Events table at the event and walk the self-guided trail at their own pace. Additional information can be found on the scavenger hunt registration pages.\n“We have a great time organizing these free events for the community\,” said Adam Jacobson\, Executive Vice President of Pet Pantry Warehouse. He continued\, “These events create a space for the community to connect and enjoy our incredible outdoor areas. Our signature events are mainly created to give back to our local non-profits but also to build and strengthen the communities we serve”. Other events include Fairfield Dog Days on June 23rd; Puttin’ on the Dog on September 22nd; Fairfield Harvest Market on October 19th; and Howl & Prowl on October 27th.\nAlong with fun and entertainment\, attendees will leave with bags full of free pet food products and toys. This year’s sponsors include (diamond) Raised Right; Earth Animal; First Mate; Open Farm; (silver) Primal; Blue Buffalo; Canidae; Natural Balance; Oma’s Pride; Fromm (bronze) Champion; Farmina; Honest Kitchen; Nature’s Variety; Nulo; Stella & Chewys; Vital Essentials; Zignature; Weruva/BFF; and Triumph/Evolve\nThe event will be held rain or shine. For more information on Signature Events please visit Pet Pantry Warehouse online (www.ppwpet.com/events).
URL:https://livenewcanaan.org/event/new-canaan-dog-days-presented-by-pet-pantry/
LOCATION:New Canaan Nature Center\, 144 Oenoke Ridge Road\, New Canaan\, CT\, 06840\, United States
CATEGORIES:Family Friendly Events
ATTACH;FMTTYPE=image/jpeg:https://livenewcanaan.org/wp-content/uploads/2024/04/434340266_942902667843641_2481055935469721967_n-RkW4wB.tmp_.jpg
ORGANIZER;CN="Pet Pantry Warehouse":MAILTO:info@ppwpet.com
END:VEVENT
BEGIN:VEVENT
DTSTART;TZID=America/New_York:20240505T090000
DTEND;TZID=America/New_York:20240505T120000
DTSTAMP:20260424T120715
CREATED:20240425T112126Z
LAST-MODIFIED:20240425T112126Z
UID:13950-1714899600-1714910400@livenewcanaan.org
SUMMARY:STAR's Walk & Roll Family Fun Day
DESCRIPTION:STAR’s Annual Walk & Roll Fundraising Event supports early childhood therapies\, first jobs for transitioning high school graduates\, and scholarships for life enrichment classes for adults with intellectual + developmental disabilities in Fairfield County. The Walk & Roll is a fun family day at the beach to raise money for the people and activities of STAR! Activities include face painting\, arts & crafts\, lawn games\, interactive hula hooping and dancing entertainment\, food trucks\, and more!
URL:https://livenewcanaan.org/event/stars-walk-roll-family-fun-day/
LOCATION:Sherwood Island State Park\, Westport\, CT\, Westport\, CT\, 06880\, United States
CATEGORIES:Family Friendly Events
ATTACH;FMTTYPE=image/jpeg:https://livenewcanaan.org/wp-content/uploads/2024/04/STAR-2024-Walk-Flyer-49yck0.tmp_.jpg
END:VEVENT
BEGIN:VEVENT
DTSTART;TZID=America/New_York:20240510T100000
DTEND;TZID=America/New_York:20240510T180000
DTSTAMP:20260424T120715
CREATED:20240509T131134Z
LAST-MODIFIED:20240509T131359Z
UID:13990-1715335200-1715364000@livenewcanaan.org
SUMMARY:The Spice &Tea Exchange® of New Canaan opens its doors just in time for Mother’s Day!
DESCRIPTION:We are pleased to announce that The Spice & Tea Exchange® of New Canaan will open on Friday\, May 10th at 118 Main Street. Offering traditional and signature spice blends\, infused sugars\, honey\, hand-blended teas\, and gift items as well as a hot and iced tea bar\, TSTE® of New Canaan is owned by Pam and John Robinson.
URL:https://livenewcanaan.org/event/the-spice-tea-exchange-of-new-canaan-opens-its-doors-just-in-time-for-mothers-day/
CATEGORIES:Business Development,Family Friendly Events
ATTACH;FMTTYPE=image/jpeg:https://livenewcanaan.org/wp-content/uploads/2024/05/The-Spice-Tea-Exchange-of-New-Canaan-will-open-Friday-May-10th-photo-by-Matthew-DAlto-1-scaled-GaV4kL.tmp_.jpg
END:VEVENT
BEGIN:VEVENT
DTSTART;TZID=America/New_York:20240518T093000
DTEND;TZID=America/New_York:20240518T114500
DTSTAMP:20260424T120715
CREATED:20240509T131147Z
LAST-MODIFIED:20240509T131401Z
UID:14017-1716024600-1716032700@livenewcanaan.org
SUMMARY:New Canaan Food Revolution
DESCRIPTION:Enjoy a morning strolling downtown and sampling bites to eat at different locations. Earn a stamp for everything you taste\, if you complete your passport then you will be entered into a prize draw. EVERYONE recieves a bravery certificate.\nRegistration is located at Berkshire Hathaway HomeServices New England Properties\, where you can enjoy live music. ALL proceeds from ticket sales will be given to The Sunshine Kids – a non-profit organization dedicated to helping children with cancer.
URL:https://livenewcanaan.org/event/new-canaan-food-revolution-5/
LOCATION:Berkshire Hathaway\, 98 Park Street\, New Canaan\, 06840
CATEGORIES:Family Friendly Events,For Children
ATTACH;FMTTYPE=image/jpeg:https://livenewcanaan.org/wp-content/uploads/2024/05/BE49F461-8FD6-4B97-ACA2-0B338A1F2B0C-scaled-8OGrD5.tmp_.jpg
ORGANIZER;CN="Rock Paper Scissors Custom Events":MAILTO:rachel@rockpaperscissors.events
END:VEVENT
END:VCALENDAR