BEGIN:VCALENDAR
VERSION:2.0
PRODID:-//LiveNewCanaan - ECPv6.15.18//NONSGML v1.0//EN
CALSCALE:GREGORIAN
METHOD:PUBLISH
X-WR-CALNAME:LiveNewCanaan
X-ORIGINAL-URL:https://livenewcanaan.org
X-WR-CALDESC:Events for LiveNewCanaan
REFRESH-INTERVAL;VALUE=DURATION:PT1H
X-Robots-Tag:noindex
X-PUBLISHED-TTL:PT1H
BEGIN:VTIMEZONE
TZID:America/New_York
BEGIN:DAYLIGHT
TZOFFSETFROM:-0500
TZOFFSETTO:-0400
TZNAME:EDT
DTSTART:20220313T070000
END:DAYLIGHT
BEGIN:STANDARD
TZOFFSETFROM:-0400
TZOFFSETTO:-0500
TZNAME:EST
DTSTART:20221106T060000
END:STANDARD
BEGIN:DAYLIGHT
TZOFFSETFROM:-0500
TZOFFSETTO:-0400
TZNAME:EDT
DTSTART:20230312T070000
END:DAYLIGHT
BEGIN:STANDARD
TZOFFSETFROM:-0400
TZOFFSETTO:-0500
TZNAME:EST
DTSTART:20231105T060000
END:STANDARD
BEGIN:DAYLIGHT
TZOFFSETFROM:-0500
TZOFFSETTO:-0400
TZNAME:EDT
DTSTART:20240310T070000
END:DAYLIGHT
BEGIN:STANDARD
TZOFFSETFROM:-0400
TZOFFSETTO:-0500
TZNAME:EST
DTSTART:20241103T060000
END:STANDARD
END:VTIMEZONE
BEGIN:VEVENT
DTSTART;TZID=America/New_York:20231208T173000
DTEND;TZID=America/New_York:20231208T183000
DTSTAMP:20260424T210909
CREATED:20231204T114615Z
LAST-MODIFIED:20231204T114615Z
UID:12995-1702056600-1702060200@livenewcanaan.org
SUMMARY:New Canaan YMCA Zumba Party
DESCRIPTION:Mark your calendar! The Y’s group exercise department will be hosting a Friday night Zumba party led by its amazing instructors: Vicky\, Nicole\, Matt\, and Marissa!\nKick off your weekend with this fun dance-inspired workout. The event is open to the community and Y members are encouraged to bring a friend. See you there!\nFor additional information and any questions\, contact Tetiana Kokorska\, New Canaan YMCA Group Exercise Director\, at 203-920-1636 or tkokorska@newcanaanymca.org
URL:https://livenewcanaan.org/event/new-canaan-ymca-zumba-party/
CATEGORIES:Family Friendly Events
ATTACH;FMTTYPE=image/png:https://livenewcanaan.org/wp-content/uploads/2023/12/Zumba-Party-Flyer-rxfov2.tmp_.png
END:VEVENT
BEGIN:VEVENT
DTSTART;TZID=America/New_York:20231208T193000
DTEND;TZID=America/New_York:20231208T213000
DTSTAMP:20260424T210909
CREATED:20231204T114618Z
LAST-MODIFIED:20231204T114618Z
UID:12997-1702063800-1702071000@livenewcanaan.org
SUMMARY:New Canaan Chamber Music Concert
DESCRIPTION:London’s extraordinary Barbican Quartet\, the next generation of chamber musicians\, joins Andrew Armstrong\, pianist\, for a very special concert at First Presbyterian Church of New Canaan!
URL:https://livenewcanaan.org/event/new-canaan-chamber-music-concert-5/
LOCATION:First Presbyterian Church of New Canaan\, 178 Oenoke Ridge\, New Canaan\, CT\, United States
CATEGORIES:Family Friendly Events,New Canaan Chamber Music
ATTACH;FMTTYPE=image/jpeg:https://livenewcanaan.org/wp-content/uploads/2023/12/NCCM-Ad-December-Events-2023-NewCanaanite-300x250-11132023-1-Rws7dW.tmp_.jpg
ORGANIZER;CN="New Canaan Chamber Music":MAILTO:info@newcanaanchambermusic.org
END:VEVENT
BEGIN:VEVENT
DTSTART;TZID=America/New_York:20231214T180000
DTEND;TZID=America/New_York:20231214T193000
DTSTAMP:20260424T210909
CREATED:20231204T114627Z
LAST-MODIFIED:20231204T114627Z
UID:13010-1702576800-1702582200@livenewcanaan.org
SUMMARY:Family Space Night with the Connecticut Science Center
DESCRIPTION:Explore the wonders of outer space — nebulas\, black holes\, planets\, and constellations — through engaging\, hands-on activity and craft stations facilitated by STEM Educators from the Connecticut Science Center joining us at Grace Farms.\nRecommended for families with children ages 5 – 10.
URL:https://livenewcanaan.org/event/family-space-night-with-the-connecticut-science-center-2/
LOCATION:Grace Farms\, 365 Lukes Wood Rd\, New Canaan\, CT\, United States
CATEGORIES:Family Friendly Events,Grace Farms Event
ATTACH;FMTTYPE=image/png:https://livenewcanaan.org/wp-content/uploads/2023/12/12.14.23-Family-Space-Night-1024x480-for-Ticketure-header-yNcEkQ.tmp_.png
ORGANIZER;CN="Grace Farms":MAILTO:info@gracefarms.org
END:VEVENT
BEGIN:VEVENT
DTSTART;TZID=America/New_York:20231216T110000
DTEND;TZID=America/New_York:20231216T140000
DTSTAMP:20260424T210909
CREATED:20231204T114628Z
LAST-MODIFIED:20231204T114628Z
UID:13014-1702724400-1702735200@livenewcanaan.org
SUMMARY:New Canaan Nature Center's Winter Wonderland
DESCRIPTION:December 16th\n11:00am – 2:00pm\nCome and be transported into a whole new world as the New Canaan Nature Center transforms into a Winter Wonderland filled with fun and exciting winter holiday activities for the entire family. We hope you will join us to enjoy the warm festive feel the Nature Center puts on this time of year!\nYou won’t want to miss:\n*Visits & photos with Santa\n*Holiday Trains – our giant model train depicts the town of New Canaan and more!\n*Campfire complete with marshmallow roasting\n*Holiday Crafts for kids\n*Reindeer Games: ring the reindeer antlers\, feed the snowman\, and more!\n*Cookie Decorating\n*Wacky Winterland scavenger hunt\n*“Red & Green Cafe” with grilled cheese\, hot dogs\, & hot beverages (such as cocoa & coffee) available for purchase!\nOnline Registration: Coming Soon!
URL:https://livenewcanaan.org/event/new-canaan-nature-centers-winter-wonderland-3/
LOCATION:New Canaan Nature Center\, 144 Oenoke Ridge\, New Canaan\, CT\, United States
CATEGORIES:Family Friendly Events,New Canaan Nature Center Events
ATTACH;FMTTYPE=image/png:https://livenewcanaan.org/wp-content/uploads/2023/12/Winter-Wonderland-nwHfFL.tmp_.png
END:VEVENT
BEGIN:VEVENT
DTSTART;TZID=America/New_York:20231216T110000
DTEND;TZID=America/New_York:20231216T140000
DTSTAMP:20260424T210909
CREATED:20231204T114629Z
LAST-MODIFIED:20231204T114629Z
UID:13016-1702724400-1702735200@livenewcanaan.org
SUMMARY:New Canaan Nature Center's Winter Wonderland
DESCRIPTION:Come and be transported into a whole new world as the New Canaan Nature Center transforms into a Winter Wonderland filled with fun and exciting winter holiday activities for the entire family. We hope you will join us to enjoy the warm festive feel the Nature Center puts on this time of year!\nYou won’t want to miss:\n*Visits & photos with Santa\n*Holiday Trains – our giant model train depicts the town of New Canaan and more!\n*Campfire complete with marshmallow roasting\n*Gingerbread cookie decorating\n*Holiday Crafts for kids\n*Reindeer Games: ring the reindeer antlers\, feed the snowman\, and more!\n*Wacky Winterland scavenger hunt\n*“Red & Green Cafe” with grilled cheese\, hot dogs\, & hot beverages (such as cocoa & coffee) available for purchase!\nAlso back by popular demand: Take a ride on a Roaming Railroad!\n(Additional $5/person) – Perfect for ALL ages!\nRegistration Information:\n*Pre-registration required!\n*All attendees (children + adults) must purchase a ticket.\nGeneral Admission: $15/person\nRoaming Railroad Rides: $5/person
URL:https://livenewcanaan.org/event/new-canaan-nature-centers-winter-wonderland-4/
LOCATION:New Canaan Nature Center\, 144 Oenoke Ridge\, New Canaan\, CT\, United States
CATEGORIES:Family Friendly Events,New Canaan Nature Center Events
ATTACH;FMTTYPE=image/jpeg:https://livenewcanaan.org/wp-content/uploads/2023/12/Winter-Wonderland-2023-umxEUg.tmp_.jpg
END:VEVENT
END:VCALENDAR