BEGIN:VCALENDAR
VERSION:2.0
PRODID:-//LiveNewCanaan - ECPv6.15.18//NONSGML v1.0//EN
CALSCALE:GREGORIAN
METHOD:PUBLISH
X-WR-CALNAME:LiveNewCanaan
X-ORIGINAL-URL:https://livenewcanaan.org
X-WR-CALDESC:Events for LiveNewCanaan
REFRESH-INTERVAL;VALUE=DURATION:PT1H
X-Robots-Tag:noindex
X-PUBLISHED-TTL:PT1H
BEGIN:VTIMEZONE
TZID:America/New_York
BEGIN:DAYLIGHT
TZOFFSETFROM:-0500
TZOFFSETTO:-0400
TZNAME:EDT
DTSTART:20220313T070000
END:DAYLIGHT
BEGIN:STANDARD
TZOFFSETFROM:-0400
TZOFFSETTO:-0500
TZNAME:EST
DTSTART:20221106T060000
END:STANDARD
BEGIN:DAYLIGHT
TZOFFSETFROM:-0500
TZOFFSETTO:-0400
TZNAME:EDT
DTSTART:20230312T070000
END:DAYLIGHT
BEGIN:STANDARD
TZOFFSETFROM:-0400
TZOFFSETTO:-0500
TZNAME:EST
DTSTART:20231105T060000
END:STANDARD
BEGIN:DAYLIGHT
TZOFFSETFROM:-0500
TZOFFSETTO:-0400
TZNAME:EDT
DTSTART:20240310T070000
END:DAYLIGHT
BEGIN:STANDARD
TZOFFSETFROM:-0400
TZOFFSETTO:-0500
TZNAME:EST
DTSTART:20241103T060000
END:STANDARD
END:VTIMEZONE
BEGIN:VEVENT
DTSTART;TZID=America/New_York:20231001T090000
DTEND;TZID=America/New_York:20231001T120000
DTSTAMP:20260425T004245
CREATED:20230927T090550Z
LAST-MODIFIED:20230927T090550Z
UID:12593-1696150800-1696161600@livenewcanaan.org
SUMMARY:New Canaan Combine
DESCRIPTION:Join us at Dunning Stadium where the New Canaan Police Department and New Canaan Fire Department will compete head-to-head in an athletic combine competition to benefit the Gracie Fund for Pediatric Cancer. Admission is free.
URL:https://livenewcanaan.org/event/new-canaan-combine/
LOCATION:Dunning Stadium\, New Canaan High School\, New Canaan\, CT\, 06840
CATEGORIES:Family Friendly Events,For Children,Health Education,New Canaan Library Event
ATTACH;FMTTYPE=image/png:https://livenewcanaan.org/wp-content/uploads/2023/09/NCC-combined-logo-for-social-media-KKhhJh.tmp_.png
END:VEVENT
BEGIN:VEVENT
DTSTART;TZID=America/New_York:20231007T140000
DTEND;TZID=America/New_York:20231007T200000
DTSTAMP:20260425T004245
CREATED:20230927T090607Z
LAST-MODIFIED:20230927T090607Z
UID:12625-1696687200-1696708800@livenewcanaan.org
SUMMARY:First County Bank Indoor Sports Festival at BV Sports Academy
DESCRIPTION:“Filling in the Blanks is the beneficiary of an extraordinary indoor bounce extravaganza\, proudly hosted by First County Bank at Bobby Valentine’s Sports Academy! We are thrilled to partner with esteemed sponsors such as Yellow Brick Real Estate\, Evolution Fitness\, St. Luke’s Private School\, JA Elite Soccer\, EB222 Catering\, and Minchin Dealership. Enjoy games\, win prizes\, eat\, and have a chance to win a truck! Do not miss your opportunity for family fun to benefit the children of our communities!
URL:https://livenewcanaan.org/event/first-county-bank-indoor-sports-festival-at-bv-sports-academy/
LOCATION:Bobby Valentine’s Sports Academy\, 4 Largo Drive\, Stamford\, CT\, 06907
CATEGORIES:Family Friendly Events
ATTACH;FMTTYPE=image/png:https://livenewcanaan.org/wp-content/uploads/2023/09/Screen-Shot-2023-08-01-at-8.27.28-AM-EAnsqY.tmp_.png
ORGANIZER;CN="Filling in the Blanks":MAILTO:sknight@fillingintheblanks.org
END:VEVENT
BEGIN:VEVENT
DTSTART;TZID=America/New_York:20231020T170000
DTEND;TZID=America/New_York:20231020T200000
DTSTAMP:20260425T004245
CREATED:20231011T111737Z
LAST-MODIFIED:20231020T124842Z
UID:12731-1697821200-1697832000@livenewcanaan.org
SUMMARY:Pumpkin Fest at New Canaan Library
DESCRIPTION:New Canaan Library invites all to display their creativity at the Annual Pumpkin Fest Carving Contest and Stroll!\nThe Library’s Schubert Children’s Garden will be ablaze with jack-o-lanterns on the evening of Friday\, October 20\, 5-8 pm! Children and adults of all ages can purchase and carve a pumpkin for display in the garden\, which will be transformed into a spooktacular spectacle.\nTo kick off the stroll\, Ms. Marie will lead a special spooky storytime! Prizes will be awarded for Best in Show for Children\, Teens\, and Adults\, Funniest\, and Scariest Jack-o-Lanterns. All proceeds will benefit New Canaan Library’s Family Services and Rees Family Children’s Room.\nFor full details on how to purchase a pumpkin and participate: https://newcanaanlibrary.org/event/pumpkin-fest-carving-contest-and-stroll
URL:https://livenewcanaan.org/event/pumpkin-fest-at-new-canaan-library/
LOCATION:New Canaan Library\, 151 Main St\, New Canaan\, CT\, United States
CATEGORIES:Family Friendly Events,New Canaan Library Event
ATTACH;FMTTYPE=image/png:https://livenewcanaan.org/wp-content/uploads/2023/10/Pumpkinfest-23-rB0Iv2.tmp_.png
ORGANIZER;CN="New Canaan Library":MAILTO:kblance@newcanaanlibrary.org
END:VEVENT
BEGIN:VEVENT
DTSTART;TZID=America/New_York:20231021T110000
DTEND;TZID=America/New_York:20231021T170000
DTSTAMP:20260425T004245
CREATED:20231020T124842Z
LAST-MODIFIED:20231020T124842Z
UID:12778-1697886000-1697907600@livenewcanaan.org
SUMMARY:Bluemercury New Canaan Exclusive Chantecaille Event
DESCRIPTION:Join us at the Bluemercury New Canaan Store this Saturday\, October 21st from 11 AM to 5 PM for an exclusive event hosted by Chantecaille. Meet Alex Chantecaille\, Chief Commerical Offer and beloved family member of the founders. Learn about the inspiration behind the innovative holiday collection and the brand’s philanthropic mission that connects the collection. Learn more and book an appointment on our events page. Register now to secure your spot!\nYou will receive:\nA Revitalizing Eye Lift: Experience an exclusive treatment using Chantecaille facial machine combining Chantecaille’s botanical skincare and a special massage to reduce puffiness and darkness.\nFestive Makeup Tutorial: Discover how to achieve a radiant\, smooth complexion using Chantecaille’s 2023 Holiday Collection.\nReceive a luxury gift with purchase of $200 more.
URL:https://livenewcanaan.org/event/bluemercury-new-canaan-exclusive-chantecaille-event/
LOCATION:Bluemercury
CATEGORIES:Family Friendly Events
ATTACH;FMTTYPE=image/jpeg:https://livenewcanaan.org/wp-content/uploads/2023/10/Facebook-Post-no-logo-JmFiYe.tmp_.jpg
END:VEVENT
BEGIN:VEVENT
DTSTART;TZID=America/New_York:20231028T080000
DTEND;TZID=America/New_York:20231111T140000
DTSTAMP:20260425T004245
CREATED:20231020T124848Z
LAST-MODIFIED:20231109T141207Z
UID:12801-1698480000-1699711200@livenewcanaan.org
SUMMARY:S.T.A.R “Through Your Looking Glass” Fairfield County Social Justice Student Art Showcase
DESCRIPTION:Stand Together Against Racism (S.T.A.R.)\, in partnership with The Glass House and the Carriage Barn Arts Center announces its 2nd annual student “Through Your Looking Glass” Art Showcase that seeks to recognize the role of art\, design and/or architecture in advancing social justice through the lens of inclusion\, equity and diversity.\nStudents in all grades from all towns in Fairfield County are invited to create and submit art that reflects the social justice topics that matter most to them today. Each piece of art will include a brief story about the meaning of the art\, told from the student’s lens. Interested students should visit the S.T.A.R website for more information and required registration forms.\nAll art will be featured at an opening reception at the New Canaan Carriage Barn in October 28 from 12pm-2pm and will remain on view until November 11. Event is free to attend and all are invited.
URL:https://livenewcanaan.org/event/s-t-a-r-through-your-looking-glass-fairfield-county-social-justice-student-art-showcase/
LOCATION:Carriage Barn Arts Center
CATEGORIES:Carriage Barn Arts Center Event,Family Friendly Events,Glass House Event
ATTACH;FMTTYPE=image/jpeg:https://livenewcanaan.org/wp-content/uploads/2023/10/STAR-Looking-Glass-23_v2-scaled-VhAAkr.tmp_.jpg
ORGANIZER;CN="Stand Together Against Racism":MAILTO:fniang@wpsir.com
END:VEVENT
BEGIN:VEVENT
DTSTART;TZID=America/New_York:20231028T173000
DTEND;TZID=America/New_York:20231028T210000
DTSTAMP:20260425T004245
CREATED:20231020T124853Z
LAST-MODIFIED:20231020T124853Z
UID:12805-1698514200-1698526800@livenewcanaan.org
SUMMARY:New Canaan Nature Center's Halloween Spooktacular
DESCRIPTION:Halloween Spooktacular 2023\nSaturday\, October 28th\n5:30pm – 7:00pm OR 7:30pm – 9:00pm\nGet into the Halloween spirit by joining us for this spooktacular celebration\, NCNC-style. Learn about and meet some fiendish friends who remind us of All Hallows Eve (spiders\, snakes\, owls\, & more)\, enjoy making some creepy crafts\, and roast a marshmallow while sharing spooky stories around a cackling (erm\, we mean crackling) campfire! Top off the evening with our one-of-a-kind jack-o-lantern experience and you will be destined to have a dreadfully wicked evening!\nCostumes encouraged & welcome!\nOnline Registration: Coming Soon\n$15/person
URL:https://livenewcanaan.org/event/new-canaan-nature-centers-halloween-spooktacular-2/
LOCATION:New Canaan Nature Center\, 144 Oenoke Ridge Road\, New Canaan\, CT\, 06840\, United States
CATEGORIES:Family Friendly Events,New Canaan Nature Center Events
ATTACH;FMTTYPE=image/png:https://livenewcanaan.org/wp-content/uploads/2023/10/Halloween-Spooktacular-Instagram-Post-Square-BM3HN5.tmp_.png
END:VEVENT
BEGIN:VEVENT
DTSTART;TZID=America/New_York:20231029T120000
DTEND;TZID=America/New_York:20231029T140000
DTSTAMP:20260425T004245
CREATED:20231020T124855Z
LAST-MODIFIED:20231020T124855Z
UID:12808-1698580800-1698588000@livenewcanaan.org
SUMMARY:Halloween Block Party
DESCRIPTION:Save The Date
URL:https://livenewcanaan.org/event/halloween-block-party/
LOCATION:Elm Street\, Elm Street-under the clock\, New Canaan\, CT\, 06840
CATEGORIES:Family Friendly Events,For Children
ATTACH;FMTTYPE=image/jpeg:https://livenewcanaan.org/wp-content/uploads/2023/10/NCCC-Halloween-BlockParty-PROMO-square-04202022-sU4Cru.tmp_.jpg
ORGANIZER;CN="New Canaan Chamber of Commerce":MAILTO:tucker@newcanaanchamber.com
END:VEVENT
END:VCALENDAR