BEGIN:VCALENDAR
VERSION:2.0
PRODID:-//LiveNewCanaan - ECPv6.15.18//NONSGML v1.0//EN
CALSCALE:GREGORIAN
METHOD:PUBLISH
X-WR-CALNAME:LiveNewCanaan
X-ORIGINAL-URL:https://livenewcanaan.org
X-WR-CALDESC:Events for LiveNewCanaan
REFRESH-INTERVAL;VALUE=DURATION:PT1H
X-Robots-Tag:noindex
X-PUBLISHED-TTL:PT1H
BEGIN:VTIMEZONE
TZID:America/New_York
BEGIN:DAYLIGHT
TZOFFSETFROM:-0500
TZOFFSETTO:-0400
TZNAME:EDT
DTSTART:20210314T070000
END:DAYLIGHT
BEGIN:STANDARD
TZOFFSETFROM:-0400
TZOFFSETTO:-0500
TZNAME:EST
DTSTART:20211107T060000
END:STANDARD
BEGIN:DAYLIGHT
TZOFFSETFROM:-0500
TZOFFSETTO:-0400
TZNAME:EDT
DTSTART:20220313T070000
END:DAYLIGHT
BEGIN:STANDARD
TZOFFSETFROM:-0400
TZOFFSETTO:-0500
TZNAME:EST
DTSTART:20221106T060000
END:STANDARD
BEGIN:DAYLIGHT
TZOFFSETFROM:-0500
TZOFFSETTO:-0400
TZNAME:EDT
DTSTART:20230312T070000
END:DAYLIGHT
BEGIN:STANDARD
TZOFFSETFROM:-0400
TZOFFSETTO:-0500
TZNAME:EST
DTSTART:20231105T060000
END:STANDARD
END:VTIMEZONE
BEGIN:VEVENT
DTSTART;TZID=America/New_York:20220921T180000
DTEND;TZID=America/New_York:20220921T200000
DTSTAMP:20260423T073401
CREATED:20220905T131855Z
LAST-MODIFIED:20220905T131855Z
UID:10730-1663783200-1663790400@livenewcanaan.org
SUMMARY:A Conversation with Alice Elliot Dark\, Author of Fellowship Point
DESCRIPTION:New Canaan Library and Elm Street Books are pleased to present an evening with author Alice Elliot Dark. Please join them on Wednesday\, September 21st at 6PM at The Country Club of New Canaan for a cocktail hour conversation with Ms. Dark and her editor\, Marysue Rucci. The conversation will center on Ms. Dark’s most recent novel\, Fellowship Point. Tickets are available at elmstreetbooks.com. \nA beautifully woven\, multilayered narrative\, Fellowship Point tells the story of a lifelong friendship between Agnes Lee and Polly Garner. Two very different women with shared histories and buried secrets\, they are tested in the twilight of their lives to determine the fate of their shared idyllic property\, on Fellowship Point\, Maine. \nAlice Elliott Dark is the author of the novels Fellowship Point and Think of England\, and two collections of short stories\, In The Gloaming and Naked to the Waist. Her work has appeared in\, among others\, The New Yorker\, Harper’s\, DoubleTake\, Ploughshares\, A Public Space\, Best American Short Stories\, Prize Stories: The O.Henry Awards\, and has been translated into many languages. “In the Gloaming\,” a story\, was chosen by John Updike for inclusion in The Best American Short Stories of The Century and was made into films by HBO and Trinity Playhouse. Her non-fiction reviews and essays have appeared in The New York Times\, The Washington Post\, and many anthologies. She is a recipient of a fellowship from the National Endowment for the Arts and an Associate Professor at Rutgers-Newark in the English department and the MFA program.
URL:https://livenewcanaan.org/event/a-conversation-with-alice-elliot-dark-author-of-fellowship-point/
LOCATION:Country Club of New Canaan\, 95 Country Club Rd\, New Canaan\, CT\, United States
CATEGORIES:Elm Street Books Events
ATTACH;FMTTYPE=image/png:https://livenewcanaan.org/wp-content/uploads/2022/09/Fellowship-point-image-ajpARu.tmp_.png
ORGANIZER;CN="New Canaan Library + Elm Street Books":MAILTO:onlineref@newcanaanlibrary.org
END:VEVENT
END:VCALENDAR