BEGIN:VCALENDAR
VERSION:2.0
PRODID:-//LiveNewCanaan - ECPv6.15.18//NONSGML v1.0//EN
CALSCALE:GREGORIAN
METHOD:PUBLISH
X-ORIGINAL-URL:https://livenewcanaan.org
X-WR-CALDESC:Events for LiveNewCanaan
REFRESH-INTERVAL;VALUE=DURATION:PT1H
X-Robots-Tag:noindex
X-PUBLISHED-TTL:PT1H
BEGIN:VTIMEZONE
TZID:America/New_York
BEGIN:DAYLIGHT
TZOFFSETFROM:-0500
TZOFFSETTO:-0400
TZNAME:EDT
DTSTART:20240310T070000
END:DAYLIGHT
BEGIN:STANDARD
TZOFFSETFROM:-0400
TZOFFSETTO:-0500
TZNAME:EST
DTSTART:20241103T060000
END:STANDARD
BEGIN:DAYLIGHT
TZOFFSETFROM:-0500
TZOFFSETTO:-0400
TZNAME:EDT
DTSTART:20250309T070000
END:DAYLIGHT
BEGIN:STANDARD
TZOFFSETFROM:-0400
TZOFFSETTO:-0500
TZNAME:EST
DTSTART:20251102T060000
END:STANDARD
BEGIN:DAYLIGHT
TZOFFSETFROM:-0500
TZOFFSETTO:-0400
TZNAME:EDT
DTSTART:20260308T070000
END:DAYLIGHT
BEGIN:STANDARD
TZOFFSETFROM:-0400
TZOFFSETTO:-0500
TZNAME:EST
DTSTART:20261101T060000
END:STANDARD
END:VTIMEZONE
BEGIN:VEVENT
DTSTART;TZID=America/New_York:20250907T150000
DTEND;TZID=America/New_York:20250907T170000
DTSTAMP:20260422T232618
CREATED:20250830T110043Z
LAST-MODIFIED:20250830T110043Z
UID:14903-1757257200-1757264400@livenewcanaan.org
SUMMARY:Annual Member Show Opening the Carriage Barn Arts Center
DESCRIPTION:The 2025/26 season begins with the Annual Member Show\, celebrating the range\, interests\, and talents of artist members working across all subjects\, styles\, and media. The opening reception will take place on Sunday Sept. 7 from 3-5pm.nAll are welcome. nEach year\, one piece is awarded the Betty Barker Award and a $250 prize. The award was established in 2017 in honor of Betty Barker (1920-1997)\, a prolific and accomplished artist who was one of the driving forces in establishing the Carriage Barn Arts Center. nOther events taking place during the exhibition period: nGallery Artist Talk: Saturday\, September 13 from 10:30am-Noonn“Paint To Promo” Marketing Workshop for Creatives with Lauren Clayton: Saturday\, September 20 from 10:30-1:30pm (please register)nWaveny Park Arts Festival: Sunday\, September 28\, 10am-4pmnCarriage Barn Annual Meeting: Wednesday\, October 8 at 6:30pm n2025 Annual Member Show
URL:https://livenewcanaan.org/event/annual-member-show-opening-the-carriage-barn-arts-center/
LOCATION:Carriage Barn Arts Center
CATEGORIES:Carriage Barn Arts Center Event
END:VEVENT
END:VCALENDAR