BEGIN:VCALENDAR
VERSION:2.0
PRODID:-//LiveNewCanaan - ECPv6.15.18//NONSGML v1.0//EN
CALSCALE:GREGORIAN
METHOD:PUBLISH
X-ORIGINAL-URL:https://livenewcanaan.org
X-WR-CALDESC:Events for LiveNewCanaan
REFRESH-INTERVAL;VALUE=DURATION:PT1H
X-Robots-Tag:noindex
X-PUBLISHED-TTL:PT1H
BEGIN:VTIMEZONE
TZID:America/New_York
BEGIN:DAYLIGHT
TZOFFSETFROM:-0500
TZOFFSETTO:-0400
TZNAME:EDT
DTSTART:20240310T070000
END:DAYLIGHT
BEGIN:STANDARD
TZOFFSETFROM:-0400
TZOFFSETTO:-0500
TZNAME:EST
DTSTART:20241103T060000
END:STANDARD
BEGIN:DAYLIGHT
TZOFFSETFROM:-0500
TZOFFSETTO:-0400
TZNAME:EDT
DTSTART:20250309T070000
END:DAYLIGHT
BEGIN:STANDARD
TZOFFSETFROM:-0400
TZOFFSETTO:-0500
TZNAME:EST
DTSTART:20251102T060000
END:STANDARD
BEGIN:DAYLIGHT
TZOFFSETFROM:-0500
TZOFFSETTO:-0400
TZNAME:EDT
DTSTART:20260308T070000
END:DAYLIGHT
BEGIN:STANDARD
TZOFFSETFROM:-0400
TZOFFSETTO:-0500
TZNAME:EST
DTSTART:20261101T060000
END:STANDARD
END:VTIMEZONE
BEGIN:VEVENT
DTSTART;TZID=America/New_York:20250228T183000
DTEND;TZID=America/New_York:20250228T200000
DTSTAMP:20260423T103606
CREATED:20250207T124036Z
LAST-MODIFIED:20250217T065752Z
UID:14813-1740767400-1740772800@livenewcanaan.org
SUMMARY:Paint with Your Partner at the Carriage Barn
DESCRIPTION:Friday\, February 28 from 6:30-8pm\nMix up your date night & come explore your creativity at the Carriage Barn with artist Justin Cox!\nJustin will lead this fun and engaging event for couples and friends. Work together or separately to create art inspired by the energy and movement of the ocean… no art experience required\, all materials provided.\nJustin is an abstract artist fueled by surfing\, music\, art and fashion. His work has been featured in Vogue\, Esquire and Harper’s Bazaar\, the Tommy Hilfiger flagship stores and more.
URL:https://livenewcanaan.org/event/paint-with-your-partner-at-the-carriage-barn/
LOCATION:Carriage Barn Arts Center
CATEGORIES:Carriage Barn Arts Center Event
ORGANIZER;CN="Carriage Barn Arts Center":MAILTO:admin@carriagebarn.org
END:VEVENT
END:VCALENDAR