BEGIN:VCALENDAR
VERSION:2.0
PRODID:-//LiveNewCanaan - ECPv6.15.18//NONSGML v1.0//EN
CALSCALE:GREGORIAN
METHOD:PUBLISH
X-WR-CALNAME:LiveNewCanaan
X-ORIGINAL-URL:https://livenewcanaan.org
X-WR-CALDESC:Events for LiveNewCanaan
REFRESH-INTERVAL;VALUE=DURATION:PT1H
X-Robots-Tag:noindex
X-PUBLISHED-TTL:PT1H
BEGIN:VTIMEZONE
TZID:America/New_York
BEGIN:DAYLIGHT
TZOFFSETFROM:-0500
TZOFFSETTO:-0400
TZNAME:EDT
DTSTART:20230312T070000
END:DAYLIGHT
BEGIN:STANDARD
TZOFFSETFROM:-0400
TZOFFSETTO:-0500
TZNAME:EST
DTSTART:20231105T060000
END:STANDARD
BEGIN:DAYLIGHT
TZOFFSETFROM:-0500
TZOFFSETTO:-0400
TZNAME:EDT
DTSTART:20240310T070000
END:DAYLIGHT
BEGIN:STANDARD
TZOFFSETFROM:-0400
TZOFFSETTO:-0500
TZNAME:EST
DTSTART:20241103T060000
END:STANDARD
BEGIN:DAYLIGHT
TZOFFSETFROM:-0500
TZOFFSETTO:-0400
TZNAME:EDT
DTSTART:20250309T070000
END:DAYLIGHT
BEGIN:STANDARD
TZOFFSETFROM:-0400
TZOFFSETTO:-0500
TZNAME:EST
DTSTART:20251102T060000
END:STANDARD
END:VTIMEZONE
BEGIN:VEVENT
DTSTART;TZID=America/New_York:20241103T130000
DTEND;TZID=America/New_York:20241103T170000
DTSTAMP:20260423T151929
CREATED:20241028T105657Z
LAST-MODIFIED:20241031T121831Z
UID:14561-1730638800-1730653200@livenewcanaan.org
SUMMARY:Edward Keating: A Fearless Legacy Photography Exhibition of the Pulitzer Prize-Winning Photographer
DESCRIPTION:The Carriage Barn Arts Center presents Edward Keating: A Fearless Legacy Photography Exhibition of the Pulitzer prize-winning photographer from New Canaan October 12 – November 13\, 2024\nThis new exhibition highlights the late Pulitzer-prize winning photographer’s 40-year career\, as well as his connection to New Canaan\, CT.  Curated with members of the photographer’s family\, this first-ever retrospective features 80 photographs and additional archival materials that offer insight into Keating’s career and life as a photographer.  The exhibition spans decades of his work and features editioned estate prints as well as rare and unique vintage silver gelatins printed by Keating that are available for sale.  \nBorn in 1956 and raised in New Canaan\, CT\, Edward Keating moved to New York City in 1981 to become a photographer. He taught himself how to photograph by chronicling  the street life of everyday New Yorkers.\nHired as a Staff Photographer at The New York Times in 1991\, he covered national and international news. He was also a regular contributor to the Sunday New York Times Magazine. In addition\, he co-founded the “Vows” wedding column. In 2002\, Keating won the Pulitzer Prize for his coverage on the attacks of 9/11. He additionally shared the 2000 Pulitzer Prize for National Reporting with New York Times staff for the series\, “How Race is Lived in America.”  After leaving the Times in 2002\, he became a regular contributor to New York Magazine\, Rolling Stone Magazine\, Vanity Fair and Time. \nFrom Kosovo to Crown Heights\, Keating often put himself in the center of highly charged conflicts – ignoring the dangers — to best capture the emotion\, devastation and humanity with his camera. Keating’s camera stayed around his neck until the very end. At just 65 years of age\, he  passed away in September 2021\, as a result of many months of long exposure to toxic material while covering 9/11 at Ground Zero.\nThe Carriage Barn Arts Center is located in New Canaan’s Waveny Park\, hours are Wednesday-Saturday 10am-3pm and Sunday 1-5pm.  Visit carriagebarn.org for more information.
URL:https://livenewcanaan.org/event/edward-keating-a-fearless-legacy-photography-exhibition-of-the-pulitzer-prize-winning-photographer-3/
LOCATION:Carriage Barn Arts Center
CATEGORIES:Carriage Barn Arts Center Event
ATTACH;FMTTYPE=image/jpeg:https://livenewcanaan.org/wp-content/uploads/2024/10/KeatingImage1-1-oEny6Y.tmp_.jpg
ORGANIZER;CN="Carriage Barn Arts Center":MAILTO:admin@carriagebarn.org
END:VEVENT
BEGIN:VEVENT
DTSTART;TZID=America/New_York:20241110T130000
DTEND;TZID=America/New_York:20241110T170000
DTSTAMP:20260423T151929
CREATED:20241028T105659Z
LAST-MODIFIED:20241031T121835Z
UID:14569-1731243600-1731258000@livenewcanaan.org
SUMMARY:Edward Keating: A Fearless Legacy Photography Exhibition of the Pulitzer Prize-Winning Photographer
DESCRIPTION:The Carriage Barn Arts Center presents Edward Keating: A Fearless Legacy Photography Exhibition of the Pulitzer prize-winning photographer from New Canaan October 12 – November 13\, 2024\nThis new exhibition highlights the late Pulitzer-prize winning photographer’s 40-year career\, as well as his connection to New Canaan\, CT.  Curated with members of the photographer’s family\, this first-ever retrospective features 80 photographs and additional archival materials that offer insight into Keating’s career and life as a photographer.  The exhibition spans decades of his work and features editioned estate prints as well as rare and unique vintage silver gelatins printed by Keating that are available for sale.  \nBorn in 1956 and raised in New Canaan\, CT\, Edward Keating moved to New York City in 1981 to become a photographer. He taught himself how to photograph by chronicling  the street life of everyday New Yorkers.\nHired as a Staff Photographer at The New York Times in 1991\, he covered national and international news. He was also a regular contributor to the Sunday New York Times Magazine. In addition\, he co-founded the “Vows” wedding column. In 2002\, Keating won the Pulitzer Prize for his coverage on the attacks of 9/11. He additionally shared the 2000 Pulitzer Prize for National Reporting with New York Times staff for the series\, “How Race is Lived in America.”  After leaving the Times in 2002\, he became a regular contributor to New York Magazine\, Rolling Stone Magazine\, Vanity Fair and Time. \nFrom Kosovo to Crown Heights\, Keating often put himself in the center of highly charged conflicts – ignoring the dangers — to best capture the emotion\, devastation and humanity with his camera. Keating’s camera stayed around his neck until the very end. At just 65 years of age\, he  passed away in September 2021\, as a result of many months of long exposure to toxic material while covering 9/11 at Ground Zero.\nThe Carriage Barn Arts Center is located in New Canaan’s Waveny Park\, hours are Wednesday-Saturday 10am-3pm and Sunday 1-5pm.  Visit carriagebarn.org for more information.
URL:https://livenewcanaan.org/event/edward-keating-a-fearless-legacy-photography-exhibition-of-the-pulitzer-prize-winning-photographer-4/
LOCATION:Carriage Barn Arts Center
CATEGORIES:Carriage Barn Arts Center Event
ATTACH;FMTTYPE=image/jpeg:https://livenewcanaan.org/wp-content/uploads/2024/10/KeatingImage1-1-oEny6Y.tmp_.jpg
ORGANIZER;CN="Carriage Barn Arts Center":MAILTO:admin@carriagebarn.org
END:VEVENT
BEGIN:VEVENT
DTSTART;TZID=America/New_York:20241121T173000
DTEND;TZID=America/New_York:20241121T210000
DTSTAMP:20260423T151929
CREATED:20241028T105704Z
LAST-MODIFIED:20241031T121838Z
UID:14573-1732210200-1732222800@livenewcanaan.org
SUMMARY:Blossom Hill Holiday Bazaar
DESCRIPTION:Blossom Hill Hosts Holiday Bazaar Fundraiser\nNew Canaan\, CT: Blossom Hill will hold its second Holiday Bazaar on November 21\, 2024 from 5:30 pm to 9 pm at the Carriage Barn Arts Center in New Canaan. This family-friendly event features gift shopping\, festive treats\, cocktails\, and live music to support Blossom Hill’s mission of providing education for peace to displaced and at-risk children and youth globally.\n“Blossom Hill’s impact continues to grow\, with 14 critical education programs now serving vulnerable children in 6 countries\, from Afghanistan to Syria\, including our efforts here in Connecticut\,” said Blossom Hill Founder and CEO Shiva Sarram. “Our initiatives span from early childhood development to vocational training\, each designed to empower and transform young lives in underserved communities. In response to recent events\, we’ve also expanded our reach to support children affected by conflicts in regions like Gaza and Israel. These programs are often the first of their kind in the areas they serve\, offering education\, stability\, and hope to\nchildren in crisis\, wherever they may be.”\nWhat: Blossom Hill Holiday Bazaar\nWhen: Thursday\, November 21\, 2024\, 5:30 pm – 9:00 pm\nWhere: Carriage Barn Arts Center\, 681 South Ave\, New Canaan\, CT\nTickets: https://blossomhill-foundation.org/bazaar/\nJoin the Blossom Hill family for a festive evening of community\, music\, and empowering children\nand youth to build a more just world.\n_______________________________________________________________________\nBlossom Hill is a 501(c)3 non-profit organization based in New Canaan\, CT. Founded in 2009\, it has been on the forefront of the refugee crisis\, working tirelessly to create positive change and uplift communities. Its mission is to implement innovative programs that empower children affected by conflict in the Middle East. To date\, Blossom Hill has reached over 130\,000 children and youth in 25 countries with multiple initiatives through a Fellowship Program for Social Entrepreneurs. This model provides a multi-layered impact on both our fellows’ growth and development and positive change in displaced communities.
URL:https://livenewcanaan.org/event/blossom-hill-holiday-bazaar/
LOCATION:Carriage Barn Arts Center
CATEGORIES:Carriage Barn Arts Center Event
ATTACH;FMTTYPE=image/png:https://livenewcanaan.org/wp-content/uploads/2024/10/BH-Holiday-Bazaar-pNIlzw.tmp_.png
ORGANIZER;CN="Blossom Hill Foundation":MAILTO:rnimroody@blossomhill-foundation.org
END:VEVENT
END:VCALENDAR