BEGIN:VCALENDAR
VERSION:2.0
PRODID:-//LiveNewCanaan - ECPv6.15.18//NONSGML v1.0//EN
CALSCALE:GREGORIAN
METHOD:PUBLISH
X-ORIGINAL-URL:https://livenewcanaan.org
X-WR-CALDESC:Events for LiveNewCanaan
REFRESH-INTERVAL;VALUE=DURATION:PT1H
X-Robots-Tag:noindex
X-PUBLISHED-TTL:PT1H
BEGIN:VTIMEZONE
TZID:America/New_York
BEGIN:DAYLIGHT
TZOFFSETFROM:-0500
TZOFFSETTO:-0400
TZNAME:EDT
DTSTART:20230312T070000
END:DAYLIGHT
BEGIN:STANDARD
TZOFFSETFROM:-0400
TZOFFSETTO:-0500
TZNAME:EST
DTSTART:20231105T060000
END:STANDARD
BEGIN:DAYLIGHT
TZOFFSETFROM:-0500
TZOFFSETTO:-0400
TZNAME:EDT
DTSTART:20240310T070000
END:DAYLIGHT
BEGIN:STANDARD
TZOFFSETFROM:-0400
TZOFFSETTO:-0500
TZNAME:EST
DTSTART:20241103T060000
END:STANDARD
BEGIN:DAYLIGHT
TZOFFSETFROM:-0500
TZOFFSETTO:-0400
TZNAME:EDT
DTSTART:20250309T070000
END:DAYLIGHT
BEGIN:STANDARD
TZOFFSETFROM:-0400
TZOFFSETTO:-0500
TZNAME:EST
DTSTART:20251102T060000
END:STANDARD
END:VTIMEZONE
BEGIN:VEVENT
DTSTART;TZID=America/New_York:20240413T093000
DTEND;TZID=America/New_York:20240413T123000
DTSTAMP:20260424T035836
CREATED:20240329T072728Z
LAST-MODIFIED:20240408T103259Z
UID:13738-1713000600-1713011400@livenewcanaan.org
SUMMARY:Painting with Color & Emotion workshop with Katie Southworth at the Carriage Barn Arts Center
DESCRIPTION:Join artist Katie Southworth and embark on a creative journey exploring the healing power of color\nExperiment with strokes on canvas and\nconnect color to your emotions\, memories\, and positive manifestations. Create your own piece of art while Katie helps guide you through the art of painting as a medium for self-discovery.\nConnect with yourself and others during this morning workshop while using the language of color to delve into expressions of emotions and symbolism.\nKatie is the author of a new book “Dr. Roy G. Biv; Healing from Trauma One Colorful Painting at a Time\, An Artist’s Journey to Hope and Joy”\nMembers $130 / Non-members $150 (includes all materials)
URL:https://livenewcanaan.org/event/painting-with-color-emotion-workshop-with-katie-southworth-at-the-carriage-barn-arts-center/
LOCATION:Carriage Barn Arts Center
CATEGORIES:Carriage Barn Arts Center Event
ATTACH;FMTTYPE=image/jpeg:https://livenewcanaan.org/wp-content/uploads/2024/03/Katie-Southworth-pic-of-her-painting-scaled-qZyr3L.tmp_.jpg
ORGANIZER;CN="Carriage Barn Arts Center":MAILTO:admin@carriagebarn.org
END:VEVENT
END:VCALENDAR