BEGIN:VCALENDAR
VERSION:2.0
PRODID:-//LiveNewCanaan - ECPv6.15.18//NONSGML v1.0//EN
CALSCALE:GREGORIAN
METHOD:PUBLISH
X-WR-CALNAME:LiveNewCanaan
X-ORIGINAL-URL:https://livenewcanaan.org
X-WR-CALDESC:Events for LiveNewCanaan
REFRESH-INTERVAL;VALUE=DURATION:PT1H
X-Robots-Tag:noindex
X-PUBLISHED-TTL:PT1H
BEGIN:VTIMEZONE
TZID:America/New_York
BEGIN:DAYLIGHT
TZOFFSETFROM:-0500
TZOFFSETTO:-0400
TZNAME:EDT
DTSTART:20230312T070000
END:DAYLIGHT
BEGIN:STANDARD
TZOFFSETFROM:-0400
TZOFFSETTO:-0500
TZNAME:EST
DTSTART:20231105T060000
END:STANDARD
BEGIN:DAYLIGHT
TZOFFSETFROM:-0500
TZOFFSETTO:-0400
TZNAME:EDT
DTSTART:20240310T070000
END:DAYLIGHT
BEGIN:STANDARD
TZOFFSETFROM:-0400
TZOFFSETTO:-0500
TZNAME:EST
DTSTART:20241103T060000
END:STANDARD
BEGIN:DAYLIGHT
TZOFFSETFROM:-0500
TZOFFSETTO:-0400
TZNAME:EDT
DTSTART:20250309T070000
END:DAYLIGHT
BEGIN:STANDARD
TZOFFSETFROM:-0400
TZOFFSETTO:-0500
TZNAME:EST
DTSTART:20251102T060000
END:STANDARD
END:VTIMEZONE
BEGIN:VEVENT
DTSTART;TZID=America/New_York:20240125T190000
DTEND;TZID=America/New_York:20240125T200000
DTSTAMP:20260424T091040
CREATED:20240125T112420Z
LAST-MODIFIED:20240125T112420Z
UID:13270-1706209200-1706212800@livenewcanaan.org
SUMMARY:Photography of Myanmar: Art and Activism
DESCRIPTION:Award-winning photographer Emily Kelting presents an intimate view of the “most photogenic country in the world\,” with photographs of the beautiful landscape and humanity that is often missed by tourists. Through the lens of a camera\, Kelting takes us through her travels to Myanmar in January 2020\, the heartbreaking military coup in February 2021\, and the joy of the relationships she forged during her visit. Audience members will learn about Kelting’s activism through art\, and the importance of friendship that spans continents.\nEmily Kelting is an artist\, landscape designer\, writer and avid ice skater who has presented her many talents in venues around Connecticut. She is a proud exhibiting member of the Rowayton Arts Center\, Carriage Barn Art Center\, owner of her landscape company GreatScapes\, and founder of Ice Skating for Everyone.
URL:https://livenewcanaan.org/event/photography-of-myanmar-art-and-activism/
LOCATION:New Canaan Library\, 151 Main St\, New Canaan\, CT\, United States
CATEGORIES:Carriage Barn Arts Center Event,New Canaan Library Event
ATTACH;FMTTYPE=image/jpeg:https://livenewcanaan.org/wp-content/uploads/2024/01/Emily-Kelting-scaled-orNYfW.tmp_.jpg
END:VEVENT
END:VCALENDAR