BEGIN:VCALENDAR
VERSION:2.0
PRODID:-//LiveNewCanaan - ECPv6.15.18//NONSGML v1.0//EN
CALSCALE:GREGORIAN
METHOD:PUBLISH
X-ORIGINAL-URL:https://livenewcanaan.org
X-WR-CALDESC:Events for LiveNewCanaan
REFRESH-INTERVAL;VALUE=DURATION:PT1H
X-Robots-Tag:noindex
X-PUBLISHED-TTL:PT1H
BEGIN:VTIMEZONE
TZID:America/New_York
BEGIN:DAYLIGHT
TZOFFSETFROM:-0500
TZOFFSETTO:-0400
TZNAME:EDT
DTSTART:20220313T070000
END:DAYLIGHT
BEGIN:STANDARD
TZOFFSETFROM:-0400
TZOFFSETTO:-0500
TZNAME:EST
DTSTART:20221106T060000
END:STANDARD
BEGIN:DAYLIGHT
TZOFFSETFROM:-0500
TZOFFSETTO:-0400
TZNAME:EDT
DTSTART:20230312T070000
END:DAYLIGHT
BEGIN:STANDARD
TZOFFSETFROM:-0400
TZOFFSETTO:-0500
TZNAME:EST
DTSTART:20231105T060000
END:STANDARD
BEGIN:DAYLIGHT
TZOFFSETFROM:-0500
TZOFFSETTO:-0400
TZNAME:EDT
DTSTART:20240310T070000
END:DAYLIGHT
BEGIN:STANDARD
TZOFFSETFROM:-0400
TZOFFSETTO:-0500
TZNAME:EST
DTSTART:20241103T060000
END:STANDARD
END:VTIMEZONE
BEGIN:VEVENT
DTSTART;TZID=America/New_York:20231028T080000
DTEND;TZID=America/New_York:20231111T140000
DTSTAMP:20260424T123252
CREATED:20231020T124848Z
LAST-MODIFIED:20231109T141207Z
UID:12801-1698480000-1699711200@livenewcanaan.org
SUMMARY:S.T.A.R “Through Your Looking Glass” Fairfield County Social Justice Student Art Showcase
DESCRIPTION:Stand Together Against Racism (S.T.A.R.)\, in partnership with The Glass House and the Carriage Barn Arts Center announces its 2nd annual student “Through Your Looking Glass” Art Showcase that seeks to recognize the role of art\, design and/or architecture in advancing social justice through the lens of inclusion\, equity and diversity.\nStudents in all grades from all towns in Fairfield County are invited to create and submit art that reflects the social justice topics that matter most to them today. Each piece of art will include a brief story about the meaning of the art\, told from the student’s lens. Interested students should visit the S.T.A.R website for more information and required registration forms.\nAll art will be featured at an opening reception at the New Canaan Carriage Barn in October 28 from 12pm-2pm and will remain on view until November 11. Event is free to attend and all are invited.
URL:https://livenewcanaan.org/event/s-t-a-r-through-your-looking-glass-fairfield-county-social-justice-student-art-showcase/
LOCATION:Carriage Barn Arts Center
CATEGORIES:Carriage Barn Arts Center Event,Family Friendly Events,Glass House Event
ATTACH;FMTTYPE=image/jpeg:https://livenewcanaan.org/wp-content/uploads/2023/10/STAR-Looking-Glass-23_v2-scaled-VhAAkr.tmp_.jpg
ORGANIZER;CN="Stand Together Against Racism":MAILTO:fniang@wpsir.com
END:VEVENT
BEGIN:VEVENT
DTSTART;TZID=America/New_York:20231031T190000
DTEND;TZID=America/New_York:20231031T210000
DTSTAMP:20260424T123252
CREATED:20231020T124856Z
LAST-MODIFIED:20231020T124856Z
UID:12813-1698778800-1698786000@livenewcanaan.org
SUMMARY:Drop In Adult Sketch Series At The Carriage Barn
DESCRIPTION:Please join us for the new Fall Drop in Adult Sketch Series at The Carriage Barn starting Tuesday\, September 5. The series will continue every other Tuesday from 7-9pm.\nDates: September 5\, September 19\, October 3\, October 17\, November 7\, November 21.\nAll are welcome to drop-in sketch nights at the Carriage Barn\, facilitated by Vanessa Curri. Work on a different still life composition in pencil/charcoals using newsprint technique.  Accessible for all skill levels and no experience is necessary. Come work with others in a relaxed and supportive environment. If desired\, BYO snack/beverage of choice. Bring your own supplies\, pencil and kneaded erasers only please. Stools and drawing boards will be provided.\nMembers & Students / $10 Non members / $20\nDrop-In Sketch Nights
URL:https://livenewcanaan.org/event/drop-in-adult-sketch-series-at-the-carriage-barn-3/
LOCATION:Carriage Barn Arts Center
CATEGORIES:Carriage Barn Arts Center Event
ATTACH;FMTTYPE=image/jpeg:https://livenewcanaan.org/wp-content/uploads/2023/09/sketch-night-zUayPH.tmp_.jpg
ORGANIZER;CN="Carriage Barn Arts Center":MAILTO:admin@carriagebarn.org
END:VEVENT
BEGIN:VEVENT
DTSTART;TZID=America/New_York:20231113T183000
DTEND;TZID=America/New_York:20231113T210000
DTSTAMP:20260424T123252
CREATED:20231011T111738Z
LAST-MODIFIED:20231020T125304Z
UID:12733-1699900200-1699909200@livenewcanaan.org
SUMMARY:INTRODUCTION TO COPPERPLATE CALLIGRAPHY AT THE CARRIAGE BARN
DESCRIPTION:Learn to create beautiful copperplate calligraphy step-by-step in a relaxed and fun environment with Allison Costlow\, The Poppy Pen at The Carriage Barn!\nLearn how to create this elegant and classic script from simple strokes and shapes. Participants will break down all the supplies needed\, learn basic strokes\, upper- and lower-case letters\, and how to connect letters and words. Learn to mix different colored inks (including metallics!) and the basics of flourishing your letters for extra flair.\nVideo recordings of class will be available for 60 days afterwards allowing you plenty of time to perfect your skills even after the class has ended. It’s the perfect time to learn calligraphy in time for the holidays. Wow your friends and family with gorgeous hand calligraphy cards\, gifts tags\, place cards and more!\nNo previous artistic experience is necessary\, and all supplies are included.\n $80 members / $95 non members﻿  \nIntroduction to Copperplate Calligraphy
URL:https://livenewcanaan.org/event/introduction-to-copperplate-calligraphy-at-the-carriage-barn-2/
LOCATION:Carriage Barn Arts Center
CATEGORIES:Carriage Barn Arts Center Event
ORGANIZER;CN="Carriage Barn Arts Center":MAILTO:admin@carriagebarn.org
END:VEVENT
BEGIN:VEVENT
DTSTART;TZID=America/New_York:20231113T183000
DTEND;TZID=America/New_York:20231113T210000
DTSTAMP:20260424T123252
CREATED:20231109T141221Z
LAST-MODIFIED:20231109T141221Z
UID:12891-1699900200-1699909200@livenewcanaan.org
SUMMARY:Introduction To Copperplate Calligraphy At The Carriage Barn
DESCRIPTION:Learn to create beautiful copperplate calligraphy step-by-step in a relaxed and fun environment with Allison Costlow\, The Poppy Pen at The Carriage Barn!\nLearn how to create this elegant and classic script from simple strokes and shapes. Participants will break down all the supplies needed\, learn basic strokes\, upper- and lower-case letters\, and how to connect letters and words. Learn to mix different colored inks (including metallics!) and the basics of flourishing your letters for extra flair.\nVideo recordings of class will be available for 60 days afterwards allowing you plenty of time to perfect your skills even after the class has ended. It’s the perfect time to learn calligraphy in time for the holidays. Wow your friends and family with gorgeous hand calligraphy cards\, gifts tags\, place cards and more!\nNo previous artistic experience is necessary\, and all supplies are included.
URL:https://livenewcanaan.org/event/introduction-to-copperplate-calligraphy-at-the-carriage-barn-3/
LOCATION:Carriage Barn Arts Center
CATEGORIES:Carriage Barn Arts Center Event
ATTACH;FMTTYPE=image/jpeg:https://livenewcanaan.org/wp-content/uploads/2023/11/calligraphy-WcG085.tmp_.jpg
ORGANIZER;CN="Carriage Barn Arts Center":MAILTO:admin@carriagebarn.org
END:VEVENT
BEGIN:VEVENT
DTSTART;TZID=America/New_York:20231114T190000
DTEND;TZID=America/New_York:20231114T210000
DTSTAMP:20260424T123252
CREATED:20231109T141224Z
LAST-MODIFIED:20231109T141224Z
UID:12898-1699988400-1699995600@livenewcanaan.org
SUMMARY:Drop In Adult Sketch Series At The Carriage Barn
DESCRIPTION:Please join us for the new Fall Drop in Adult Sketch Series at The Carriage Barn starting Tuesday\, September 5. The series will continue every other Tuesday from 7-9pm.\nDates: September 5\, September 19\, October 3\, October 17\, November 7\, November 21.\nAll are welcome to drop-in sketch nights at the Carriage Barn\, facilitated by Vanessa Curri. Work on a different still life composition in pencil/charcoals using newsprint technique.  Accessible for all skill levels and no experience is necessary. Come work with others in a relaxed and supportive environment. If desired\, BYO snack/beverage of choice. Bring your own supplies\, pencil and kneaded erasers only please. Stools and drawing boards will be provided.\nMembers & Students / $10 Non members / $20\nDrop-In Sketch Nights
URL:https://livenewcanaan.org/event/drop-in-adult-sketch-series-at-the-carriage-barn-4/
LOCATION:Carriage Barn Arts Center
CATEGORIES:Carriage Barn Arts Center Event
ATTACH;FMTTYPE=image/jpeg:https://livenewcanaan.org/wp-content/uploads/2023/09/sketch-night-zUayPH.tmp_.jpg
ORGANIZER;CN="Carriage Barn Arts Center":MAILTO:admin@carriagebarn.org
END:VEVENT
BEGIN:VEVENT
DTSTART;TZID=America/New_York:20231115T183000
DTEND;TZID=America/New_York:20231115T200000
DTSTAMP:20260424T123252
CREATED:20231109T141225Z
LAST-MODIFIED:20231109T141225Z
UID:12901-1700073000-1700078400@livenewcanaan.org
SUMMARY:A Special Evening with Ray Isle\, Executive Wine Editor of FOOD & WINE Magazine and Justin Miller\, Owner and Wine Director of Craftbottlz at The Carriage Barn
DESCRIPTION:Join us for a presentation\, tasting and book signing of Ray’s new book The World In A Wine Glass.  Enjoy cheese pairings from Plum Plums Cheese.\nRay is an award-winning journalist and one of the world’s most dynamic wine personalities.  His new book offers an insider’s guide to artisanal\, sustainable\, extraordinary wines to drink now. Please rsvp and reserve your copy below.\nWine tasting event\, presentation & signed book $100\, additional guest $50
URL:https://livenewcanaan.org/event/a-special-evening-with-ray-isle-executive-wine-editor-of-food-wine-magazine-and-justin-miller-owner-and-wine-director-of-craftbottlz-at-the-carriage-barn/
LOCATION:Carriage Barn Arts Center
CATEGORIES:Carriage Barn Arts Center Event,The Arts
ATTACH;FMTTYPE=image/jpeg:https://livenewcanaan.org/wp-content/uploads/2023/11/Special-Wine-event-flyer-koseP7.tmp_.jpg
ORGANIZER;CN="Carriage Barn Arts Center":MAILTO:admin@carriagebarn.org
END:VEVENT
BEGIN:VEVENT
DTSTART;TZID=America/New_York:20231125T190000
DTEND;TZID=America/New_York:20231125T203000
DTSTAMP:20260424T123252
CREATED:20231109T141302Z
LAST-MODIFIED:20231109T141302Z
UID:12928-1700938800-1700944200@livenewcanaan.org
SUMMARY:Joe Bush and Friends Live In Concert At The Carriage Barn
DESCRIPTION:Experience the magic of music with an enchanting live show starring the extraordinary pianist\, Joe Bush!\nJoin us for a captivating evening filled with soulful melodies and breathtaking compositions. Joe Bush’s virtuosity on the piano is sure to leave you spellbound as he weaves musical stories that transcend time and emotion.\nIn this mesmerizing performance\, Joe Bush will enchant you with his impeccable skill and deep passion for music. Whether you’re a seasoned music lover or simply looking for a night of unforgettable entertainment\, this live show promises to be a journey through the world of piano like no other.\nPrepare to be transported to a realm where every note is a masterpiece and each chord strikes a chord in your heart. Joe Bush’s live show is an event you won’t want to miss\, so secure your tickets now and let the piano’s enchanting spell whisk you away on an unforgettable musical adventure!
URL:https://livenewcanaan.org/event/joe-bush-and-friends-live-in-concert-at-the-carriage-barn/
LOCATION:Carriage Barn Arts Center
CATEGORIES:Carriage Barn Arts Center Event
ORGANIZER;CN="Carriage Barn Arts Center":MAILTO:admin@carriagebarn.org
END:VEVENT
END:VCALENDAR