BEGIN:VCALENDAR
VERSION:2.0
PRODID:-//LiveNewCanaan - ECPv6.15.18//NONSGML v1.0//EN
CALSCALE:GREGORIAN
METHOD:PUBLISH
X-WR-CALNAME:LiveNewCanaan
X-ORIGINAL-URL:https://livenewcanaan.org
X-WR-CALDESC:Events for LiveNewCanaan
REFRESH-INTERVAL;VALUE=DURATION:PT1H
X-Robots-Tag:noindex
X-PUBLISHED-TTL:PT1H
BEGIN:VTIMEZONE
TZID:America/New_York
BEGIN:DAYLIGHT
TZOFFSETFROM:-0500
TZOFFSETTO:-0400
TZNAME:EDT
DTSTART:20220313T070000
END:DAYLIGHT
BEGIN:STANDARD
TZOFFSETFROM:-0400
TZOFFSETTO:-0500
TZNAME:EST
DTSTART:20221106T060000
END:STANDARD
BEGIN:DAYLIGHT
TZOFFSETFROM:-0500
TZOFFSETTO:-0400
TZNAME:EDT
DTSTART:20230312T070000
END:DAYLIGHT
BEGIN:STANDARD
TZOFFSETFROM:-0400
TZOFFSETTO:-0500
TZNAME:EST
DTSTART:20231105T060000
END:STANDARD
BEGIN:DAYLIGHT
TZOFFSETFROM:-0500
TZOFFSETTO:-0400
TZNAME:EDT
DTSTART:20240310T070000
END:DAYLIGHT
BEGIN:STANDARD
TZOFFSETFROM:-0400
TZOFFSETTO:-0500
TZNAME:EST
DTSTART:20241103T060000
END:STANDARD
END:VTIMEZONE
BEGIN:VEVENT
DTSTART;TZID=America/New_York:20230826T093000
DTEND;TZID=America/New_York:20230826T123000
DTSTAMP:20260424T175447
CREATED:20230818T124355Z
LAST-MODIFIED:20230818T124355Z
UID:12233-1693042200-1693053000@livenewcanaan.org
SUMMARY:The Art Of Collage Workshop At The Carriage Barn
DESCRIPTION:Saturday August 26 @ 9:30 am – 12:30 pm\nIn this collage workshop led by Munich based artist Dunia Barrera\, participants will use their creativity and imagination while learning the steps of collage. Students will design their own collages using various methods\, working with matchboxes\, artist trading cards and more.
URL:https://livenewcanaan.org/event/the-art-of-collage-workshop-at-the-carriage-barn/
LOCATION:Carriage Barn Arts Center
CATEGORIES:Carriage Barn Arts Center Event,Family Friendly Events,Summer Theatre of New Canaan
ATTACH;FMTTYPE=image/jpeg:https://livenewcanaan.org/wp-content/uploads/2023/08/collage-2-jqqlY6.tmp_.jpg
ORGANIZER;CN="Carriage Barn Arts Center":MAILTO:admin@carriagebarn.org
END:VEVENT
END:VCALENDAR