BEGIN:VCALENDAR
VERSION:2.0
PRODID:-//LiveNewCanaan - ECPv6.15.18//NONSGML v1.0//EN
CALSCALE:GREGORIAN
METHOD:PUBLISH
X-WR-CALNAME:LiveNewCanaan
X-ORIGINAL-URL:https://livenewcanaan.org
X-WR-CALDESC:Events for LiveNewCanaan
REFRESH-INTERVAL;VALUE=DURATION:PT1H
X-Robots-Tag:noindex
X-PUBLISHED-TTL:PT1H
BEGIN:VTIMEZONE
TZID:America/New_York
BEGIN:DAYLIGHT
TZOFFSETFROM:-0500
TZOFFSETTO:-0400
TZNAME:EDT
DTSTART:20210314T070000
END:DAYLIGHT
BEGIN:STANDARD
TZOFFSETFROM:-0400
TZOFFSETTO:-0500
TZNAME:EST
DTSTART:20211107T060000
END:STANDARD
BEGIN:DAYLIGHT
TZOFFSETFROM:-0500
TZOFFSETTO:-0400
TZNAME:EDT
DTSTART:20220313T070000
END:DAYLIGHT
BEGIN:STANDARD
TZOFFSETFROM:-0400
TZOFFSETTO:-0500
TZNAME:EST
DTSTART:20221106T060000
END:STANDARD
BEGIN:DAYLIGHT
TZOFFSETFROM:-0500
TZOFFSETTO:-0400
TZNAME:EDT
DTSTART:20230312T070000
END:DAYLIGHT
BEGIN:STANDARD
TZOFFSETFROM:-0400
TZOFFSETTO:-0500
TZNAME:EST
DTSTART:20231105T060000
END:STANDARD
END:VTIMEZONE
BEGIN:VEVENT
DTSTART;TZID=America/New_York:20220727T100000
DTEND;TZID=America/New_York:20220727T150000
DTSTAMP:20260425T163446
CREATED:20220726T135257Z
LAST-MODIFIED:20220726T143656Z
UID:10545-1658916000-1658934000@livenewcanaan.org
SUMMARY:A special exhibit featuring the work of contemporary Ukrainian artist Olha Pilyuhina
DESCRIPTION:JULY 16 – 30\, 2022\nA special exhibit featuring the work of contemporary Ukrainian artist Olha Pilyuhina \nOpening Reception Sunday\, July 17 from 3-5pm \nOlha Pilyuhina is a Ukrainian artist whose richly detailed tapestries combine the traditions of Ukrainian weaving and history with the narrative symbolism of Renaissance tapestries. She has been recognized by the government of Ukraine as an honorary doctor of traditional art and has received several prestigious grants from the office of the President of Ukraine. She teaches art in the art department of the Poltava Polytechnic Institute. Many of her works have been acquired by major museums in Ukraine and are in private collections in Ukraine and abroad. \nOlha has exhibited her work widely in Ukraine and in Europe; this is her first show in the United States. \nLocated in Eastern Ukraine\, in the Poltava region\, Olga’s life and work have been severely affected by the Russian invasion of Ukraine. She is unable to teach or to make art. Her artworks are hidden in four different locations\, to prevent or at least minimize the possibility of damage from the war. She has no opportunity to exhibit in Ukraine. She is\, however\, still able to ship her works to the United States. The works in this exhibit are available for sale\, unless otherwise noted.
URL:https://livenewcanaan.org/event/a-special-exhibit-featuring-the-work-of-contemporary-ukrainian-artist-olha-pilyuhina/
LOCATION:Carriage Barn Arts Center
CATEGORIES:Carriage Barn Arts Center Event
ATTACH;FMTTYPE=image/jpeg:https://livenewcanaan.org/wp-content/uploads/2022/07/july-16-30-a-special-exhibit-featuring-the-work-of-contemporary-ukrainian-artist-olha-pilyuhina-1-lIUlll.tmp_.jpg
ORGANIZER;CN="Carriage Barn Arts Center":MAILTO:admin@carriagebarn.org
END:VEVENT
BEGIN:VEVENT
DTSTART;TZID=America/New_York:20220728T100000
DTEND;TZID=America/New_York:20220728T150000
DTSTAMP:20260425T163446
CREATED:20220726T135258Z
LAST-MODIFIED:20220726T143656Z
UID:10548-1659002400-1659020400@livenewcanaan.org
SUMMARY:A special exhibit featuring the work of contemporary Ukrainian artist Olha Pilyuhina
DESCRIPTION:JULY 16 – 30\, 2022\nA special exhibit featuring the work of contemporary Ukrainian artist Olha Pilyuhina \nOpening Reception Sunday\, July 17 from 3-5pm \nOlha Pilyuhina is a Ukrainian artist whose richly detailed tapestries combine the traditions of Ukrainian weaving and history with the narrative symbolism of Renaissance tapestries. She has been recognized by the government of Ukraine as an honorary doctor of traditional art and has received several prestigious grants from the office of the President of Ukraine. She teaches art in the art department of the Poltava Polytechnic Institute. Many of her works have been acquired by major museums in Ukraine and are in private collections in Ukraine and abroad. \nOlha has exhibited her work widely in Ukraine and in Europe; this is her first show in the United States. \nLocated in Eastern Ukraine\, in the Poltava region\, Olga’s life and work have been severely affected by the Russian invasion of Ukraine. She is unable to teach or to make art. Her artworks are hidden in four different locations\, to prevent or at least minimize the possibility of damage from the war. She has no opportunity to exhibit in Ukraine. She is\, however\, still able to ship her works to the United States. The works in this exhibit are available for sale\, unless otherwise noted.
URL:https://livenewcanaan.org/event/a-special-exhibit-featuring-the-work-of-contemporary-ukrainian-artist-olha-pilyuhina-2/
LOCATION:Carriage Barn Arts Center
CATEGORIES:Carriage Barn Arts Center Event
ATTACH;FMTTYPE=image/jpeg:https://livenewcanaan.org/wp-content/uploads/2022/07/july-16-30-a-special-exhibit-featuring-the-work-of-contemporary-ukrainian-artist-olha-pilyuhina-1-lIUlll.tmp_.jpg
ORGANIZER;CN="Carriage Barn Arts Center":MAILTO:admin@carriagebarn.org
END:VEVENT
BEGIN:VEVENT
DTSTART;TZID=America/New_York:20220728T180000
DTEND;TZID=America/New_York:20220728T190000
DTSTAMP:20260425T163446
CREATED:20220726T134332Z
LAST-MODIFIED:20220726T134505Z
UID:10533-1659031200-1659034800@livenewcanaan.org
SUMMARY:An evening of Ukrainian Art & Music: featuring Olya Fryz singing and playing the Bandura
DESCRIPTION:View the exhibit of Olha Pilyuhina’s tapestries at the Carriage Barn and enjoy live Ukrainian music and a gallery reception. \nAn accomplished vocalist and bandura instrumentalist (the bandura is a 58-stringed Ukrainian folk instrument)\, Olya has been entertaining audiences for over 25 years. Her music reflects traditional Ukrainian concepts with individualized arrangements and flair. Olya’s love of Ukrainian folk music is heard in all of her recordings.
URL:https://livenewcanaan.org/event/an-evening-of-ukrainian-art-music-featuring-olya-fryz-singing-and-playing-the-bandura/
LOCATION:Downtown New Canaan\, New Canaan\, CT\, 06840
CATEGORIES:Carriage Barn Arts Center Event,The Arts
ATTACH;FMTTYPE=image/jpeg:https://livenewcanaan.org/wp-content/uploads/2022/07/Olya-Fryz-instrument.jpg
ORGANIZER;CN="New Canaan Chamber of Commerce":MAILTO:tucker@newcanaanchamber.com
END:VEVENT
BEGIN:VEVENT
DTSTART;TZID=America/New_York:20220729T100000
DTEND;TZID=America/New_York:20220729T150000
DTSTAMP:20260425T163446
CREATED:20220726T135303Z
LAST-MODIFIED:20220726T143657Z
UID:10560-1659088800-1659106800@livenewcanaan.org
SUMMARY:A special exhibit featuring the work of contemporary Ukrainian artist Olha Pilyuhina
DESCRIPTION:JULY 16 – 30\, 2022\nA special exhibit featuring the work of contemporary Ukrainian artist Olha Pilyuhina \nOpening Reception Sunday\, July 17 from 3-5pm \nOlha Pilyuhina is a Ukrainian artist whose richly detailed tapestries combine the traditions of Ukrainian weaving and history with the narrative symbolism of Renaissance tapestries. She has been recognized by the government of Ukraine as an honorary doctor of traditional art and has received several prestigious grants from the office of the President of Ukraine. She teaches art in the art department of the Poltava Polytechnic Institute. Many of her works have been acquired by major museums in Ukraine and are in private collections in Ukraine and abroad. \nOlha has exhibited her work widely in Ukraine and in Europe; this is her first show in the United States. \nLocated in Eastern Ukraine\, in the Poltava region\, Olga’s life and work have been severely affected by the Russian invasion of Ukraine. She is unable to teach or to make art. Her artworks are hidden in four different locations\, to prevent or at least minimize the possibility of damage from the war. She has no opportunity to exhibit in Ukraine. She is\, however\, still able to ship her works to the United States. The works in this exhibit are available for sale\, unless otherwise noted.
URL:https://livenewcanaan.org/event/a-special-exhibit-featuring-the-work-of-contemporary-ukrainian-artist-olha-pilyuhina-3/
LOCATION:Carriage Barn Arts Center
CATEGORIES:Carriage Barn Arts Center Event
ATTACH;FMTTYPE=image/jpeg:https://livenewcanaan.org/wp-content/uploads/2022/07/july-16-30-a-special-exhibit-featuring-the-work-of-contemporary-ukrainian-artist-olha-pilyuhina-1-lIUlll.tmp_.jpg
ORGANIZER;CN="Carriage Barn Arts Center":MAILTO:admin@carriagebarn.org
END:VEVENT
BEGIN:VEVENT
DTSTART;TZID=America/New_York:20220730T100000
DTEND;TZID=America/New_York:20220730T150000
DTSTAMP:20260425T163446
CREATED:20220726T135305Z
LAST-MODIFIED:20220726T143657Z
UID:10563-1659175200-1659193200@livenewcanaan.org
SUMMARY:A special exhibit featuring the work of contemporary Ukrainian artist Olha Pilyuhina
DESCRIPTION:JULY 16 – 30\, 2022\nA special exhibit featuring the work of contemporary Ukrainian artist Olha Pilyuhina \nOpening Reception Sunday\, July 17 from 3-5pm \nOlha Pilyuhina is a Ukrainian artist whose richly detailed tapestries combine the traditions of Ukrainian weaving and history with the narrative symbolism of Renaissance tapestries. She has been recognized by the government of Ukraine as an honorary doctor of traditional art and has received several prestigious grants from the office of the President of Ukraine. She teaches art in the art department of the Poltava Polytechnic Institute. Many of her works have been acquired by major museums in Ukraine and are in private collections in Ukraine and abroad. \nOlha has exhibited her work widely in Ukraine and in Europe; this is her first show in the United States. \nLocated in Eastern Ukraine\, in the Poltava region\, Olga’s life and work have been severely affected by the Russian invasion of Ukraine. She is unable to teach or to make art. Her artworks are hidden in four different locations\, to prevent or at least minimize the possibility of damage from the war. She has no opportunity to exhibit in Ukraine. She is\, however\, still able to ship her works to the United States. The works in this exhibit are available for sale\, unless otherwise noted.
URL:https://livenewcanaan.org/event/a-special-exhibit-featuring-the-work-of-contemporary-ukrainian-artist-olha-pilyuhina-4/
LOCATION:Carriage Barn Arts Center
CATEGORIES:Carriage Barn Arts Center Event
ATTACH;FMTTYPE=image/jpeg:https://livenewcanaan.org/wp-content/uploads/2022/07/july-16-30-a-special-exhibit-featuring-the-work-of-contemporary-ukrainian-artist-olha-pilyuhina-1-lIUlll.tmp_.jpg
ORGANIZER;CN="Carriage Barn Arts Center":MAILTO:admin@carriagebarn.org
END:VEVENT
END:VCALENDAR