BEGIN:VCALENDAR
VERSION:2.0
PRODID:-//LiveNewCanaan - ECPv6.15.18//NONSGML v1.0//EN
CALSCALE:GREGORIAN
METHOD:PUBLISH
X-ORIGINAL-URL:https://livenewcanaan.org
X-WR-CALDESC:Events for LiveNewCanaan
REFRESH-INTERVAL;VALUE=DURATION:PT1H
X-Robots-Tag:noindex
X-PUBLISHED-TTL:PT1H
BEGIN:VTIMEZONE
TZID:America/New_York
BEGIN:DAYLIGHT
TZOFFSETFROM:-0500
TZOFFSETTO:-0400
TZNAME:EDT
DTSTART:20240310T070000
END:DAYLIGHT
BEGIN:STANDARD
TZOFFSETFROM:-0400
TZOFFSETTO:-0500
TZNAME:EST
DTSTART:20241103T060000
END:STANDARD
BEGIN:DAYLIGHT
TZOFFSETFROM:-0500
TZOFFSETTO:-0400
TZNAME:EDT
DTSTART:20250309T070000
END:DAYLIGHT
BEGIN:STANDARD
TZOFFSETFROM:-0400
TZOFFSETTO:-0500
TZNAME:EST
DTSTART:20251102T060000
END:STANDARD
BEGIN:DAYLIGHT
TZOFFSETFROM:-0500
TZOFFSETTO:-0400
TZNAME:EDT
DTSTART:20260308T070000
END:DAYLIGHT
BEGIN:STANDARD
TZOFFSETFROM:-0400
TZOFFSETTO:-0500
TZNAME:EST
DTSTART:20261101T060000
END:STANDARD
END:VTIMEZONE
BEGIN:VEVENT
DTSTART;TZID=America/New_York:20250911T120000
DTEND;TZID=America/New_York:20250911T130000
DTSTAMP:20260422T234859
CREATED:20250830T110048Z
LAST-MODIFIED:20250830T110048Z
UID:14907-1757592000-1757595600@livenewcanaan.org
SUMMARY:HAYVN'S Halftime: Beyond Borders: How Tariffs Affect Your Business
DESCRIPTION:Karen King\, Fronterra Global Advisory\, with practical tools/perspective on how global trade impacts entrepreneurs\, startups & growing brands nnnnnnnnnnDate and timennnn  nnThursday\, September 11 · 12 – 1pm EDTnnnnnnnnnnnnnnnnLocationnnn  nnHAYVN n320 Boston Post Road Suite 180 Darien\, CT 06820 nGet directionsnnnnnnnnnnnnnGood to knownnnnnnHighlights nnn1 hournIn personnnnnnnnnnRefund Policy nNo RefundsnnnnnnnnnnnnnAbout this eventnnnnnnnHAYVN HalfTimenIN-PERSON EVENT at HAYVN DariennThursday\, 9/11/25\, 12-1pmn  nCOST:nnHAYVN Members: Free with code on members portal. For help accessing members portal please email questions@hayvn.comnNon-Member: $20nnnnnnnnnnnnnTopic: Beyond Borders: How Tariffs Affect Your Business (and What to Do About It)nFeaturing Karen King\, founder of Fronterra Global AdvisorynThink global trade only matters to big corporations? Think again. From product sourcing to pricing strategy\, tariffs and international regulations touch nearly every business. nJoin Karen King\, founder of Fronterra Global Advisory\, for an eye-opening conversation about how global trade impacts entrepreneurs\, startups\, and growing brands. As a licensed customs broker with decades of experience advising companies in this space\, Karen will break down the essentials of import and export compliance\, risk management\, and strategic sourcing—without the jargon. nWhether you’re launching a product\, scaling operations\, or just curious about how global trade affects your bottom line\, this session will give you practical tools and a fresh perspective. nWhat You’ll Learn: nnTariffs 101nWhy global trade matters—even if your business is localnHow to spot hidden risks in your supply chainnWhat AI and trade software can (and can’t) do for younReal-world stories from Karen’s work with global brandsnnREGISTER: https://www.eventbrite.com/e/halftime-beyond-borders-how-tariffs-affect-your-business-tickets-1567404923319?aff=oddtdtcreator&_gl=1*eoyyee*_gcl_au*MTE5OTEwODU5OC4xNzUwMjY5NzEz*_ga*MTk4NTg0MTk5OC4xNzUwOTYzNTUw*_ga_8VY00MFCH3*czE3NTYxNTU1NTMkbzczJGcxJHQxNzU2MTU1NTgyJGozMSRsMCRoMA..
URL:https://livenewcanaan.org/event/hayvns-halftime-beyond-borders-how-tariffs-affect-your-business/
LOCATION:Hayvn
CATEGORIES:Business/Professional Education
END:VEVENT
BEGIN:VEVENT
DTSTART;TZID=America/New_York:20250912T093000
DTEND;TZID=America/New_York:20250912T170000
DTSTAMP:20260422T234859
CREATED:20250830T110049Z
LAST-MODIFIED:20250830T110049Z
UID:14908-1757669400-1757696400@livenewcanaan.org
SUMMARY:HAYVN'S MONTHLY MARKETING MEETUPS: Ask The Experts\, Mktg Collective\, Coworking Day
DESCRIPTION:Ask The Experts – Bring Your Questions nnJoin our interactive group session! Bring a burning marketing question and have it answered by HAYVN’s panel of multi-disciplinary marketing professionals. Open to public.nnnnn12:00 PM – 1:00 PM nTHE MARKETING COLLECTIVE MEETUP: Anatomy of a Winning Website nnnChris Bojanovich of Brandcellence nnnKim Barron of New Leaf Brand Strategy & Design nnnnThe HAYVN Marketing Collective is a dynamic group of marketing professionals who come together monthly to network\, share insights\, and exchange resources. In this engaging\, hands-on session\, we’ll op…nView Morennnnn9:00 AM – 5:00 PM nMarketing Coworking Day nnCowork at HAYVN for the day with your marketing peersnREGISTER:https://www.eventbrite.com/e/monthly-marketing-meetups-ask-the-experts-mktg-collective-coworking-day-tickets-1245253880879?aff=oddtdtcreator&_gl=1*10ogff2*_gcl_au*MTE5OTEwODU5OC4xNzUwMjY5NzEz*_ga*MTk4NTg0MTk5OC4xNzUwOTYzNTUw*_ga_8VY00MFCH3*czE3NTYyMDgzNTgkbzc1JGcxJHQxNzU2MjA5Njk1JGo2MCRsMCRoMA..
URL:https://livenewcanaan.org/event/hayvns-monthly-marketing-meetups-ask-the-experts-mktg-collective-coworking-day/
LOCATION:Hayvn
CATEGORIES:Business/Professional Education
END:VEVENT
END:VCALENDAR