BEGIN:VCALENDAR
VERSION:2.0
PRODID:-//LiveNewCanaan - ECPv6.15.18//NONSGML v1.0//EN
CALSCALE:GREGORIAN
METHOD:PUBLISH
X-WR-CALNAME:LiveNewCanaan
X-ORIGINAL-URL:https://livenewcanaan.org
X-WR-CALDESC:Events for LiveNewCanaan
REFRESH-INTERVAL;VALUE=DURATION:PT1H
X-Robots-Tag:noindex
X-PUBLISHED-TTL:PT1H
BEGIN:VTIMEZONE
TZID:America/New_York
BEGIN:DAYLIGHT
TZOFFSETFROM:-0500
TZOFFSETTO:-0400
TZNAME:EDT
DTSTART:20230312T070000
END:DAYLIGHT
BEGIN:STANDARD
TZOFFSETFROM:-0400
TZOFFSETTO:-0500
TZNAME:EST
DTSTART:20231105T060000
END:STANDARD
BEGIN:DAYLIGHT
TZOFFSETFROM:-0500
TZOFFSETTO:-0400
TZNAME:EDT
DTSTART:20240310T070000
END:DAYLIGHT
BEGIN:STANDARD
TZOFFSETFROM:-0400
TZOFFSETTO:-0500
TZNAME:EST
DTSTART:20241103T060000
END:STANDARD
BEGIN:DAYLIGHT
TZOFFSETFROM:-0500
TZOFFSETTO:-0400
TZNAME:EDT
DTSTART:20250309T070000
END:DAYLIGHT
BEGIN:STANDARD
TZOFFSETFROM:-0400
TZOFFSETTO:-0500
TZNAME:EST
DTSTART:20251102T060000
END:STANDARD
END:VTIMEZONE
BEGIN:VEVENT
DTSTART;TZID=America/New_York:20240925T173000
DTEND;TZID=America/New_York:20240925T190000
DTSTAMP:20260423T194712
CREATED:20240919T065312Z
LAST-MODIFIED:20240919T065312Z
UID:14376-1727285400-1727290800@livenewcanaan.org
SUMMARY:HAYVN PRESENTS: Stories from Successful Startups….in Sustainability!
DESCRIPTION:About HAYVN’s Sustainability and Social Impact Group:\nIf you are interested in learning about Sustainability and exploring topics/trends to make a difference please join us. You’ll hear from experts\, have social impact in our community\, connect with like-minded peers. This bimonthly group at HAYVN brings like-minded people together to help our planet\, and ourselves\, build a more sustainable future.\nJoin us for quality networking\, on an intriguing sustainability-focused topic and discussion with industry leading speakers. Light food and snacks will be served.\nTOPIC: Stories from Successful Startups….in Sustainability!\nFEATURED SPEAKERS & PANEL MEMBERS:\nJennifer Sauvageau\, CEO at Noteworthy Chocolates\nStephanie Volo\, Chief Impact Officer at Earth Animal Ventures – Certified B Corp\nAlison Gregory\, CEO at AreaHub\nEvent curated by Lisa Miniter of LAM Consulting\nCOST:\nGeneral Admission: $15\nHAYVN Members: Free with promo code (email questions@hayvn.com)\nABOUT EVENT:\nGet ready for a lively conversation on how these entrepreneurs navigated a range of sustainability-focused sectors to help solve the never-ending quest of protecting our planet’s health and its finite resources!\nCome learn from a workshop that will offer truly inspiring missions\, forward-thinking product innovations\, and action-packed tactics\, to help launch your business as fully sustainable-driven or for a specific area.\nKEY WORKSHOP HIGHLIGHTS:\nDiscover Pioneering Successes: Learn how to help accelerate your own sustainable-focused startup journey…. with the “how and why” from seasoned Founders.\nPhases of Sustainable Entrepreneurship: Learn about early-stage strategy\, marketing\, identify funding\, and more.\nEarly Stage…Teetering at a Low Point…. and coming back successfully. How did they do it!\nHow startups’ integration of sustainability efforts has influenced their market growth and brand value.\nFuel / Build your own Startup Network – From the Proven Successes developed by Sustainability Startup Founders…. Cultivating a range of Critical Stakeholders!\nREGISTER:https://www.eventbrite.com/e/stories-from-successful-startupsin-sustainability-tickets-853185880937?aff=oddtdtcreator&_gl=1*188ayv1*_gcl_au*MTI4NTA4ODI0OS4xNzIwNTUwMTMx*_ga*NDk5MTI5ODg5LjE3MjA1NTAxMzE.*_ga_8VY00MFCH3*MTcyNjI1ODc4Ni45Ni4xLjE3MjYyNTg5MzUuMjUuMC4w
URL:https://livenewcanaan.org/event/hayvn-presents-stories-from-successful-startups-in-sustainability/
LOCATION:Hayvn
CATEGORIES:Business/Professional Education
ATTACH;FMTTYPE=image/png:https://livenewcanaan.org/wp-content/uploads/2024/09/Important-Graphic-for-posting-2T5JV1.tmp_.png
END:VEVENT
END:VCALENDAR