BEGIN:VCALENDAR
VERSION:2.0
PRODID:-//LiveNewCanaan - ECPv6.15.18//NONSGML v1.0//EN
CALSCALE:GREGORIAN
METHOD:PUBLISH
X-ORIGINAL-URL:https://livenewcanaan.org
X-WR-CALDESC:Events for LiveNewCanaan
REFRESH-INTERVAL;VALUE=DURATION:PT1H
X-Robots-Tag:noindex
X-PUBLISHED-TTL:PT1H
BEGIN:VTIMEZONE
TZID:America/New_York
BEGIN:DAYLIGHT
TZOFFSETFROM:-0500
TZOFFSETTO:-0400
TZNAME:EDT
DTSTART:20230312T070000
END:DAYLIGHT
BEGIN:STANDARD
TZOFFSETFROM:-0400
TZOFFSETTO:-0500
TZNAME:EST
DTSTART:20231105T060000
END:STANDARD
BEGIN:DAYLIGHT
TZOFFSETFROM:-0500
TZOFFSETTO:-0400
TZNAME:EDT
DTSTART:20240310T070000
END:DAYLIGHT
BEGIN:STANDARD
TZOFFSETFROM:-0400
TZOFFSETTO:-0500
TZNAME:EST
DTSTART:20241103T060000
END:STANDARD
BEGIN:DAYLIGHT
TZOFFSETFROM:-0500
TZOFFSETTO:-0400
TZNAME:EDT
DTSTART:20250309T070000
END:DAYLIGHT
BEGIN:STANDARD
TZOFFSETFROM:-0400
TZOFFSETTO:-0500
TZNAME:EST
DTSTART:20251102T060000
END:STANDARD
END:VTIMEZONE
BEGIN:VEVENT
DTSTART;TZID=America/New_York:20240516T120000
DTEND;TZID=America/New_York:20240516T133000
DTSTAMP:20260424T030106
CREATED:20240509T131146Z
LAST-MODIFIED:20240509T131401Z
UID:14013-1715860800-1715866200@livenewcanaan.org
SUMMARY:HAYVN'S EWC (Entrepreneurial Women’s Club) Monthly Meeting: Personal Brand Alignment 101
DESCRIPTION:About this event\nEWC Luncheon In-Person Event\nConnect with smart\, supportive entrepreneurial women\, learn new things\, build relationships\, and have fun.\nPlease join us for this exciting luncheon event\nHAYVN & EWC Members: $35 (includes lunch)\nNon-Members: $50 (includes lunch)\nProgram Topic: Personal Brand Alignment 101 with Janna Meyrowitz Turner\, President of Synastry Capital\nPlus Member Spotlight: Lisa Labozzo\, Spiritual Coaching for the Mind\, Body and Soul at Healing Hand and Heart\nABOUT THE TOPIC:\nThe ‘Aligning’ Is The Verb\nPersonal Brand Alignment (PBA) is the intentional balance of your inner and outer world\, a dynamic practice that helps you make confident decisions from a place of authenticity. In this introduction\, we’ll explore how the concepts of PBA can help you:\nManage your time and priorities to maximize your impact\nDiscover your superpowers—and how to talk about them\nReframe your weaknesses Get ‘unstuck;’ move from ideation into action\nGain increased confidence in speaking to investors\, boards\, and other stakeholders\nSeize new opportunities that you may not have seen before\nREGISTER:https://www.eventbrite.com/e/ewc-meeting-personal-brand-alignment-101-tickets-794499157367?aff=oddtdtcreator&_gl=1*ibkoxi*_ga*OTQ0NjQxMzE3LjE3MTEwMjc3MjA.*_ga_8VY00MFCH3*MTcxNDUwOTk1MC44MC4xLjE3MTQ1MTIyOTIuNjAuMC4w\n$35-50
URL:https://livenewcanaan.org/event/hayvns-ewc-entrepreneurial-womens-club-monthly-meeting-personal-brand-alignment-101/
LOCATION:Hayvn
CATEGORIES:Business/Professional Education
ATTACH;FMTTYPE=image/png:https://livenewcanaan.org/wp-content/uploads/2024/05/Important-Graphic-for-posting-4-W2bKrD.tmp_.png
END:VEVENT
END:VCALENDAR