BEGIN:VCALENDAR
VERSION:2.0
PRODID:-//LiveNewCanaan - ECPv6.15.18//NONSGML v1.0//EN
CALSCALE:GREGORIAN
METHOD:PUBLISH
X-WR-CALNAME:LiveNewCanaan
X-ORIGINAL-URL:https://livenewcanaan.org
X-WR-CALDESC:Events for LiveNewCanaan
REFRESH-INTERVAL;VALUE=DURATION:PT1H
X-Robots-Tag:noindex
X-PUBLISHED-TTL:PT1H
BEGIN:VTIMEZONE
TZID:America/New_York
BEGIN:DAYLIGHT
TZOFFSETFROM:-0500
TZOFFSETTO:-0400
TZNAME:EDT
DTSTART:20220313T070000
END:DAYLIGHT
BEGIN:STANDARD
TZOFFSETFROM:-0400
TZOFFSETTO:-0500
TZNAME:EST
DTSTART:20221106T060000
END:STANDARD
BEGIN:DAYLIGHT
TZOFFSETFROM:-0500
TZOFFSETTO:-0400
TZNAME:EDT
DTSTART:20230312T070000
END:DAYLIGHT
BEGIN:STANDARD
TZOFFSETFROM:-0400
TZOFFSETTO:-0500
TZNAME:EST
DTSTART:20231105T060000
END:STANDARD
BEGIN:DAYLIGHT
TZOFFSETFROM:-0500
TZOFFSETTO:-0400
TZNAME:EDT
DTSTART:20240310T070000
END:DAYLIGHT
BEGIN:STANDARD
TZOFFSETFROM:-0400
TZOFFSETTO:-0500
TZNAME:EST
DTSTART:20241103T060000
END:STANDARD
END:VTIMEZONE
BEGIN:VEVENT
DTSTART;TZID=America/New_York:20231205T160000
DTEND;TZID=America/New_York:20231205T200000
DTSTAMP:20260424T105036
CREATED:20231204T114602Z
LAST-MODIFIED:20231204T114602Z
UID:12978-1701792000-1701806400@livenewcanaan.org
SUMMARY:HAYVN’s Sustainability Holiday Pop Up Shop: Special Event
DESCRIPTION:CALLING ALL VENDORS:\nSocialize\, network\, support local businesses\, explore sustainable brands/products. Enjoy light bites and drinks while shopping. Members are free\, use promo code when registering. Vendor’s can sign up at https://hayvn-holiday-pop-up-vendor-sign-up-2023-12-05.eventbrite.com
URL:https://livenewcanaan.org/event/hayvns-sustainability-holiday-pop-up-shop-special-event/
LOCATION:Hayvn
CATEGORIES:Business/Professional Education
ATTACH;FMTTYPE=image/png:https://livenewcanaan.org/wp-content/uploads/2023/12/Sustainability-Holiday-Pop-Up-Web-Calendar_with-Vendor_Event-Calendar-Web-550x336-1-gAP63m.tmp_.png
END:VEVENT
END:VCALENDAR