BEGIN:VCALENDAR
VERSION:2.0
PRODID:-//LiveNewCanaan - ECPv6.15.18//NONSGML v1.0//EN
CALSCALE:GREGORIAN
METHOD:PUBLISH
X-WR-CALNAME:LiveNewCanaan
X-ORIGINAL-URL:https://livenewcanaan.org
X-WR-CALDESC:Events for LiveNewCanaan
REFRESH-INTERVAL;VALUE=DURATION:PT1H
X-Robots-Tag:noindex
X-PUBLISHED-TTL:PT1H
BEGIN:VTIMEZONE
TZID:America/New_York
BEGIN:DAYLIGHT
TZOFFSETFROM:-0500
TZOFFSETTO:-0400
TZNAME:EDT
DTSTART:20220313T070000
END:DAYLIGHT
BEGIN:STANDARD
TZOFFSETFROM:-0400
TZOFFSETTO:-0500
TZNAME:EST
DTSTART:20221106T060000
END:STANDARD
BEGIN:DAYLIGHT
TZOFFSETFROM:-0500
TZOFFSETTO:-0400
TZNAME:EDT
DTSTART:20230312T070000
END:DAYLIGHT
BEGIN:STANDARD
TZOFFSETFROM:-0400
TZOFFSETTO:-0500
TZNAME:EST
DTSTART:20231105T060000
END:STANDARD
BEGIN:DAYLIGHT
TZOFFSETFROM:-0500
TZOFFSETTO:-0400
TZNAME:EDT
DTSTART:20240310T070000
END:DAYLIGHT
BEGIN:STANDARD
TZOFFSETFROM:-0400
TZOFFSETTO:-0500
TZNAME:EST
DTSTART:20241103T060000
END:STANDARD
END:VTIMEZONE
BEGIN:VEVENT
DTSTART;TZID=America/New_York:20231116T120000
DTEND;TZID=America/New_York:20231116T133000
DTSTAMP:20260424T122419
CREATED:20231109T141232Z
LAST-MODIFIED:20231109T141232Z
UID:12909-1700136000-1700141400@livenewcanaan.org
SUMMARY:HAYVN's EWC Meeting: Using Chat GPT to 10X Your Business
DESCRIPTION:About this event\n1 hour 30 minutes\nMobile eTicket\nEWC Luncheon In-Person Event\nConnect with smart\, supportive entrepreneurial women\, learn new things\, build relationships\, and have fun.\nPlease join us for this exciting luncheon event\nHAYVN & EWC Members: $35 (includes lunch)\nNon-Members: $50 (includes lunch)\nWhat You’ll Learn:\nUsing Chat GPT to 10X Your Business featuring Maria Fernanda Ordonez of 360AdMedia and Richard Glover\, Tech Marketing professional\nPlus Member Spotlight: to be announced\nProgram Topic: Using Chat GPT to 10X Your Business\nChatGPT can be a valuable tool for brainstorming content ideas for blog writing and social media. By providing keywords or topic suggestions\, it can generate compelling titles and outlines\, saving time and effort in the content creation process.\nWhen writing articles or posting in social media ChatGPT can assist in fact checking and research. It can provide accurate information\, validate claims\, and offer references.We’ll discuss:\nChatGPT can help generate ideas and content for your blog posts\, saving you time and energy\nUse ChatGPT to craft professional\, well-written emails to your clients\, saving you time and ensuring effective communication\nChatGPT can help you brainstorm ideas for new services\, products\, or marketing campaigns for your small business\nChatGPT can generate new content ideas\, giving your social media platforms a creative edge\nUse ChatGPT to generate new ideas and outlines for business strategies\, webinars\, and events.\nREGISTER:https://www.eventbrite.com/e/ewc-meeting-using-chat-gpt-to-10x-your-business-tickets-736081067287?_gl=1*djfbc3*_ga*MTY1NjgwNzY5LjE2NzMyNzYyNzc.*_ga_8VY00MFCH3*MTY5OTI5ODY0OS41OTkuMS4xNjk5MzA1NDM3LjYwLjAuMA..
URL:https://livenewcanaan.org/event/hayvns-ewc-meeting-using-chat-gpt-to-10x-your-business/
LOCATION:Hayvn
CATEGORIES:Business/Professional Education
ATTACH;FMTTYPE=image/png:https://livenewcanaan.org/wp-content/uploads/2023/11/Important-Graphic-for-posting-1-EpleMK.tmp_.png
END:VEVENT
END:VCALENDAR