BEGIN:VCALENDAR
VERSION:2.0
PRODID:-//LiveNewCanaan - ECPv6.15.18//NONSGML v1.0//EN
CALSCALE:GREGORIAN
METHOD:PUBLISH
X-WR-CALNAME:LiveNewCanaan
X-ORIGINAL-URL:https://livenewcanaan.org
X-WR-CALDESC:Events for LiveNewCanaan
REFRESH-INTERVAL;VALUE=DURATION:PT1H
X-Robots-Tag:noindex
X-PUBLISHED-TTL:PT1H
BEGIN:VTIMEZONE
TZID:America/New_York
BEGIN:DAYLIGHT
TZOFFSETFROM:-0500
TZOFFSETTO:-0400
TZNAME:EDT
DTSTART:20220313T070000
END:DAYLIGHT
BEGIN:STANDARD
TZOFFSETFROM:-0400
TZOFFSETTO:-0500
TZNAME:EST
DTSTART:20221106T060000
END:STANDARD
BEGIN:DAYLIGHT
TZOFFSETFROM:-0500
TZOFFSETTO:-0400
TZNAME:EDT
DTSTART:20230312T070000
END:DAYLIGHT
BEGIN:STANDARD
TZOFFSETFROM:-0400
TZOFFSETTO:-0500
TZNAME:EST
DTSTART:20231105T060000
END:STANDARD
BEGIN:DAYLIGHT
TZOFFSETFROM:-0500
TZOFFSETTO:-0400
TZNAME:EDT
DTSTART:20240310T070000
END:DAYLIGHT
BEGIN:STANDARD
TZOFFSETFROM:-0400
TZOFFSETTO:-0500
TZNAME:EST
DTSTART:20241103T060000
END:STANDARD
END:VTIMEZONE
BEGIN:VEVENT
DTSTART;TZID=America/New_York:20230915T100000
DTEND;TZID=America/New_York:20230915T113000
DTSTAMP:20260424T154122
CREATED:20230905T115854Z
LAST-MODIFIED:20230905T115854Z
UID:12368-1694772000-1694777400@livenewcanaan.org
SUMMARY:HAYVN Sponsors:The Idea Accelerator Workshop with Michelle Garside
DESCRIPTION:About this event\n1 hour 30 minutes\nMobile eTicket\nWorkshop is in person at HAYVN: $99\nTo fast-track your big idea\, it’s imperative that you get clear on what your big dream is.\nIn this workshop we will:\n• Clarify your wildest dream related to the fruition of your idea\n• Get clear on who you need to become in order to be the one to bring the dream forth.\n• Dig into how to talk about your big idea\n• How to think about your target demographics in a whole new way\n• Discuss the importance of brand strategy and messaging specifically related to these target demographics\n• Clarify what tangible materials + systems you need to start bringing your idea to life\nListen to Michelle Garside\, Soul Camp Creative discuss this event:\nREGISTER:https://www.eventbrite.com/e/the-idea-accelerator-workshop-with-michelle-garside-tickets-666864598967
URL:https://livenewcanaan.org/event/hayvn-sponsorsthe-idea-accelerator-workshop-with-michelle-garside/
LOCATION:Hayvn
CATEGORIES:Business/Professional Education
ATTACH;FMTTYPE=image/png:https://livenewcanaan.org/wp-content/uploads/2023/09/Important-Graphic-for-posting-5-2cUPlJ.tmp_.png
END:VEVENT
BEGIN:VEVENT
DTSTART;TZID=America/New_York:20230920T083000
DTEND;TZID=America/New_York:20230920T100000
DTSTAMP:20260424T154122
CREATED:20230905T115902Z
LAST-MODIFIED:20230905T115902Z
UID:12376-1695198600-1695204000@livenewcanaan.org
SUMMARY:HAYVN SPONSORS: Workshop Series: Public Speaking Fundamentals with Shannon Daniels
DESCRIPTION:Public Speaking Fundamentals\n$1\,800.00\nAre you ready to unleash your inner speaker and captivate any audience? The SPEAC Success: Public Speaking Fundamentals course is designed to equip you with the essential skills and techniques to become a confident and compelling communicator. Over the span of six weeks\, this comprehensive program will take you on a transformative journey\, helping you overcome stage fright\, refine your delivery\, and deliver impactful speeches that leave a lasting impression.\nREGISTER:https://checkout.square.site/buy/Z27H4GVF322IEFQAP4TYZ63A/checkout
URL:https://livenewcanaan.org/event/hayvn-sponsors-workshop-series-public-speaking-fundamentals-with-shannon-daniels/
LOCATION:Hayvn
CATEGORIES:Business Development,Business/Professional Education
ATTACH;FMTTYPE=image/png:https://livenewcanaan.org/wp-content/uploads/2023/09/Important-Graphic-for-posting-6-8TnLlK.tmp_.png
END:VEVENT
END:VCALENDAR