BEGIN:VCALENDAR
VERSION:2.0
PRODID:-//LiveNewCanaan - ECPv6.15.18//NONSGML v1.0//EN
CALSCALE:GREGORIAN
METHOD:PUBLISH
X-WR-CALNAME:LiveNewCanaan
X-ORIGINAL-URL:https://livenewcanaan.org
X-WR-CALDESC:Events for LiveNewCanaan
REFRESH-INTERVAL;VALUE=DURATION:PT1H
X-Robots-Tag:noindex
X-PUBLISHED-TTL:PT1H
BEGIN:VTIMEZONE
TZID:America/New_York
BEGIN:DAYLIGHT
TZOFFSETFROM:-0500
TZOFFSETTO:-0400
TZNAME:EDT
DTSTART:20220313T070000
END:DAYLIGHT
BEGIN:STANDARD
TZOFFSETFROM:-0400
TZOFFSETTO:-0500
TZNAME:EST
DTSTART:20221106T060000
END:STANDARD
BEGIN:DAYLIGHT
TZOFFSETFROM:-0500
TZOFFSETTO:-0400
TZNAME:EDT
DTSTART:20230312T070000
END:DAYLIGHT
BEGIN:STANDARD
TZOFFSETFROM:-0400
TZOFFSETTO:-0500
TZNAME:EST
DTSTART:20231105T060000
END:STANDARD
BEGIN:DAYLIGHT
TZOFFSETFROM:-0500
TZOFFSETTO:-0400
TZNAME:EDT
DTSTART:20240310T070000
END:DAYLIGHT
BEGIN:STANDARD
TZOFFSETFROM:-0400
TZOFFSETTO:-0500
TZNAME:EST
DTSTART:20241103T060000
END:STANDARD
END:VTIMEZONE
BEGIN:VEVENT
DTSTART;TZID=America/New_York:20230405T120000
DTEND;TZID=America/New_York:20230405T130000
DTSTAMP:20260424T235921
CREATED:20230329T124834Z
LAST-MODIFIED:20230329T124834Z
UID:11571-1680696000-1680699600@livenewcanaan.org
SUMMARY:HAYVN Sponsors: The Art of Efficient Work: Tips for Using a Project Management System
DESCRIPTION:Abigail Schilling\, Pheribee Studio Collective\, discusses The Art of Efficient Work – Tips for Using a Project Management System to Streamline Your Tasks.\nAre you tired of feeling overwhelmed by your to-do list? Do you struggle to keep track of all your tasks and projects? Join us for “The Art of Efficient Work\,” a seminar led by productivity expert Abigail Schilling\, that will teach you how to use Asana\, a powerful project management system\, to streamline your tasks and boost your productivity. Abigail will provide practical tips and strategies for using Asana’s best practices to optimize your workflows\, improve collaboration\, and achieve your goals. Whether you’re a freelancer\, small business owner\, or member of a large team\, this seminar will give you the tools you need to work smarter\, not harder.\nDon’t miss out on this opportunity to learn the art of efficient work and take your productivity to the next level!\nAsana = Productivity Powerhouse\nMaster Asana (or another system) to streamline tasks and workflows\nAvoid pitfalls\, customize to your needs\, and manage time better\nFind your groove for peak productivity\nTake home tips to crush tasks and supercharge success!\nREGISTER: https://www.eventbrite.com/e/the-art-of-efficient-work-tips-for-using-a-project-management-system-tickets-564972356527
URL:https://livenewcanaan.org/event/hayvn-sponsors-the-art-of-efficient-work-tips-for-using-a-project-management-system/
LOCATION:Hayvn
CATEGORIES:Business/Professional Education
ATTACH;FMTTYPE=image/png:https://livenewcanaan.org/wp-content/uploads/2023/03/Important-Graphic-for-posting-nboWkC.tmp_.png
END:VEVENT
BEGIN:VEVENT
DTSTART;TZID=America/New_York:20230405T120000
DTEND;TZID=America/New_York:20230405T130000
DTSTAMP:20260424T235921
CREATED:20230401T021859Z
LAST-MODIFIED:20230401T200113Z
UID:11637-1680696000-1680699600@livenewcanaan.org
SUMMARY:HAYVN Sponsors: The Art of Efficient Work: Tips for Using a Project Management System
DESCRIPTION:Abigail Schilling\, Pheribee Studio Collective\, discusses The Art of Efficient Work – Tips for Using a Project Management System to Streamline Your Tasks.\nAre you tired of feeling overwhelmed by your to-do list? Do you struggle to keep track of all your tasks and projects? Join us for “The Art of Efficient Work\,” a seminar led by productivity expert Abigail Schilling\, that will teach you how to use Asana\, a powerful project management system\, to streamline your tasks and boost your productivity. Abigail will provide practical tips and strategies for using Asana’s best practices to optimize your workflows\, improve collaboration\, and achieve your goals. Whether you’re a freelancer\, small business owner\, or member of a large team\, this seminar will give you the tools you need to work smarter\, not harder.\nDon’t miss out on this opportunity to learn the art of efficient work and take your productivity to the next level!\nAsana = Productivity Powerhouse\nMaster Asana (or another system) to streamline tasks and workflows\nAvoid pitfalls\, customize to your needs\, and manage time better\nFind your groove for peak productivity\nTake home tips to crush tasks and supercharge success!\nREGISTER: https://www.eventbrite.com/e/the-art-of-efficient-work-tips-for-using-a-project-management-system-tickets-564972356527
URL:https://livenewcanaan.org/event/hayvn-sponsors-the-art-of-efficient-work-tips-for-using-a-project-management-system-2/
LOCATION:Hayvn
CATEGORIES:Business/Professional Education
ATTACH;FMTTYPE=image/png:https://livenewcanaan.org/wp-content/uploads/2023/03/Important-Graphic-for-posting-nboWkC.tmp_.png
END:VEVENT
END:VCALENDAR