BEGIN:VCALENDAR
VERSION:2.0
PRODID:-//LiveNewCanaan - ECPv6.15.18//NONSGML v1.0//EN
CALSCALE:GREGORIAN
METHOD:PUBLISH
X-ORIGINAL-URL:https://livenewcanaan.org
X-WR-CALDESC:Events for LiveNewCanaan
REFRESH-INTERVAL;VALUE=DURATION:PT1H
X-Robots-Tag:noindex
X-PUBLISHED-TTL:PT1H
BEGIN:VTIMEZONE
TZID:America/New_York
BEGIN:DAYLIGHT
TZOFFSETFROM:-0500
TZOFFSETTO:-0400
TZNAME:EDT
DTSTART:20210314T070000
END:DAYLIGHT
BEGIN:STANDARD
TZOFFSETFROM:-0400
TZOFFSETTO:-0500
TZNAME:EST
DTSTART:20211107T060000
END:STANDARD
BEGIN:DAYLIGHT
TZOFFSETFROM:-0500
TZOFFSETTO:-0400
TZNAME:EDT
DTSTART:20220313T070000
END:DAYLIGHT
BEGIN:STANDARD
TZOFFSETFROM:-0400
TZOFFSETTO:-0500
TZNAME:EST
DTSTART:20221106T060000
END:STANDARD
BEGIN:DAYLIGHT
TZOFFSETFROM:-0500
TZOFFSETTO:-0400
TZNAME:EDT
DTSTART:20230312T070000
END:DAYLIGHT
BEGIN:STANDARD
TZOFFSETFROM:-0400
TZOFFSETTO:-0500
TZNAME:EST
DTSTART:20231105T060000
END:STANDARD
END:VTIMEZONE
BEGIN:VEVENT
DTSTART;TZID=America/New_York:20220309T080000
DTEND;TZID=America/New_York:20220309T093000
DTSTAMP:20260425T223648
CREATED:20220114T233830Z
LAST-MODIFIED:20220305T084753Z
UID:9865-1646812800-1646818200@livenewcanaan.org
SUMMARY:Meet Our Members Breakfast
DESCRIPTION:Please join the us to welcome new and prospective members of the New Canaan Chamber of Commerce. \nAny non-vaccinated person should wear a mask unless they are eating. \nEach person attending will have to share their business story with the group! \nWednesday\, March 9th\n8:00am \nSouth End Restaurant\n36 Pine Street \nRegister
URL:https://livenewcanaan.org/event/meet-our-members-breakfast/
LOCATION:Southend Restaurant\, 36 Pine Street\, New Canaan\, CT\, 06840
CATEGORIES:Business Development,Business/Professional Education
ATTACH;FMTTYPE=image/jpeg:https://livenewcanaan.org/wp-content/uploads/2022/01/nccc-newmemberbfast-socialsquareblog-01122022-gK1MdN.tmp_.jpg
ORGANIZER;CN="New Canaan Chamber of Commerce":MAILTO:tucker@newcanaanchamber.com
END:VEVENT
BEGIN:VEVENT
DTSTART;TZID=America/New_York:20220331T100000
DTEND;TZID=America/New_York:20220331T110000
DTSTAMP:20260425T223648
CREATED:20220318T183942Z
LAST-MODIFIED:20220318T183942Z
UID:10175-1648720800-1648724400@livenewcanaan.org
SUMMARY:HAYVN PRESENTS: Reclaim Your Best Self: A Mother’s Roadmap Back to Career Confidence
DESCRIPTION:A transformational workshop for you to reclaim your professional confidence and authentic voice. Learn how to rebuild professional purpose\, confidence\, and a career direction\, and learn the skills needed to tackle the psychological obstacles for a successful professional re-invention using the award-winning Work Like a Mother® Career Development Method designed exclusively through the lens of mother’s realities. These obstacles may include a gap in work experience\, an outdated resume\, obsolete skills\, lack of confidence\, fear of failure\, and lack of a professional direction. Meet in a community with like-minded women to learn the roadmap to re-build the life you want with the support you need. \nAbout the speaker: \nDr. Hilary S. Berger\, Ed.D.\, LPC. is the founder of Work Like a Mother®\, is a Career Counselor with a Mental Health background and is a Licensed Professional Counselor. She proudly serves working women\, stay-at-home mothers\, college students\, graduates\, and career changers at all stages of their lives. She is the founder and CEO of a nationwide career counseling service for women\, Work Like a Mother®. For over 20 years Hilary has passionately counseled mothers to re-build their professional purpose\, career competencies\, and most importantly their confidence while raising children. Hilary has partnered with indeed.com\, pioneered and successfully served women through her solution-oriented comprehensive career counseling system designed exclusively through the unique lens of women’s life stages and the realities of mother’s lives. She has written articles on the Career Implications for Stay at Home Moms\, runs career academies\, career boot camps\, and intensive career accelerator programs for large and small audiences. She has been privileged to present the Work Like a Mother® career development model at a global National Career Development Association annual conference and is honored to be interviewed by numerous media outlets to raise awareness about issues facing professional women who become mothers. She has contributed to segments on this topic for TV\, Radio\, and Print Publications for USA Today\, CBS\, CNBC\, Good Housekeeping Magazine\, 1010Wins\, News 8 Connecticut\, and many podcasts empowering women around the globe.
URL:https://livenewcanaan.org/event/hayvn-presents-reclaim-your-best-self-a-mothers-roadmap-back-to-career-confidence/
LOCATION:Hayvn
CATEGORIES:Business/Professional Education
ATTACH;FMTTYPE=image/png:https://livenewcanaan.org/wp-content/uploads/2022/03/important-graphic-for-posting-6-dElF8w.tmp_.png
END:VEVENT
END:VCALENDAR