BEGIN:VCALENDAR
VERSION:2.0
PRODID:-//LiveNewCanaan - ECPv6.15.18//NONSGML v1.0//EN
CALSCALE:GREGORIAN
METHOD:PUBLISH
X-WR-CALNAME:LiveNewCanaan
X-ORIGINAL-URL:https://livenewcanaan.org
X-WR-CALDESC:Events for LiveNewCanaan
REFRESH-INTERVAL;VALUE=DURATION:PT1H
X-Robots-Tag:noindex
X-PUBLISHED-TTL:PT1H
BEGIN:VTIMEZONE
TZID:America/New_York
BEGIN:DAYLIGHT
TZOFFSETFROM:-0500
TZOFFSETTO:-0400
TZNAME:EDT
DTSTART:20240310T070000
END:DAYLIGHT
BEGIN:STANDARD
TZOFFSETFROM:-0400
TZOFFSETTO:-0500
TZNAME:EST
DTSTART:20241103T060000
END:STANDARD
BEGIN:DAYLIGHT
TZOFFSETFROM:-0500
TZOFFSETTO:-0400
TZNAME:EDT
DTSTART:20250309T070000
END:DAYLIGHT
BEGIN:STANDARD
TZOFFSETFROM:-0400
TZOFFSETTO:-0500
TZNAME:EST
DTSTART:20251102T060000
END:STANDARD
BEGIN:DAYLIGHT
TZOFFSETFROM:-0500
TZOFFSETTO:-0400
TZNAME:EDT
DTSTART:20260308T070000
END:DAYLIGHT
BEGIN:STANDARD
TZOFFSETFROM:-0400
TZOFFSETTO:-0500
TZNAME:EST
DTSTART:20261101T060000
END:STANDARD
END:VTIMEZONE
BEGIN:VEVENT
DTSTART;TZID=America/New_York:20250212T080000
DTEND;TZID=America/New_York:20250212T093000
DTSTAMP:20260420T100058
CREATED:20250207T124028Z
LAST-MODIFIED:20250207T124028Z
UID:14790-1739347200-1739352600@livenewcanaan.org
SUMMARY:Meet The Member Breakfast
DESCRIPTION:Meet Our Members Networking Breakfast\nTHE NEW CANAAN CHAMBER OF COMMERCE INVITES YOU TO JOIN US FOR A NETWORKING BREAKFAST AT GATES RESTAURANT\n \nWhether you are an existing\, new\, or prospective Chamber Member\, we hope you can join us Wednesday\, February 12th for an in-person networking breakfast. Gates has graciously agreed to open the restaurant and serve us a delicious breakfast that morning.\n \nEach person attending will have an opportunity to stand up and introduce themselves and their business to the group. A contact list for all attendees will be sent out to every participant to facilitate further connections.\n \nRegister and pay using the link below or let us know if your would prefer to be invoiced for the event.\nREGISTER
URL:https://livenewcanaan.org/event/meet-the-member-breakfast/
LOCATION:Gates Restaurant\, 2 Forest St\, New Canaan\, CT\, United States
CATEGORIES:Business Development
ATTACH;FMTTYPE=image/jpeg:https://livenewcanaan.org/wp-content/uploads/2025/02/NCCC-NewMemberBfast-SocialSquareBlog-01092025-yX2vNY.tmp_.jpg
END:VEVENT
BEGIN:VEVENT
DTSTART;TZID=America/New_York:20250225T170000
DTEND;TZID=America/New_York:20250225T190000
DTSTAMP:20260420T100058
CREATED:20250217T065749Z
LAST-MODIFIED:20250217T065749Z
UID:14849-1740502800-1740510000@livenewcanaan.org
SUMMARY:Networking Event in New Canaan
DESCRIPTION:A night of networking\, socializing\, food\, and drinks.
URL:https://livenewcanaan.org/event/networking-event-in-new-canaan/
LOCATION:Chef Luis\, 129 Elm St\, New Canaan\, CT\, United States
CATEGORIES:Business Development
ATTACH;FMTTYPE=image/png:https://livenewcanaan.org/wp-content/uploads/2025/02/Kreutzer-Meet-Mingle-1-jiyA8d.tmp_.png
END:VEVENT
END:VCALENDAR