BEGIN:VCALENDAR
VERSION:2.0
PRODID:-//LiveNewCanaan - ECPv6.15.18//NONSGML v1.0//EN
CALSCALE:GREGORIAN
METHOD:PUBLISH
X-ORIGINAL-URL:https://livenewcanaan.org
X-WR-CALDESC:Events for LiveNewCanaan
REFRESH-INTERVAL;VALUE=DURATION:PT1H
X-Robots-Tag:noindex
X-PUBLISHED-TTL:PT1H
BEGIN:VTIMEZONE
TZID:America/New_York
BEGIN:DAYLIGHT
TZOFFSETFROM:-0500
TZOFFSETTO:-0400
TZNAME:EDT
DTSTART:20230312T070000
END:DAYLIGHT
BEGIN:STANDARD
TZOFFSETFROM:-0400
TZOFFSETTO:-0500
TZNAME:EST
DTSTART:20231105T060000
END:STANDARD
BEGIN:DAYLIGHT
TZOFFSETFROM:-0500
TZOFFSETTO:-0400
TZNAME:EDT
DTSTART:20240310T070000
END:DAYLIGHT
BEGIN:STANDARD
TZOFFSETFROM:-0400
TZOFFSETTO:-0500
TZNAME:EST
DTSTART:20241103T060000
END:STANDARD
BEGIN:DAYLIGHT
TZOFFSETFROM:-0500
TZOFFSETTO:-0400
TZNAME:EDT
DTSTART:20250309T070000
END:DAYLIGHT
BEGIN:STANDARD
TZOFFSETFROM:-0400
TZOFFSETTO:-0500
TZNAME:EST
DTSTART:20251102T060000
END:STANDARD
END:VTIMEZONE
BEGIN:VEVENT
DTSTART;TZID=America/New_York:20241121T173000
DTEND;TZID=America/New_York:20241121T210000
DTSTAMP:20260420T153202
CREATED:20241031T121838Z
LAST-MODIFIED:20241031T121838Z
UID:14623-1732210200-1732222800@livenewcanaan.org
SUMMARY:Syna Trunk Show
DESCRIPTION:Join Manfredi Jewels New Canaan for an Exclusive Syna Event!\nCome visit us and meet the talented designers behind Syna in person! Discover their stunning collections\, including exclusive pieces not typically offered in our store. This is your chance to explore unique designs\, hear the stories behind them\, and find something truly special. We can’t wait to see you there!
URL:https://livenewcanaan.org/event/syna-trunk-show/
LOCATION:Manfredi\, 72 Elm St\, New Canaan\, CT\, United States
CATEGORIES:Business Development
ATTACH;FMTTYPE=image/png:https://livenewcanaan.org/wp-content/uploads/2024/10/Manfredi-Syna-Trunk-Show-Poster-Ideas-1-XVgQTu.tmp_.png
ORGANIZER;CN="Manfredi Jewels":MAILTO:info@manfredijewels.com
END:VEVENT
END:VCALENDAR