BEGIN:VCALENDAR
VERSION:2.0
PRODID:-//LiveNewCanaan - ECPv6.15.18//NONSGML v1.0//EN
CALSCALE:GREGORIAN
METHOD:PUBLISH
X-ORIGINAL-URL:https://livenewcanaan.org
X-WR-CALDESC:Events for LiveNewCanaan
REFRESH-INTERVAL;VALUE=DURATION:PT1H
X-Robots-Tag:noindex
X-PUBLISHED-TTL:PT1H
BEGIN:VTIMEZONE
TZID:America/New_York
BEGIN:DAYLIGHT
TZOFFSETFROM:-0500
TZOFFSETTO:-0400
TZNAME:EDT
DTSTART:20210314T070000
END:DAYLIGHT
BEGIN:STANDARD
TZOFFSETFROM:-0400
TZOFFSETTO:-0500
TZNAME:EST
DTSTART:20211107T060000
END:STANDARD
BEGIN:DAYLIGHT
TZOFFSETFROM:-0500
TZOFFSETTO:-0400
TZNAME:EDT
DTSTART:20220313T070000
END:DAYLIGHT
BEGIN:STANDARD
TZOFFSETFROM:-0400
TZOFFSETTO:-0500
TZNAME:EST
DTSTART:20221106T060000
END:STANDARD
BEGIN:DAYLIGHT
TZOFFSETFROM:-0500
TZOFFSETTO:-0400
TZNAME:EDT
DTSTART:20230312T070000
END:DAYLIGHT
BEGIN:STANDARD
TZOFFSETFROM:-0400
TZOFFSETTO:-0500
TZNAME:EST
DTSTART:20231105T060000
END:STANDARD
END:VTIMEZONE
BEGIN:VEVENT
DTSTART;TZID=America/New_York:20220104T170000
DTEND;TZID=America/New_York:20220104T193000
DTSTAMP:20260422T215743
CREATED:20211213T224027Z
LAST-MODIFIED:20211217T120208Z
UID:9665-1641315600-1641324600@livenewcanaan.org
SUMMARY:HAYVN PRESENTS: Roots and Wings: Launching Career Workshop for Early Professionals
DESCRIPTION:Are you embarking on a (soon to be) post College career? \nFeeling unsure about the next steps towards building your career? Do you want to feel confident and less stressed about how you present to future employers? \nFrom discovering your career fit\, nailing interviews and optimizing resumes\, to owning your finances—this series will empower you in navigating your place in the world of work and where you will thrive. \nYou Will Learn \nExplore careers that align with your interests\, academic priorities and personal passions\nHow to speak with confidence on your unique personal brand\, and how to pitch yourself to future employers\nHow to optimize your LinkedIn profile and develop a networking strategy that suits your personality and brand\nNailing the interview with 3 mock interviews for sample jobs of interest\nHealth & Wellness strategies for managing stress\nHow to set yourself up for financial success with lifetime\, healthy money habits\nHow to interview with future employers and make it a two-way street\nHow to network and grow into your directional career path \nAdditional Benefits \nNetworking opportunities with HAYVN members that span a multitude of industries including design\, marketing\, publishing\, healthcare\, real estate\, insurance\, and more\nAbility to take professional photos in our HAYVN space for LinkedIn (additional charge)\nOpportunities for mock interviews\nAccess to a lifetime professional network through networking strategies and connections made throughout the program \nCourse Curriculum \nSession 1: January 4 — Charting Your Course \nSession 2: January 6 — Creating Your Personal and Professional Brand \nSession 3: January 11 — Building Confidence: Acing the Interview \nSession4: January 13 — #Adulting\nREGISTER: https://hayvn.com/event/roots-and-wings-jan-2022/2022-01-04/
URL:https://livenewcanaan.org/event/hayvn-presents-roots-and-wings-launching-career-workshop-for-early-professionals/
LOCATION:Hayvn Co-Working\, 320 Boston Post Road\, Darien\, 06820
CATEGORIES:Business Development,Business/Professional Education
ATTACH;FMTTYPE=image/png:https://livenewcanaan.org/wp-content/uploads/2021/12/important-graphic-for-posting-Vqoa5J.tmp_.png
END:VEVENT
END:VCALENDAR