BEGIN:VCALENDAR
VERSION:2.0
PRODID:-//LiveNewCanaan - ECPv6.15.18//NONSGML v1.0//EN
CALSCALE:GREGORIAN
METHOD:PUBLISH
X-WR-CALNAME:LiveNewCanaan
X-ORIGINAL-URL:https://livenewcanaan.org
X-WR-CALDESC:Events for LiveNewCanaan
REFRESH-INTERVAL;VALUE=DURATION:PT1H
X-Robots-Tag:noindex
X-PUBLISHED-TTL:PT1H
BEGIN:VTIMEZONE
TZID:America/New_York
BEGIN:DAYLIGHT
TZOFFSETFROM:-0500
TZOFFSETTO:-0400
TZNAME:EDT
DTSTART:20200308T070000
END:DAYLIGHT
BEGIN:STANDARD
TZOFFSETFROM:-0400
TZOFFSETTO:-0500
TZNAME:EST
DTSTART:20201101T060000
END:STANDARD
BEGIN:DAYLIGHT
TZOFFSETFROM:-0500
TZOFFSETTO:-0400
TZNAME:EDT
DTSTART:20210314T070000
END:DAYLIGHT
BEGIN:STANDARD
TZOFFSETFROM:-0400
TZOFFSETTO:-0500
TZNAME:EST
DTSTART:20211107T060000
END:STANDARD
BEGIN:DAYLIGHT
TZOFFSETFROM:-0500
TZOFFSETTO:-0400
TZNAME:EDT
DTSTART:20220313T070000
END:DAYLIGHT
BEGIN:STANDARD
TZOFFSETFROM:-0400
TZOFFSETTO:-0500
TZNAME:EST
DTSTART:20221106T060000
END:STANDARD
END:VTIMEZONE
BEGIN:VEVENT
DTSTART;TZID=America/New_York:20210601T100000
DTEND;TZID=America/New_York:20210601T110000
DTSTAMP:20260423T085651
CREATED:20210527T143744Z
LAST-MODIFIED:20210527T151347Z
UID:8241-1622541600-1622545200@livenewcanaan.org
SUMMARY:Accountability Challenge & Workshop Series: Sail Into Summer with a Big Win
DESCRIPTION:5 Tuesdays – June 1st – June 29th \nLed by Lisa Corrado\, founder of Lisa Corrado Coaching \nAccountability is your secret weapon for getting things done. Whether you have a big goal or a ridiculously long task list\, accountability helps you make it happen faster & easier than if you go it alone. Wouldn’t it be great to sail into the summer knowing that you scored a big win or made substantial progress on something important to you? Join us for this live accountability challenge & workshop series. The accountability challenge keeps you on track\, no matter what you’re working on. \nEach week you will: \n– Commit to your action for the next week \n– Report on your progress \nThis process is designed to be simple\, take very little time yet still be super-powerful. \nNeed a little fire under your feet? All participants who complete the challenge will be entered in a raffle to win prizes. \nThe workshop sessions will give you tools & strategies to help keep you moving forward: \n6/1 – Setting Yourself up for Success \nYou’ll commit to the goal(s) you want to accomplish over the next 4 weeks with powerful goal setting steps and gain access to the accountability process. \n6/8 – Beat the Challenges \nIt’s one thing to know what you want to accomplish. It’s another thing to know what you’re going to do when hurdles pop up (and they WILL pop up!) Learn how to beat those challenges at their own game\, before they trip you up. \n6/15 – Productivity Productivity Productivity \nFind the right productivity strategies for you so you can keep your butt in your seat and get your work done. In this session\, Lisa will share her favorite tips and invite the members to share what works for them. \n6/22 – Conquer Limiting Beliefs \nYou’re well on your way to reaching your goal. This is where things can get a little tricky. The closer you get to the finish line\, the louder your limiting beliefs get. Tame these sneaky self-stories once and for all with a powerful technique. \n6/29 – Celebrate! And Next Steps \nIt’s time to celebrate all of your progress. You may have completed your goal or made progress toward something bigger. No matter what\, you’ll benefit from celebrating your success. We’ll also take a look at what’s next for you to keep the momentum going. \nAfter you register\, we’ll send you the Zoom link to access the class. \nAbout Lisa: \nLisa Corrado is a coach who helps entrepreneurs get out of their own way so they take consistent action that matters and get the results they want. Lisa has over 17 years of experience running her own businesses and knows just how much courage it takes to be an entrepreneur. Trained in the Co-Active Coaching model\, she brings her vast experience and education to her clients. She’s also the co-director/co-owner of The Entrepreneurial Women’s Club\, a networking organization for female business owners. To learn more about Lisa\, please visit LisaCorrado.com \nADMISSION: $75 for HAYVN members\, $150 for non-members
URL:https://livenewcanaan.org/event/accountability-challenge-workshop-series-sail-into-summer-with-a-big-win/
LOCATION:Virtual
CATEGORIES:Business Development,Business/Professional Education
ATTACH;FMTTYPE=image/png:https://livenewcanaan.org/wp-content/uploads/2021/05/lisa-corrado-workshop-1-300x250-1-vOHZGH.tmp_.png
END:VEVENT
BEGIN:VEVENT
DTSTART;TZID=America/New_York:20210603T120000
DTEND;TZID=America/New_York:20210603T130000
DTSTAMP:20260423T085651
CREATED:20210527T143745Z
LAST-MODIFIED:20210527T151347Z
UID:8247-1622721600-1622725200@livenewcanaan.org
SUMMARY:Hiring for Your Small Business? You’ll Want to Hear This!
DESCRIPTION:Whether you are an entrepreneur\, small business owner\, or service business professional\, if you are looking to bring your first employee or employees on board\, you need to understand that extra manpower entails a whole new string of legal obligations\, liabilities\, expenses and\, of course\, paperwork. \nIn this session\, Alexis Brooks\, Attorney at Brooks Law PLLC\, and Eileen Springer\, Executive and Career Coach\, at Central Park Executive Coaching\, will take you through: \n– What are your obligations as an employer? \n– How do you interview and select the best talent? \n– What risks are involved for employers? \n– How can you plan for a productive and satisfying workplace? \n– Who can help? \n​ \nAbout Alexis:\nAlexis is the founder of Brooks Law\, PLLC. She is a Connecticut-licensed attorney who serves small businesses and consultancies\, many of which are owned by female entrepreneurs. Alexis advises on entity structure and formation\, drafts company policies\, reviews\, drafts and negotiates various types of agreements\, and advises and manages the hiring needs of small businesses. She lives in New Canaan\, Connecticut with her husband and three children. \nAbout Eileen:\nEileen is the founder of Central Park Executive Coaching. She is an executive and career coach. Eileen coaches in the areas of leadership\, performance improvement\, career exploration and transitions\, and on-boarding. Eileen is a Core Guide at Chief\, a women’s peer networking organization supporting development of C-suite executives. She also provides HR advisory services to early stage and small companies\, offering expertise in organization design\, talent acquisition\, succession planning and leadership development. Eileen brings over 30 years of experience leading HR and Talent Management teams in large global companies. She has worked in the Financial Services\, Technology and Hospitality industries.
URL:https://livenewcanaan.org/event/hiring-for-your-small-business-youll-want-to-hear-this/
LOCATION:Virtual
CATEGORIES:Business Development,Business/Professional Education,Community Discussion
ATTACH;FMTTYPE=image/png:https://livenewcanaan.org/wp-content/uploads/2021/05/hiring-for-your-small-business-300x250-1-MUg4Ny.tmp_.png
END:VEVENT
BEGIN:VEVENT
DTSTART;TZID=America/New_York:20210615T120000
DTEND;TZID=America/New_York:20210615T123000
DTSTAMP:20260423T085651
CREATED:20210527T143759Z
LAST-MODIFIED:20210527T151348Z
UID:8271-1623758400-1623760200@livenewcanaan.org
SUMMARY:Be a Boundaries Badass!
DESCRIPTION:Are you a boundary bungler? Do you find yourself doing things other people want to do\, not speaking up with friends and partners\, or letting your clients take advantage of you? \nWe will take stock with a quick quiz and find out! Amy Polacko\, an empowerment coach for women\, will show us how to love ourselves by protecting our space – and mindset. Plus\, we’ll look at the effect this shift can have on your business\, love and friendships. Boundaries can help determine your happiness too! \nAmy Polacko is a Freedom Warrior who is an empowerment coach\, entrepreneur\, and advocate for women. She is a graduate of Columbia Journalism School\, a former TV reporter\, and corporate public relations executive. Amy’s specialty is helping women take their power back during or after a life event like divorce or a toxic relationship. As a divorced single mom\, she founded Strong Savvy Women as an empowerment community for single women where they can connect\, grow and thrive as they move forward in their lives. Find out more at www.freedomwarrior.info
URL:https://livenewcanaan.org/event/be-a-boundaries-badass/
LOCATION:Virtual
CATEGORIES:Business Development,Business/Professional Education
ATTACH;FMTTYPE=image/png:https://livenewcanaan.org/wp-content/uploads/2021/05/boundaries-badassgif-300x250-1-e0G4YV.tmp_.png
END:VEVENT
END:VCALENDAR