BEGIN:VCALENDAR
VERSION:2.0
PRODID:-//LiveNewCanaan - ECPv6.15.18//NONSGML v1.0//EN
CALSCALE:GREGORIAN
METHOD:PUBLISH
X-ORIGINAL-URL:https://livenewcanaan.org
X-WR-CALDESC:Events for LiveNewCanaan
REFRESH-INTERVAL;VALUE=DURATION:PT1H
X-Robots-Tag:noindex
X-PUBLISHED-TTL:PT1H
BEGIN:VTIMEZONE
TZID:America/New_York
BEGIN:DAYLIGHT
TZOFFSETFROM:-0500
TZOFFSETTO:-0400
TZNAME:EDT
DTSTART:20190310T070000
END:DAYLIGHT
BEGIN:STANDARD
TZOFFSETFROM:-0400
TZOFFSETTO:-0500
TZNAME:EST
DTSTART:20191103T060000
END:STANDARD
BEGIN:DAYLIGHT
TZOFFSETFROM:-0500
TZOFFSETTO:-0400
TZNAME:EDT
DTSTART:20200308T070000
END:DAYLIGHT
BEGIN:STANDARD
TZOFFSETFROM:-0400
TZOFFSETTO:-0500
TZNAME:EST
DTSTART:20201101T060000
END:STANDARD
BEGIN:DAYLIGHT
TZOFFSETFROM:-0500
TZOFFSETTO:-0400
TZNAME:EDT
DTSTART:20210314T070000
END:DAYLIGHT
BEGIN:STANDARD
TZOFFSETFROM:-0400
TZOFFSETTO:-0500
TZNAME:EST
DTSTART:20211107T060000
END:STANDARD
END:VTIMEZONE
BEGIN:VEVENT
DTSTART;TZID=America/New_York:20200403T173000
DTEND;TZID=America/New_York:20200403T203000
DTSTAMP:20260424T053334
CREATED:20200318T175346Z
LAST-MODIFIED:20200402T130722Z
UID:4977-1585935000-1585945800@livenewcanaan.org
SUMMARY:Your Voice Matters Middle School Leadership Summit
DESCRIPTION:Your voice matters! Learn about the importance of advocacy and legislative issues that impact girls and women. Select an issue and work with peers to develop a call to action that will be reported to our panel of fierce female leaders: Kate Farrar\, Executive Director Connecticut Women’s Education Legal Fund\, State Representative Caroline Simmons\, and State Senator Alex Bergstein. \nThis leadership summit also includes a celebration of 30 Days of Family\, dinner\, and teambuilding. \nOpen to girls grades 5-8\, free of charge\, registration required. This is non-partisan event.
URL:https://livenewcanaan.org/event/your-voice-matters-middle-school-leadership-summit/
LOCATION:Grace Farms\, 365 Lukes Wood Rd\, New Canaan\, CT\, United States
CATEGORIES:30 Days of Family
ATTACH;FMTTYPE=image/jpeg:https://livenewcanaan.org/wp-content/uploads/2020/03/lg-live-girl-logo-circle-green.jpg
END:VEVENT
BEGIN:VEVENT
DTSTART;TZID=America/New_York:20200404T103000
DTEND;TZID=America/New_York:20200404T143000
DTSTAMP:20260424T053334
CREATED:20200318T175351Z
LAST-MODIFIED:20200402T130722Z
UID:4981-1585996200-1586010600@livenewcanaan.org
SUMMARY:Open Arts Studio for Families at Grace Farms
DESCRIPTION:Think\, play\, and create every Saturday\, from 10:30 am to 2:30 pm at Grace Farms! Young artists\, ages 3 to 10\, and their adult caregivers are invited to spend time together experimenting with new materials and techniques during this facilitated program series.
URL:https://livenewcanaan.org/event/open-arts-studio-for-families-at-grace-farms/
LOCATION:Grace Farms\, 365 Lukes Wood Rd\, New Canaan\, CT\, United States
CATEGORIES:30 Days of Family
ATTACH;FMTTYPE=image/jpeg:https://livenewcanaan.org/wp-content/uploads/2020/03/102619_jennabascom_2t0a0454_approved-scaled-1.jpg
ORGANIZER;CN="Grace Farms Foundation":MAILTO:rhayes@gracefarmsfoundation.org
END:VEVENT
BEGIN:VEVENT
DTSTART;TZID=America/New_York:20200407T093000
DTEND;TZID=America/New_York:20200407T103000
DTSTAMP:20260424T053334
CREATED:20200318T175354Z
LAST-MODIFIED:20200407T063628Z
UID:4985-1586251800-1586255400@livenewcanaan.org
SUMMARY:The Ups and Downs & all Around of Middle School Freindships
DESCRIPTION:Speaker: Dr. Lauren Pote\, PhD\nCome learn about the typical friend shifts that happen during the early adolescent years. Parents will hear tips for what they can do to help their tweens/teens ride the wave of change in friendships and the hurts that can come with it.
URL:https://livenewcanaan.org/event/the-ups-and-downs-all-around-of-middle-school-freindships/
LOCATION:Saxe Middle School Auditorium\, 468 South Avenue\, New Canaan\, 06840
CATEGORIES:30 Days of Family
ATTACH;FMTTYPE=image/jpeg:https://livenewcanaan.org/wp-content/uploads/2020/03/ms-friends-scaled-1.jpg
ORGANIZER;CN="New Canaan CARES":MAILTO:CARESinfo@newcanaanCARES.org
END:VEVENT
BEGIN:VEVENT
DTSTART;TZID=America/New_York:20200409T123000
DTEND;TZID=America/New_York:20200409T154500
DTSTAMP:20260424T053334
CREATED:20200318T175357Z
LAST-MODIFIED:20200402T130722Z
UID:4996-1586435400-1586447100@livenewcanaan.org
SUMMARY:New Canaan Nature Center’s Great Egg Hunts
DESCRIPTION:Perfect for children\, ages 2-10\, our egg hunts are designed for smaller groups (approximately 25 per hunt) and\, in addition to the hunt\, include an egg & spoon obstacle course and meet & greet with our baby chicks & bunny rabbits. Just BYOB (bring your own basket) for collecting eggs (which contain nature-themed prizes and nut-free sweets). \nRain or shine. \nMembers: $10/child\nNon-Members: $15/child \nJoin us for one of 11 egg hunt times!\nThursday\, April 9th: 12:30pm\, 1:45pm\, or 3:00pm \nFriday\, April 10th: 11:00am\, 12:00pm\, 1:30pm\, or 2:30pm \nSaturday\, April 11th: 11:00am\, 12:00pm\, 1:30pm\, or 2:30pm \nOnline Registration: Coming Soon!
URL:https://livenewcanaan.org/event/new-canaan-nature-centers-great-egg-hunts/
LOCATION:New Canaan Nature Center\, 144 Oenoke Ridge\, New Canaan\, CT\, United States
CATEGORIES:30 Days of Family,Family Friendly Events,For Children,New Canaan Nature Center Events
ATTACH;FMTTYPE=image/jpeg:https://livenewcanaan.org/wp-content/uploads/2020/03/egg-hunts2020.jpg
ORGANIZER;CN="New Canaan Nature Center":MAILTO:jrayher@newcanaannature.org
END:VEVENT
BEGIN:VEVENT
DTSTART;TZID=America/New_York:20200411T103000
DTEND;TZID=America/New_York:20200411T143000
DTSTAMP:20260424T053334
CREATED:20200318T175400Z
LAST-MODIFIED:20200402T130722Z
UID:5000-1586601000-1586615400@livenewcanaan.org
SUMMARY:Open Arts Studio for Families at Grace Farms
DESCRIPTION:Think\, play\, and create every Saturday\, from 10:30 am to 2:30 pm at Grace Farms! Young artists\, ages 3 to 10\, and their adult caregivers are invited to spend time together experimenting with new materials and techniques during this facilitated program series.
URL:https://livenewcanaan.org/event/open-arts-studio-for-families-at-grace-farms-2/
LOCATION:Grace Farms\, 365 Lukes Wood Rd\, New Canaan\, CT\, United States
CATEGORIES:30 Days of Family
ATTACH;FMTTYPE=image/jpeg:https://livenewcanaan.org/wp-content/uploads/2020/03/102619_jennabascom_2t0a0454_approved-scaled-1.jpg
ORGANIZER;CN="Grace Farms Foundation":MAILTO:rhayes@gracefarmsfoundation.org
END:VEVENT
BEGIN:VEVENT
DTSTART;TZID=America/New_York:20200417T180000
DTEND;TZID=America/New_York:20200417T193000
DTSTAMP:20260424T053334
CREATED:20200318T175408Z
LAST-MODIFIED:20200402T130723Z
UID:5017-1587146400-1587151800@livenewcanaan.org
SUMMARY:April Community Dinner
DESCRIPTION:Enjoy a special meal with friends and neighbors\, featuring local performing artists. This affordable dining experience promises expansive views and excellent company. The evening will take place in the River building’s Commons—a 6\,900 square foot glass room appointed with social community tables built from trees harvested on the grounds\, comfortable sofas\, and a coffee bar serving our very own Heavenly Roast. \nMenu:\nAntipasti salad\nMeatball hoagie\nPotato chips\nBiscotti
URL:https://livenewcanaan.org/event/april-community-dinner/
LOCATION:Grace Farms\, 365 Lukes Wood Rd\, New Canaan\, CT\, United States
CATEGORIES:30 Days of Family
ATTACH;FMTTYPE=image/jpeg:https://livenewcanaan.org/wp-content/uploads/2020/03/jj-051917-014.jpg
ORGANIZER;CN="Grace Farms Foundation":MAILTO:rhayes@gracefarmsfoundation.org
END:VEVENT
BEGIN:VEVENT
DTSTART;VALUE=DATE:20200418
DTEND;VALUE=DATE:20200419
DTSTAMP:20260424T053334
CREATED:20200318T175817Z
LAST-MODIFIED:20200402T130723Z
UID:5049-1587168000-1587254399@livenewcanaan.org
SUMMARY:Earth Day | A Bright Future
DESCRIPTION:Celebrate the 50th anniversary of Earth Day at Grace Farms. Join us for interactive programs and activities demonstrating how we can all contribute to ecological restoration and a brighter future for our planet.
URL:https://livenewcanaan.org/event/earth-day-a-bright-future/
LOCATION:Grace Farms\, 365 Lukes Wood Rd\, New Canaan\, CT\, United States
CATEGORIES:30 Days of Family
ATTACH;FMTTYPE=image/jpeg:https://livenewcanaan.org/wp-content/uploads/2020/03/sch-080219-002-scaled-1.jpg
ORGANIZER;CN="Grace Farms Foundation":MAILTO:rhayes@gracefarmsfoundation.org
END:VEVENT
BEGIN:VEVENT
DTSTART;TZID=America/New_York:20200418T103000
DTEND;TZID=America/New_York:20200418T143000
DTSTAMP:20260424T053334
CREATED:20200318T175820Z
LAST-MODIFIED:20200402T130723Z
UID:5053-1587205800-1587220200@livenewcanaan.org
SUMMARY:Open Arts Studio for Families at Grace Farms
DESCRIPTION:Think\, play\, and create every Saturday\, from 10:30 am to 2:30 pm at Grace Farms! Young artists\, ages 3 to 10\, and their adult caregivers are invited to spend time together experimenting with new materials and techniques during this facilitated program series.
URL:https://livenewcanaan.org/event/open-arts-studio-for-families-at-grace-farms-3/
LOCATION:Grace Farms\, 365 Lukes Wood Rd\, New Canaan\, CT\, United States
CATEGORIES:30 Days of Family
ATTACH;FMTTYPE=image/jpeg:https://livenewcanaan.org/wp-content/uploads/2020/03/102619_jennabascom_2t0a0454_approved-scaled-1.jpg
ORGANIZER;CN="Grace Farms Foundation":MAILTO:rhayes@gracefarmsfoundation.org
END:VEVENT
BEGIN:VEVENT
DTSTART;TZID=America/New_York:20200425T103000
DTEND;TZID=America/New_York:20200425T143000
DTSTAMP:20260424T053334
CREATED:20200318T175821Z
LAST-MODIFIED:20200402T130723Z
UID:5062-1587810600-1587825000@livenewcanaan.org
SUMMARY:Open Arts Studio for Families at Grace Farms
DESCRIPTION:Think\, play\, and create every Saturday\, from 10:30 am to 2:30 pm at Grace Farms! Young artists\, ages 3 to 10\, and their adult caregivers are invited to spend time together experimenting with new materials and techniques during this facilitated program series.
URL:https://livenewcanaan.org/event/open-arts-studio-for-families-at-grace-farms-4/
LOCATION:Grace Farms\, 365 Lukes Wood Rd\, New Canaan\, CT\, United States
CATEGORIES:30 Days of Family
ATTACH;FMTTYPE=image/jpeg:https://livenewcanaan.org/wp-content/uploads/2020/03/102619_jennabascom_2t0a0454_approved-scaled-1.jpg
ORGANIZER;CN="Grace Farms Foundation":MAILTO:rhayes@gracefarmsfoundation.org
END:VEVENT
BEGIN:VEVENT
DTSTART;TZID=America/New_York:20200425T183000
DTEND;TZID=America/New_York:20200425T200000
DTSTAMP:20260424T053334
CREATED:20200318T175821Z
LAST-MODIFIED:20200402T130723Z
UID:5063-1587839400-1587844800@livenewcanaan.org
SUMMARY:New Canaan Nature Center’s Sound of Spring Night Hike
DESCRIPTION:Saturday\, April 25th\n6:30pm – 8:00pm \nCome explore the magic of spring and Earth Week with us! We’ll visit the Nature Center’s vernal pools and ponds to listen for the peeps and croaks of frogs and other amphibians that let us know spring has fully arrived! We’ll also journey through the woods and into the meadows in search of some awesome invertebrates\, birds\, and bats. If we’re super lucky\, we might even get a chance to spot a critter or two! Join our Naturalists for this fun\, interactive and earth aware hike to learn why these species are so important to our local ecosystem. \nMembers: $10/person\nNon-Members: $15/person
URL:https://livenewcanaan.org/event/new-canaan-nature-centers-sound-of-spring-night-hike/
LOCATION:New Canaan Nature Center\, 144 Oenoke Ridge\, New Canaan\, CT\, United States
CATEGORIES:30 Days of Family,Family Friendly Events,New Canaan Nature Center Events
ATTACH;FMTTYPE=image/jpeg:https://livenewcanaan.org/wp-content/uploads/2020/03/sounds-of-spring-nh-2020.jpg
ORGANIZER;CN="New Canaan Nature Center":MAILTO:jrayher@newcanaannature.org
END:VEVENT
BEGIN:VEVENT
DTSTART;TZID=America/New_York:20200429T093000
DTEND;TZID=America/New_York:20200429T103000
DTSTAMP:20260424T053334
CREATED:20200318T175823Z
LAST-MODIFIED:20200428T155038Z
UID:5071-1588152600-1588156200@livenewcanaan.org
SUMMARY:Elementary: A Modern Day Approach to Feeding Your Family in 2020
DESCRIPTION:Speaker: Jill Castle\, Pediatric Dietitian\nIn this engaging presentation\, parents will learn tips on what to feed\, how to feed\, and ways to bring joy back to feeding your family! Topics will include meal planning\, healthy snacks\, food balance\, good role modeling and languaging around food.\nAmple time for Q&A.
URL:https://livenewcanaan.org/event/elementary-a-modern-day-approach-to-feeding-your-family-in-2020/
LOCATION:South School\, 8 Farm Road\, New Canaan\, CT\, 06840\, United States
CATEGORIES:30 Days of Family
ATTACH;FMTTYPE=image/jpeg:https://livenewcanaan.org/wp-content/uploads/2020/03/modern-day-food.jpg
ORGANIZER;CN="New Canaan CARES":MAILTO:CARESinfo@newcanaanCARES.org
END:VEVENT
END:VCALENDAR